BEGIN:VCALENDAR
VERSION:2.0
PRODID:-//TJ Sokol Geodézie Česká Třebová57035//NONSGML kigkonsult.se iCalcreator 2.41.80//
CALSCALE:GREGORIAN
UID:39626363-6336-4065-b035-386338376237
BEGIN:VEVENT
UID:64336161-3433-4231-b261-353962666666
DTSTAMP:20260422T205212Z
DESCRIPTION:1/1 Česká Třebová - Č. Třebová II 3:1 (-21\,20\,19\,13)
DTSTART;TZID=Europe/Berlin:20180922T100000
DTEND;TZID=Europe/Berlin:20180922T120000
LOCATION:Hala VDA Skalka
SUMMARY:1-JKY-D: Česká Třebová-Č. Třebová II
END:VEVENT
BEGIN:VEVENT
UID:35386362-3465-4834-a634-393833626231
DTSTAMP:20260422T205212Z
DESCRIPTION:2/4 Česká Třebová - Č. Třebová II 3:0 (16\,12\,17)
DTSTART;TZID=Europe/Berlin:20180922T140000
DTEND;TZID=Europe/Berlin:20180922T160000
LOCATION:Hala VDA Skalka
SUMMARY:1-JKY-D: Česká Třebová-Č. Třebová II
END:VEVENT
BEGIN:VEVENT
UID:65326236-3365-4335-a463-663531653464
DTSTAMP:20260422T205212Z
DESCRIPTION:3/9 Česká Třebová - N. Veselí 1:3 (-19\,-19\,16\,-12)
DTSTART;TZID=Europe/Berlin:20180929T120000
DTEND;TZID=Europe/Berlin:20180929T140000
LOCATION:Hala VDA Skalka
SUMMARY:1-JKY-D: Česká Třebová-N. Veselí
END:VEVENT
BEGIN:VEVENT
UID:33306333-3932-4530-b266-373731353365
DTSTAMP:20260422T205212Z
DESCRIPTION:4/12 Česká Třebová - N. Veselí 1:3 (24\,-18\,-22\,-19)
DTSTART;TZID=Europe/Berlin:20180929T160000
DTEND;TZID=Europe/Berlin:20180929T180000
LOCATION:Hala VDA Skalka
SUMMARY:1-JKY-D: Česká Třebová-N. Veselí
END:VEVENT
BEGIN:VEVENT
UID:36393065-3833-4830-b063-616135386665
DTSTAMP:20260422T205212Z
DESCRIPTION:7/20 Česká Třebová - Bedřichov 3:1 (18\,19\,-25\,19)
DTSTART;TZID=Europe/Berlin:20181027T120000
DTEND;TZID=Europe/Berlin:20181027T140000
LOCATION:Hala VDA Skalka
SUMMARY:1-JKY-D: Česká Třebová-Bedřichov
END:VEVENT
BEGIN:VEVENT
UID:38636365-6138-4338-b830-376632313331
DTSTAMP:20260422T205212Z
DESCRIPTION:8/23 Česká Třebová - Bedřichov 3:1 (19\,16\,-23\,15)
DTSTART;TZID=Europe/Berlin:20181027T160000
DTEND;TZID=Europe/Berlin:20181027T180000
LOCATION:Hala VDA Skalka
SUMMARY:1-JKY-D: Česká Třebová-Bedřichov
END:VEVENT
BEGIN:VEVENT
UID:35303439-3133-4735-b861-376139323134
DTSTAMP:20260422T205212Z
DESCRIPTION:15/44 Česká Třebová - Kavčí Hory 3:0 (10\,11\,21)
DTSTART;TZID=Europe/Berlin:20181208T110000
DTEND;TZID=Europe/Berlin:20181208T130000
LOCATION:Hala VDA Skalka
SUMMARY:1-JKY-D: Česká Třebová-Kavčí Hory
END:VEVENT
BEGIN:VEVENT
UID:63386461-3464-4735-a366-643131393164
DTSTAMP:20260422T205212Z
DESCRIPTION:16/47 Česká Třebová - Kavčí Hory 3:2 (-28\,22\,-21\,18\,11)
DTSTART;TZID=Europe/Berlin:20181208T150000
DTEND;TZID=Europe/Berlin:20181208T170000
LOCATION:Hala VDA Skalka
SUMMARY:1-JKY-D: Česká Třebová-Kavčí Hory
END:VEVENT
BEGIN:VEVENT
UID:62316132-6136-4361-a335-633762646366
DTSTAMP:20260422T205212Z
DESCRIPTION:19/57 Česká Třebová - Dansport 3:0 (12\,14\,15)\nNH2
DTSTART;TZID=Europe/Berlin:20190119T100000
DTEND;TZID=Europe/Berlin:20190119T120000
LOCATION:Hala VDA Skalka
SUMMARY:1-JKY-D: Česká Třebová-Dansport
END:VEVENT
BEGIN:VEVENT
UID:65343862-3534-4135-b139-343439333063
DTSTAMP:20260422T205212Z
DESCRIPTION:20/60 Česká Třebová - Dansport 3:0 (16\,19\,13)\nNH2
DTSTART;TZID=Europe/Berlin:20190119T130000
DTEND;TZID=Europe/Berlin:20190119T150000
LOCATION:Hala VDA Skalka
SUMMARY:1-JKY-D: Česká Třebová-Dansport
END:VEVENT
BEGIN:VEVENT
UID:37393038-6130-4136-a239-643438616136
DTSTAMP:20260422T205212Z
DESCRIPTION:5/14 Kavčí Hory - Česká Třebová 0:3 (-19\,-9\,-16)
DTSTART;TZID=Europe/Berlin:20181006T110000
DTEND;TZID=Europe/Berlin:20181006T130000
LOCATION:ZŠ Dolní Břežany
SUMMARY:1-JKY-D: Kavčí Hory-Česká Třebová
END:VEVENT
BEGIN:VEVENT
UID:30613233-6635-4663-a531-663332346364
DTSTAMP:20260422T205212Z
DESCRIPTION:6/17 Kavčí Hory - Česká Třebová 0:3 (-14\,-23\,-17)
DTSTART;TZID=Europe/Berlin:20181006T150000
DTEND;TZID=Europe/Berlin:20181006T170000
LOCATION:ZŠ Dolní Břežany
SUMMARY:1-JKY-D: Kavčí Hory-Česká Třebová
END:VEVENT
BEGIN:VEVENT
UID:37663937-3334-4262-a162-303435326162
DTSTAMP:20260422T205212Z
DESCRIPTION:9/27 Dansport - Česká Třebová 0:3 (-12\,-15\,-15)
DTSTART;TZID=Europe/Berlin:20181103T100000
DTEND;TZID=Europe/Berlin:20181103T120000
LOCATION:Sportovní hala Gymnázia Jana Keplera
SUMMARY:1-JKY-D: Dansport-Česká Třebová
END:VEVENT
BEGIN:VEVENT
UID:33313433-3234-4330-a635-313732323065
DTSTAMP:20260422T205212Z
DESCRIPTION:10/30 Dansport - Česká Třebová 0:3 (-10\,-22\,-16)
DTSTART;TZID=Europe/Berlin:20181103T140000
DTEND;TZID=Europe/Berlin:20181103T160000
LOCATION:Sportovní hala Gymnázia Jana Keplera
SUMMARY:1-JKY-D: Dansport-Česká Třebová
END:VEVENT
BEGIN:VEVENT
UID:39376561-3066-4436-b161-323561306131
DTSTAMP:20260422T205212Z
DESCRIPTION:11/31 Č. Třebová II - Česká Třebová 3:1 (23\,25\,-11\,20)
DTSTART;TZID=Europe/Berlin:20181110T090000
DTEND;TZID=Europe/Berlin:20181110T110000
LOCATION:ZŠ Nádražní
SUMMARY:1-JKY-D: Č. Třebová II-Česká Třebová
END:VEVENT
BEGIN:VEVENT
UID:64653262-6262-4466-a264-353637643738
DTSTAMP:20260422T205212Z
DESCRIPTION:12/34 Č. Třebová II - Česká Třebová 0:3 (-19\,-11\,-15)
DTSTART;TZID=Europe/Berlin:20181110T130000
DTEND;TZID=Europe/Berlin:20181110T150000
LOCATION:ZŠ Nádražní
SUMMARY:1-JKY-D: Č. Třebová II-Česká Třebová
END:VEVENT
BEGIN:VEVENT
UID:33333732-3535-4139-b862-363063386264
DTSTAMP:20260422T205212Z
DESCRIPTION:13/39 N. Veselí - Česká Třebová 3:1 (18\,17\,-23\,17)
DTSTART;TZID=Europe/Berlin:20181124T090000
DTEND;TZID=Europe/Berlin:20181124T110000
LOCATION:Víceúčelová sportovní hala Nové Veselí
SUMMARY:1-JKY-D: N. Veselí-Česká Třebová
END:VEVENT
BEGIN:VEVENT
UID:63623634-3762-4037-a537-653165396134
DTSTAMP:20260422T205212Z
DESCRIPTION:14/42 N. Veselí - Česká Třebová 3:0 (24\,6\,28)
DTSTART;TZID=Europe/Berlin:20181124T130000
DTEND;TZID=Europe/Berlin:20181124T150000
LOCATION:Víceúčelová sportovní hala Nové Veselí
SUMMARY:1-JKY-D: N. Veselí-Česká Třebová
END:VEVENT
BEGIN:VEVENT
UID:66633332-3266-4637-a138-656631633839
DTSTAMP:20260422T205212Z
DESCRIPTION:17/50 Bedřichov - Česká Třebová 3:1 (22\,-23\,19\,27)
DTSTART;TZID=Europe/Berlin:20181215T100000
DTEND;TZID=Europe/Berlin:20181215T120000
LOCATION:TJ Sokol Bedřichov\, Jihlava
SUMMARY:1-JKY-D: Bedřichov-Česká Třebová
END:VEVENT
BEGIN:VEVENT
UID:33366231-6464-4434-b431-666531353663
DTSTAMP:20260422T205212Z
DESCRIPTION:18/53 Bedřichov - Česká Třebová 1:3 (-21\,-17\,15\,-21)
DTSTART;TZID=Europe/Berlin:20181215T140000
DTEND;TZID=Europe/Berlin:20181215T160000
LOCATION:TJ Sokol Bedřichov\, Jihlava
SUMMARY:1-JKY-D: Bedřichov-Česká Třebová
END:VEVENT
BEGIN:VEVENT
UID:63336334-6462-4231-a265-376162666138
DTSTAMP:20260422T205212Z
DESCRIPTION:3/8 Česká Třebová - Střešovice 0:3 (-22\,-12\,-14)
DTSTART;TZID=Europe/Berlin:20190209T100000
DTEND;TZID=Europe/Berlin:20190209T120000
LOCATION:Hala VDA Skalka
SUMMARY:1-JKY-II: Česká Třebová-Střešovice
END:VEVENT
BEGIN:VEVENT
UID:33666332-6664-4636-b733-366437623165
DTSTAMP:20260422T205212Z
DESCRIPTION:4/11 Česká Třebová - Střešovice 0:3 (-20\,-13\,-24)
DTSTART;TZID=Europe/Berlin:20190209T140000
DTEND;TZID=Europe/Berlin:20190209T160000
LOCATION:Hala VDA Skalka
SUMMARY:1-JKY-II: Česká Třebová-Střešovice
END:VEVENT
BEGIN:VEVENT
UID:66663138-6635-4163-a433-333636346130
DTSTAMP:20260422T205212Z
DESCRIPTION:7/20 Česká Třebová - H. Králové 3:0 (19\,21\,15)
DTSTART;TZID=Europe/Berlin:20190302T100000
DTEND;TZID=Europe/Berlin:20190302T120000
LOCATION:Hala VDA Skalka
SUMMARY:1-JKY-II: Česká Třebová-H. Králové
END:VEVENT
BEGIN:VEVENT
UID:38666565-3739-4038-a462-323732366266
DTSTAMP:20260422T205212Z
DESCRIPTION:8/23 Česká Třebová - H. Králové 3:1 (-21\,18\,28\,23)
DTSTART;TZID=Europe/Berlin:20190302T140000
DTEND;TZID=Europe/Berlin:20190302T160000
LOCATION:Hala VDA Skalka
SUMMARY:1-JKY-II: Česká Třebová-H. Králové
END:VEVENT
BEGIN:VEVENT
UID:62623065-6461-4135-b961-343930663561
DTSTAMP:20260422T205212Z
DESCRIPTION:11/32 Česká Třebová - Trutnov 3:1 (14\,11\,-19\,15)\nNH
DTSTART;TZID=Europe/Berlin:20190324T100000
DTEND;TZID=Europe/Berlin:20190324T120000
LOCATION:Hala VDA Skalka
SUMMARY:1-JKY-II: Česká Třebová-Trutnov
END:VEVENT
BEGIN:VEVENT
UID:35656334-3334-4462-b932-666362356138
DTSTAMP:20260422T205212Z
DESCRIPTION:12/35 Česká Třebová - Trutnov 3:0 (17\,13\,14)\nNH
DTSTART;TZID=Europe/Berlin:20190324T140000
DTEND;TZID=Europe/Berlin:20190324T160000
LOCATION:Hala VDA Skalka
SUMMARY:1-JKY-II: Česká Třebová-Trutnov
END:VEVENT
BEGIN:VEVENT
UID:35393438-3633-4861-a133-336138383938
DTSTAMP:20260422T205212Z
DESCRIPTION:1/2 H. Králové - Česká Třebová 0:3 (-19\,-15\,-15)
DTSTART;TZID=Europe/Berlin:20190202T120000
DTEND;TZID=Europe/Berlin:20190202T140000
LOCATION:TJ Slavia Hradec Králové
SUMMARY:1-JKY-II: H. Králové-Česká Třebová
END:VEVENT
BEGIN:VEVENT
UID:35663130-6366-4666-a439-333232666239
DTSTAMP:20260422T205212Z
DESCRIPTION:2/5 H. Králové - Česká Třebová 1:3 (-23\,13\,-22\,-22)
DTSTART;TZID=Europe/Berlin:20190202T160000
DTEND;TZID=Europe/Berlin:20190202T180000
LOCATION:TJ Slavia Hradec Králové
SUMMARY:1-JKY-II: H. Králové-Česká Třebová
END:VEVENT
BEGIN:VEVENT
UID:63616634-6430-4636-b361-333030303437
DTSTAMP:20260422T205212Z
DESCRIPTION:5/15 Trutnov - Česká Třebová 2:3 (13\,17\,-16\,-16\,-11)
DTSTART;TZID=Europe/Berlin:20190223T100000
DTEND;TZID=Europe/Berlin:20190223T120000
LOCATION:Základní škola. Trutnov\, V Domcích 488
SUMMARY:1-JKY-II: Trutnov-Česká Třebová
END:VEVENT
BEGIN:VEVENT
UID:33623231-3465-4132-a337-626436366437
DTSTAMP:20260422T205212Z
DESCRIPTION:6/18 Trutnov - Česká Třebová 2:3 (-18\,13\,17\,-15\,-9)
DTSTART;TZID=Europe/Berlin:20190223T140000
DTEND;TZID=Europe/Berlin:20190223T160000
LOCATION:Základní škola. Trutnov\, V Domcích 488
SUMMARY:1-JKY-II: Trutnov-Česká Třebová
END:VEVENT
BEGIN:VEVENT
UID:63336166-3866-4564-b833-666434643466
DTSTAMP:20260422T205212Z
DESCRIPTION:9/25 Střešovice - Česká Třebová 3:0 (9\,16\,21)
DTSTART;TZID=Europe/Berlin:20190317T100000
DTEND;TZID=Europe/Berlin:20190317T120000
LOCATION:TJ Tatran Střešovice
SUMMARY:1-JKY-II: Střešovice-Česká Třebová
END:VEVENT
BEGIN:VEVENT
UID:64663466-6231-4666-b532-353661653339
DTSTAMP:20260422T205212Z
DESCRIPTION:10/28 Střešovice - Česká Třebová 3:0 (18\,22\,17)
DTSTART;TZID=Europe/Berlin:20190317T130000
DTEND;TZID=Europe/Berlin:20190317T150000
LOCATION:TJ Tatran Střešovice
SUMMARY:1-JKY-II: Střešovice-Česká Třebová
END:VEVENT
END:VCALENDAR
