BEGIN:VCALENDAR
VERSION:2.0
PRODID:-//TJ Sokol Česká Třebová II57040//NONSGML kigkonsult.se iCalcreator 2.41.80//
CALSCALE:GREGORIAN
UID:37623438-3762-4035-b138-366364653538
BEGIN:VEVENT
UID:38646239-6462-4638-a264-363662663331
DTSTAMP:20260423T233121Z
DESCRIPTION:3/7 Č. Třebová II - Bedřichov 3:2 (-18\,-22\,20\,22\,6)
DTSTART;TZID=Europe/Berlin:20180929T110000
DTEND;TZID=Europe/Berlin:20180929T130000
LOCATION:ZŠ Nádražní
SUMMARY:1-JKY-D: Č. Třebová II-Bedřichov
END:VEVENT
BEGIN:VEVENT
UID:33333961-3631-4631-b938-323337333232
DTSTAMP:20260423T233121Z
DESCRIPTION:4/10 Č. Třebová II - Bedřichov 1:3 (23\,-25\,-21\,-21)
DTSTART;TZID=Europe/Berlin:20180929T150000
DTEND;TZID=Europe/Berlin:20180929T170000
LOCATION:ZŠ Nádražní
SUMMARY:1-JKY-D: Č. Třebová II-Bedřichov
END:VEVENT
BEGIN:VEVENT
UID:63303834-6163-4031-a235-386434396263
DTSTAMP:20260423T233121Z
DESCRIPTION:7/19 Č. Třebová II - Dansport 3:0 (17\,12\,23)
DTSTART;TZID=Europe/Berlin:20181027T110000
DTEND;TZID=Europe/Berlin:20181027T130000
LOCATION:ZŠ Nádražní
SUMMARY:1-JKY-D: Č. Třebová II-Dansport
END:VEVENT
BEGIN:VEVENT
UID:38303031-3838-4837-b134-643535663065
DTSTAMP:20260423T233121Z
DESCRIPTION:8/22 Č. Třebová II - Dansport 3:0 (16\,21\,19)
DTSTART;TZID=Europe/Berlin:20181027T150000
DTEND;TZID=Europe/Berlin:20181027T170000
LOCATION:ZŠ Nádražní
SUMMARY:1-JKY-D: Č. Třebová II-Dansport
END:VEVENT
BEGIN:VEVENT
UID:31343433-3431-4239-b331-623833353037
DTSTAMP:20260423T233121Z
DESCRIPTION:11/31 Č. Třebová II - Česká Třebová 3:1 (23\,25\,-11\,20)
DTSTART;TZID=Europe/Berlin:20181110T090000
DTEND;TZID=Europe/Berlin:20181110T110000
LOCATION:ZŠ Nádražní
SUMMARY:1-JKY-D: Č. Třebová II-Česká Třebová
END:VEVENT
BEGIN:VEVENT
UID:31346431-3762-4335-a531-343733306439
DTSTAMP:20260423T233121Z
DESCRIPTION:12/34 Č. Třebová II - Česká Třebová 0:3 (-19\,-11\,-15)
DTSTART;TZID=Europe/Berlin:20181110T130000
DTEND;TZID=Europe/Berlin:20181110T150000
LOCATION:ZŠ Nádražní
SUMMARY:1-JKY-D: Č. Třebová II-Česká Třebová
END:VEVENT
BEGIN:VEVENT
UID:35306334-3739-4330-a265-303938393166
DTSTAMP:20260423T233121Z
DESCRIPTION:15/43 Č. Třebová II - N. Veselí 0:3 (-20\,-13\,-20)
DTSTART;TZID=Europe/Berlin:20181208T100000
DTEND;TZID=Europe/Berlin:20181208T120000
LOCATION:ZŠ Nádražní
SUMMARY:1-JKY-D: Č. Třebová II-N. Veselí
END:VEVENT
BEGIN:VEVENT
UID:65373837-3837-4265-b465-386532353135
DTSTAMP:20260423T233121Z
DESCRIPTION:16/46 Č. Třebová II - N. Veselí 2:3 (-24\,22\,-11\,18\,-9)
DTSTART;TZID=Europe/Berlin:20181208T140000
DTEND;TZID=Europe/Berlin:20181208T160000
LOCATION:ZŠ Nádražní
SUMMARY:1-JKY-D: Č. Třebová II-N. Veselí
END:VEVENT
BEGIN:VEVENT
UID:64333035-3832-4536-b861-373532386564
DTSTAMP:20260423T233121Z
DESCRIPTION:19/55 Č. Třebová II - Kavčí Hory 3:0 (8\,16\,19)\nNH2
DTSTART;TZID=Europe/Berlin:20190119T110000
DTEND;TZID=Europe/Berlin:20190119T130000
LOCATION:ZŠ Nádražní
SUMMARY:1-JKY-D: Č. Třebová II-Kavčí Hory
END:VEVENT
BEGIN:VEVENT
UID:32313937-3964-4565-a132-303535643836
DTSTAMP:20260423T233121Z
DESCRIPTION:20/58 Č. Třebová II - Kavčí Hory 3:1 (14\,20\,-19\,15)\nNH2
DTSTART;TZID=Europe/Berlin:20190119T150000
DTEND;TZID=Europe/Berlin:20190119T170000
LOCATION:ZŠ Nádražní
SUMMARY:1-JKY-D: Č. Třebová II-Kavčí Hory
END:VEVENT
BEGIN:VEVENT
UID:61623532-6233-4139-a165-623563633062
DTSTAMP:20260423T233121Z
DESCRIPTION:1/1 Česká Třebová - Č. Třebová II 3:1 (-21\,20\,19\,13)
DTSTART;TZID=Europe/Berlin:20180922T100000
DTEND;TZID=Europe/Berlin:20180922T120000
LOCATION:Hala VDA Skalka
SUMMARY:1-JKY-D: Česká Třebová-Č. Třebová II
END:VEVENT
BEGIN:VEVENT
UID:30656438-3432-4639-b030-653835363330
DTSTAMP:20260423T233121Z
DESCRIPTION:2/4 Česká Třebová - Č. Třebová II 3:0 (16\,12\,17)
DTSTART;TZID=Europe/Berlin:20180922T140000
DTEND;TZID=Europe/Berlin:20180922T160000
LOCATION:Hala VDA Skalka
SUMMARY:1-JKY-D: Česká Třebová-Č. Třebová II
END:VEVENT
BEGIN:VEVENT
UID:38393737-3562-4331-b731-663065333334
DTSTAMP:20260423T233121Z
DESCRIPTION:5/13 N. Veselí - Č. Třebová II 3:1 (18\,19\,-15\,20)
DTSTART;TZID=Europe/Berlin:20181006T110000
DTEND;TZID=Europe/Berlin:20181006T130000
LOCATION:Víceúčelová sportovní hala Nové Veselí
SUMMARY:1-JKY-D: N. Veselí-Č. Třebová II
END:VEVENT
BEGIN:VEVENT
UID:39656262-6362-4262-b464-343861333232
DTSTAMP:20260423T233121Z
DESCRIPTION:6/16 N. Veselí - Č. Třebová II 3:1 (14\,21\,-18\,11)
DTSTART;TZID=Europe/Berlin:20181006T150000
DTEND;TZID=Europe/Berlin:20181006T170000
LOCATION:Víceúčelová sportovní hala Nové Veselí
SUMMARY:1-JKY-D: N. Veselí-Č. Třebová II
END:VEVENT
BEGIN:VEVENT
UID:34306637-6261-4339-b961-313539323432
DTSTAMP:20260423T233121Z
DESCRIPTION:9/25 Kavčí Hory - Č. Třebová II 0:3 (-22\,-23\,-22)
DTSTART;TZID=Europe/Berlin:20181104T100000
DTEND;TZID=Europe/Berlin:20181104T120000
LOCATION:ZŠ Dolní Břežany
SUMMARY:1-JKY-D: Kavčí Hory-Č. Třebová II
END:VEVENT
BEGIN:VEVENT
UID:36373932-6431-4137-a339-336632636635
DTSTAMP:20260423T233121Z
DESCRIPTION:10/28 Kavčí Hory - Č. Třebová II 0:3 (-19\,-14\,-15)
DTSTART;TZID=Europe/Berlin:20181104T140000
DTEND;TZID=Europe/Berlin:20181104T160000
LOCATION:ZŠ Dolní Břežany
SUMMARY:1-JKY-D: Kavčí Hory-Č. Třebová II
END:VEVENT
BEGIN:VEVENT
UID:62636335-3339-4939-b332-653431643236
DTSTAMP:20260423T233121Z
DESCRIPTION:13/37 Bedřichov - Č. Třebová II 1:3 (-16\,13\,-19\,-20)
DTSTART;TZID=Europe/Berlin:20181201T110000
DTEND;TZID=Europe/Berlin:20181201T130000
LOCATION:TJ Sokol Bedřichov\, Jihlava
SUMMARY:1-JKY-D: Bedřichov-Č. Třebová II
END:VEVENT
BEGIN:VEVENT
UID:31323666-6637-4631-a339-313363613233
DTSTAMP:20260423T233121Z
DESCRIPTION:14/40 Bedřichov - Č. Třebová II 0:3 (-19\,-25\,-15)
DTSTART;TZID=Europe/Berlin:20181201T150000
DTEND;TZID=Europe/Berlin:20181201T170000
LOCATION:TJ Sokol Bedřichov\, Jihlava
SUMMARY:1-JKY-D: Bedřichov-Č. Třebová II
END:VEVENT
BEGIN:VEVENT
UID:64346437-6436-4630-b231-323639636237
DTSTAMP:20260423T233121Z
DESCRIPTION:17/49 Dansport - Č. Třebová II 0:3 (-19\,-15\,-20)
DTSTART;TZID=Europe/Berlin:20190112T110000
DTEND;TZID=Europe/Berlin:20190112T130000
LOCATION:Sportovní hala Gymnázia Jana Keplera
SUMMARY:1-JKY-D: Dansport-Č. Třebová II
END:VEVENT
BEGIN:VEVENT
UID:31333664-6631-4666-b335-643534366437
DTSTAMP:20260423T233121Z
DESCRIPTION:18/52 Dansport - Č. Třebová II 0:3 (-17\,-18\,-12)
DTSTART;TZID=Europe/Berlin:20190112T150000
DTEND;TZID=Europe/Berlin:20190112T170000
LOCATION:Sportovní hala Gymnázia Jana Keplera
SUMMARY:1-JKY-D: Dansport-Č. Třebová II
END:VEVENT
BEGIN:VEVENT
UID:64636137-3263-4239-a339-656131353961
DTSTAMP:20260423T233121Z
DESCRIPTION:7/21 Č. Třebová II - Střešovice 0:3 (-21\,-15\,-20)
DTSTART;TZID=Europe/Berlin:20190303T110000
DTEND;TZID=Europe/Berlin:20190303T130000
LOCATION:ZŠ Nádražní
SUMMARY:1-JKY-II: Č. Třebová II-Střešovice
END:VEVENT
BEGIN:VEVENT
UID:65353230-3438-4663-b364-316638393034
DTSTAMP:20260423T233121Z
DESCRIPTION:8/24 Č. Třebová II - Střešovice 0:3 (-13\,-18\,-10)
DTSTART;TZID=Europe/Berlin:20190303T150000
DTEND;TZID=Europe/Berlin:20190303T170000
LOCATION:ZŠ Nádražní
SUMMARY:1-JKY-II: Č. Třebová II-Střešovice
END:VEVENT
BEGIN:VEVENT
UID:37353837-3766-4332-b162-636263383064
DTSTAMP:20260423T233121Z
DESCRIPTION:9/27 Č. Třebová II - Trutnov 0:3 (-21\,-16\,-22)
DTSTART;TZID=Europe/Berlin:20190317T110000
DTEND;TZID=Europe/Berlin:20190317T130000
LOCATION:ZŠ Nádražní
SUMMARY:1-JKY-II: Č. Třebová II-Trutnov
END:VEVENT
BEGIN:VEVENT
UID:39613832-3466-4031-a532-383935346437
DTSTAMP:20260423T233121Z
DESCRIPTION:10/30 Č. Třebová II - Trutnov 0:3 (-17\,-17\,-11)
DTSTART;TZID=Europe/Berlin:20190317T150000
DTEND;TZID=Europe/Berlin:20190317T170000
LOCATION:ZŠ Nádražní
SUMMARY:1-JKY-II: Č. Třebová II-Trutnov
END:VEVENT
BEGIN:VEVENT
UID:65643839-3032-4930-b133-326236336535
DTSTAMP:20260423T233121Z
DESCRIPTION:11/33 Č. Třebová II - H. Králové 0:3 (-12\,-11\,-16)\nNH2
DTSTART;TZID=Europe/Berlin:20190324T100000
DTEND;TZID=Europe/Berlin:20190324T120000
LOCATION:ZŠ Nádražní
SUMMARY:1-JKY-II: Č. Třebová II-H. Králové
END:VEVENT
BEGIN:VEVENT
UID:61613530-6132-4539-a537-653831363663
DTSTAMP:20260423T233121Z
DESCRIPTION:12/36 Č. Třebová II - H. Králové 0:3 (-13\,-12\,-14)\nNH2
DTSTART;TZID=Europe/Berlin:20190324T140000
DTEND;TZID=Europe/Berlin:20190324T160000
LOCATION:ZŠ Nádražní
SUMMARY:1-JKY-II: Č. Třebová II-H. Králové
END:VEVENT
BEGIN:VEVENT
UID:37393634-6537-4566-b866-636139636665
DTSTAMP:20260423T233121Z
DESCRIPTION:1/1 Střešovice - Č. Třebová II 3:0 (13\,10\,13)
DTSTART;TZID=Europe/Berlin:20190202T100000
DTEND;TZID=Europe/Berlin:20190202T120000
LOCATION:TJ Tatran Střešovice
SUMMARY:1-JKY-II: Střešovice-Č. Třebová II
END:VEVENT
BEGIN:VEVENT
UID:36346461-6464-4734-a237-343366643364
DTSTAMP:20260423T233121Z
DESCRIPTION:2/4 Střešovice - Č. Třebová II 3:0 (16\,12\,8)
DTSTART;TZID=Europe/Berlin:20190202T130000
DTEND;TZID=Europe/Berlin:20190202T150000
LOCATION:TJ Tatran Střešovice
SUMMARY:1-JKY-II: Střešovice-Č. Třebová II
END:VEVENT
BEGIN:VEVENT
UID:36306466-3230-4662-b535-666436313333
DTSTAMP:20260423T233121Z
DESCRIPTION:3/9 Trutnov - Č. Třebová II 3:0 (6\,8\,16)
DTSTART;TZID=Europe/Berlin:20190209T100000
DTEND;TZID=Europe/Berlin:20190209T120000
LOCATION:Základní škola. Trutnov\, V Domcích 488
SUMMARY:1-JKY-II: Trutnov-Č. Třebová II
END:VEVENT
BEGIN:VEVENT
UID:33306131-3337-4130-a363-306266336335
DTSTAMP:20260423T233121Z
DESCRIPTION:4/12 Trutnov - Č. Třebová II 3:0 (15\,14\,18)
DTSTART;TZID=Europe/Berlin:20190209T140000
DTEND;TZID=Europe/Berlin:20190209T160000
LOCATION:Základní škola. Trutnov\, V Domcích 488
SUMMARY:1-JKY-II: Trutnov-Č. Třebová II
END:VEVENT
BEGIN:VEVENT
UID:33373534-3838-4566-a134-353064356138
DTSTAMP:20260423T233121Z
DESCRIPTION:5/14 H. Králové - Č. Třebová II 3:1 (13\,-23\,15\,7)\nNH
DTSTART;TZID=Europe/Berlin:20190217T100000
DTEND;TZID=Europe/Berlin:20190217T120000
LOCATION:TJ Slavia Hradec Králové
SUMMARY:1-JKY-II: H. Králové-Č. Třebová II
END:VEVENT
BEGIN:VEVENT
UID:34393565-6561-4539-b866-643831353766
DTSTAMP:20260423T233121Z
DESCRIPTION:6/17 H. Králové - Č. Třebová II 3:0 (12\,12\,12)\nNH
DTSTART;TZID=Europe/Berlin:20190217T140000
DTEND;TZID=Europe/Berlin:20190217T160000
LOCATION:TJ Slavia Hradec Králové
SUMMARY:1-JKY-II: H. Králové-Č. Třebová II
END:VEVENT
END:VCALENDAR
