BEGIN:VCALENDAR
VERSION:2.0
PRODID:-//Volejbalový klub Dvůr Králové nad Labem, z.s.57407//NONSGML kigkonsult.se iCalcreator 2.41.80//
CALSCALE:GREGORIAN
UID:31333633-3938-4164-b732-633233653765
BEGIN:VEVENT
UID:30383834-3461-4365-a564-303239353735
DTSTAMP:20260421T090653Z
DESCRIPTION:3/7 Dvůr Králové - Hronov 3:0 (21\,21\,20)
DTSTART;TZID=Europe/Berlin:20180928T100000
DTEND;TZID=Europe/Berlin:20180928T120000
LOCATION:ZŠ Strž
SUMMARY:HK-KTI: Dvůr Králové-Hronov
END:VEVENT
BEGIN:VEVENT
UID:32623436-3731-4534-b037-353231646538
DTSTAMP:20260421T090653Z
DESCRIPTION:4/10 Dvůr Králové - Hronov 3:0 (23\,21\,23)
DTSTART;TZID=Europe/Berlin:20180928T130000
DTEND;TZID=Europe/Berlin:20180928T150000
LOCATION:ZŠ Strž
SUMMARY:HK-KTI: Dvůr Králové-Hronov
END:VEVENT
BEGIN:VEVENT
UID:63663630-3432-4366-b330-666562383435
DTSTAMP:20260421T090653Z
DESCRIPTION:5/14 Dvůr Králové - Slavia HK 1:3 (-22\,-21\,14\,-20)
DTSTART;TZID=Europe/Berlin:20181027T100000
DTEND;TZID=Europe/Berlin:20181027T120000
LOCATION:ZŠ Strž
SUMMARY:HK-KTI: Dvůr Králové-Slavia HK
END:VEVENT
BEGIN:VEVENT
UID:38326232-6465-4534-b764-366661373937
DTSTAMP:20260421T090653Z
DESCRIPTION:6/17 Dvůr Králové - Slavia HK 3:1 (14\,16\,-22\,23)
DTSTART;TZID=Europe/Berlin:20181027T130000
DTEND;TZID=Europe/Berlin:20181027T150000
LOCATION:ZŠ Strž
SUMMARY:HK-KTI: Dvůr Králové-Slavia HK
END:VEVENT
BEGIN:VEVENT
UID:61643065-3365-4237-a432-356437366331
DTSTAMP:20260421T090653Z
DESCRIPTION:7/21 Dvůr Králové - Svitavy 1:3 (15\,-17\,-22\,-18)
DTSTART;TZID=Europe/Berlin:20181103T100000
DTEND;TZID=Europe/Berlin:20181103T120000
LOCATION:ZŠ Strž
SUMMARY:HK-KTI: Dvůr Králové-Svitavy
END:VEVENT
BEGIN:VEVENT
UID:32373865-6437-4435-b130-653666363230
DTSTAMP:20260421T090653Z
DESCRIPTION:8/24 Dvůr Králové - Svitavy 0:3 (-17\,-20\,-20)
DTSTART;TZID=Europe/Berlin:20181103T130000
DTEND;TZID=Europe/Berlin:20181103T150000
LOCATION:ZŠ Strž
SUMMARY:HK-KTI: Dvůr Králové-Svitavy
END:VEVENT
BEGIN:VEVENT
UID:31306133-6361-4162-b832-613431656637
DTSTAMP:20260421T090653Z
DESCRIPTION:1/2 Sport Rychnov - Dvůr Králové 3:0 (22\,16\,17)
DTSTART;TZID=Europe/Berlin:20180929T100000
DTEND;TZID=Europe/Berlin:20180929T120000
LOCATION:Hala VOŠ a SPŠ
SUMMARY:HK-KTI: Sport Rychnov-Dvůr Králové
END:VEVENT
BEGIN:VEVENT
UID:38373638-3761-4231-b237-636162356234
DTSTAMP:20260421T090653Z
DESCRIPTION:2/5 Sport Rychnov - Dvůr Králové 3:0 (14\,29\,20)
DTSTART;TZID=Europe/Berlin:20180929T130000
DTEND;TZID=Europe/Berlin:20180929T150000
LOCATION:Hala VOŠ a SPŠ
SUMMARY:HK-KTI: Sport Rychnov-Dvůr Králové
END:VEVENT
BEGIN:VEVENT
UID:32326134-6435-4565-b536-313233666661
DTSTAMP:20260421T090653Z
DESCRIPTION:9/27 Lanškroun - Dvůr Králové 3:0 (12\,16\,14)
DTSTART;TZID=Europe/Berlin:20181201T100000
DTEND;TZID=Europe/Berlin:20181201T120000
LOCATION:SH SOŠ a SOU Lanškroun
SUMMARY:HK-KTI: Lanškroun-Dvůr Králové
END:VEVENT
BEGIN:VEVENT
UID:66343161-3932-4166-b631-353435643261
DTSTAMP:20260421T090653Z
DESCRIPTION:10/30 Lanškroun - Dvůr Králové 3:0 (12\,23\,11)
DTSTART;TZID=Europe/Berlin:20181201T130000
DTEND;TZID=Europe/Berlin:20181201T150000
LOCATION:SH SOŠ a SOU Lanškroun
SUMMARY:HK-KTI: Lanškroun-Dvůr Králové
END:VEVENT
END:VCALENDAR
