BEGIN:VCALENDAR
VERSION:2.0
PRODID:-//Volleyball Nymburk57914//NONSGML kigkonsult.se iCalcreator 2.41.80//
CALSCALE:GREGORIAN
UID:65393762-3133-4839-b162-626434346163
BEGIN:VEVENT
UID:37333963-3864-4733-a361-316363393632
DTSTAMP:20260423T094117Z
DESCRIPTION:1/12 Nymburk - Prosek 0:2 (-8\,-9)
DTSTART;TZID=Europe/Berlin:20180923T100000
DTEND;TZID=Europe/Berlin:20180923T120000
LOCATION:Zimní stadion Nymburk
SUMMARY:ST-ZCIM: Nymburk-Prosek
END:VEVENT
BEGIN:VEVENT
UID:37313063-3431-4336-b637-623035303935
DTSTAMP:20260423T094117Z
DESCRIPTION:2/13 Nymburk - Kolín 1:2 (19\,-13\,-10)\nPořadatel: Volleyball 
 Nymburk
DTSTART;TZID=Europe/Berlin:20181007T100000
DTEND;TZID=Europe/Berlin:20181007T120000
LOCATION:Zimní stadion Nymburk
SUMMARY:ST-ZCIM: Nymburk-Kolín
END:VEVENT
BEGIN:VEVENT
UID:33616131-6339-4863-a138-333737643238
DTSTAMP:20260423T094117Z
DESCRIPTION:2/16 Nymburk - Příbram 0:2 (-8\,-23)
DTSTART;TZID=Europe/Berlin:20181007T100000
DTEND;TZID=Europe/Berlin:20181007T120000
LOCATION:Zimní stadion Nymburk
SUMMARY:ST-ZCIM: Nymburk-Příbram
END:VEVENT
BEGIN:VEVENT
UID:33343439-3933-4761-b036-326564313438
DTSTAMP:20260423T094117Z
DESCRIPTION:3/27 Nymburk - Odolena Voda B 2:0 (20\,15)
DTSTART;TZID=Europe/Berlin:20181104T100000
DTEND;TZID=Europe/Berlin:20181104T120000
LOCATION:Zimní stadion Nymburk
SUMMARY:ST-ZCIM: Nymburk-Odolena Voda B
END:VEVENT
BEGIN:VEVENT
UID:37373864-6135-4533-b037-616337663365
DTSTAMP:20260423T094117Z
DESCRIPTION:4/48 Nymburk - Kralupy 2:0 (21\,13)
DTSTART;TZID=Europe/Berlin:20181209T100000
DTEND;TZID=Europe/Berlin:20181209T120000
LOCATION:Zimní stadion Nymburk
SUMMARY:ST-ZCIM: Nymburk-Kralupy
END:VEVENT
BEGIN:VEVENT
UID:32323636-3962-4266-b261-656439336364
DTSTAMP:20260423T094117Z
DESCRIPTION:5/55 Nymburk - Prosek 0:2 (-8\,-12)\nPořadatel: Volleyball Nymb
 urk
DTSTART;TZID=Europe/Berlin:20190106T100000
DTEND;TZID=Europe/Berlin:20190106T120000
LOCATION:Zimní stadion Nymburk
SUMMARY:ST-ZCIM: Nymburk-Prosek
END:VEVENT
BEGIN:VEVENT
UID:61386337-6666-4637-a563-396633373830
DTSTAMP:20260423T094117Z
DESCRIPTION:5/58 Nymburk - Kladno 0:2 (-12\,-13)
DTSTART;TZID=Europe/Berlin:20190106T100000
DTEND;TZID=Europe/Berlin:20190106T120000
LOCATION:Zimní stadion Nymburk
SUMMARY:ST-ZCIM: Nymburk-Kladno
END:VEVENT
BEGIN:VEVENT
UID:33306166-3336-4530-b237-636466383934
DTSTAMP:20260423T094117Z
DESCRIPTION:6/63 Nymburk - Prosek 0:2 (-19\,-14)
DTSTART;TZID=Europe/Berlin:20190210T100000
DTEND;TZID=Europe/Berlin:20190210T120000
LOCATION:Zimní stadion Nymburk
SUMMARY:ST-ZCIM: Nymburk-Prosek
END:VEVENT
BEGIN:VEVENT
UID:62303339-6562-4536-b534-326435376466
DTSTAMP:20260423T094117Z
DESCRIPTION:7/80 Nymburk - Kladno 0:2 (-17\,-14)\nPořadatel: AERO Odolena V
 oda A
DTSTART;TZID=Europe/Berlin:20190407T090000
DTEND;TZID=Europe/Berlin:20190407T110000
LOCATION:Zimní stadion Nymburk
SUMMARY:ST-ZCIM: Nymburk-Kladno
END:VEVENT
BEGIN:VEVENT
UID:39383838-3164-4264-b562-646534363437
DTSTAMP:20260423T094117Z
DESCRIPTION:7/83 Nymburk - Odolena Voda B 2:0 (9\,20)
DTSTART;TZID=Europe/Berlin:20190407T090000
DTEND;TZID=Europe/Berlin:20190407T110000
LOCATION:Zimní stadion Nymburk
SUMMARY:ST-ZCIM: Nymburk-Odolena Voda B
END:VEVENT
BEGIN:VEVENT
UID:39373333-3863-4439-b035-643661313832
DTSTAMP:20260423T094117Z
DESCRIPTION:1/8 Příbram - Nymburk 2:0 (6\,11)\nPořadatel: 2 hřiště
DTSTART;TZID=Europe/Berlin:20180923T100000
DTEND;TZID=Europe/Berlin:20180923T120000
LOCATION:Zš Pod Svatou Horou
SUMMARY:ST-ZCIM: Příbram-Nymburk
END:VEVENT
BEGIN:VEVENT
UID:63363236-6433-4034-b935-383738623934
DTSTAMP:20260423T094117Z
DESCRIPTION:1/9 Odolena Voda B - Nymburk 0:2 (-12\,-13)
DTSTART;TZID=Europe/Berlin:20180923T100000
DTEND;TZID=Europe/Berlin:20180923T120000
LOCATION:Sportovní hala Odolena Voda
SUMMARY:ST-ZCIM: Odolena Voda B-Nymburk
END:VEVENT
BEGIN:VEVENT
UID:32363562-3035-4462-b036-323034383161
DTSTAMP:20260423T094117Z
DESCRIPTION:2/18 Kladno - Nymburk 2:0 (13\,10)
DTSTART;TZID=Europe/Berlin:20181007T100000
DTEND;TZID=Europe/Berlin:20181007T120000
LOCATION:Kladenská sportovní hala
SUMMARY:ST-ZCIM: Kladno-Nymburk
END:VEVENT
BEGIN:VEVENT
UID:32333961-6339-4938-b730-363061393664
DTSTAMP:20260423T094117Z
DESCRIPTION:3/25 Kolín - Nymburk 2:0 (14\,16)\nPořadatel: SK Volejbal Kolín
DTSTART;TZID=Europe/Berlin:20181104T100000
DTEND;TZID=Europe/Berlin:20181104T120000
LOCATION:U chaty\, Borky\, Brankovická
SUMMARY:ST-ZCIM: Kolín-Nymburk
END:VEVENT
BEGIN:VEVENT
UID:35383662-3666-4362-a530-663335326637
DTSTAMP:20260423T094117Z
DESCRIPTION:3/29 Kralupy - Nymburk 0:2 (-14\,-20)
DTSTART;TZID=Europe/Berlin:20181104T100000
DTEND;TZID=Europe/Berlin:20181104T120000
LOCATION:ZŠ Generála Klapálka/areál Sokoliště
SUMMARY:ST-ZCIM: Kralupy-Nymburk
END:VEVENT
BEGIN:VEVENT
UID:62623731-3239-4263-b836-393539333938
DTSTAMP:20260423T094117Z
DESCRIPTION:4/44 Příbram - Nymburk 2:0 (19\,14)\nPořadatel: 2 hřiště
DTSTART;TZID=Europe/Berlin:20181209T100000
DTEND;TZID=Europe/Berlin:20181209T120000
LOCATION:Zš Pod Svatou Horou
SUMMARY:ST-ZCIM: Příbram-Nymburk
END:VEVENT
BEGIN:VEVENT
UID:61313864-3239-4664-b361-636339363436
DTSTAMP:20260423T094117Z
DESCRIPTION:4/45 Odolena Voda A - Nymburk 2:0 (16\,19)
DTSTART;TZID=Europe/Berlin:20181209T100000
DTEND;TZID=Europe/Berlin:20181209T120000
LOCATION:Sportovní hala Odolena Voda
SUMMARY:ST-ZCIM: Odolena Voda A-Nymburk
END:VEVENT
BEGIN:VEVENT
UID:62343033-6466-4437-b663-343337663636
DTSTAMP:20260423T094117Z
DESCRIPTION:5/60 Kralupy - Nymburk 2:0 (19\,21)
DTSTART;TZID=Europe/Berlin:20190106T100000
DTEND;TZID=Europe/Berlin:20190106T120000
LOCATION:ZŠ Generála Klapálka/areál Sokoliště
SUMMARY:ST-ZCIM: Kralupy-Nymburk
END:VEVENT
BEGIN:VEVENT
UID:38353939-6163-4863-b865-353336646666
DTSTAMP:20260423T094117Z
DESCRIPTION:6/61 Kolín - Nymburk 2:0 (19\,18)\nPořadatel: SK Volejbal Kolín
DTSTART;TZID=Europe/Berlin:20190210T100000
DTEND;TZID=Europe/Berlin:20190210T120000
LOCATION:U chaty\, Borky\, Brankovická
SUMMARY:ST-ZCIM: Kolín-Nymburk
END:VEVENT
BEGIN:VEVENT
UID:33623563-6331-4238-b132-656231656132
DTSTAMP:20260423T094117Z
DESCRIPTION:6/65 Odolena Voda A - Nymburk 2:0 (11\,14)
DTSTART;TZID=Europe/Berlin:20190210T100000
DTEND;TZID=Europe/Berlin:20190210T120000
LOCATION:Sportovní hala Odolena Voda
SUMMARY:ST-ZCIM: Odolena Voda A-Nymburk
END:VEVENT
BEGIN:VEVENT
UID:34306238-3963-4134-b465-343930623131
DTSTAMP:20260423T094117Z
DESCRIPTION:7/82 Odolena Voda A - Nymburk 2:0 (14\,11)
DTSTART;TZID=Europe/Berlin:20190407T090000
DTEND;TZID=Europe/Berlin:20190407T110000
LOCATION:Sportovní hala Odolena Voda
SUMMARY:ST-ZCIM: Odolena Voda A-Nymburk
END:VEVENT
BEGIN:VEVENT
UID:37663964-3366-4039-b838-353866386234
DTSTAMP:20260423T094117Z
DESCRIPTION:1/22 Nymburk - Odolena Voda D 2:0 (18\,23)
DTSTART;TZID=Europe/Berlin:20181014T090000
DTEND;TZID=Europe/Berlin:20181014T110000
LOCATION:Zimní stadion Nymburk
SUMMARY:ST-ZCIM-S41P3: Nymburk-Odolena Voda D
END:VEVENT
END:VCALENDAR
