BEGIN:VCALENDAR
VERSION:2.0
PRODID:-//VK Benátky nad Jizerou A57922//NONSGML kigkonsult.se iCalcreator 2.41.80//
CALSCALE:GREGORIAN
UID:35353461-6631-4963-b636-353365343133
BEGIN:VEVENT
UID:35306463-3435-4333-a161-396264643538
DTSTAMP:20260422T213411Z
DESCRIPTION:1/2 Benátky nad Jizerou A - Odolena Voda C 2:0 (13\,13)
DTSTART;TZID=Europe/Berlin:20181014T090000
DTEND;TZID=Europe/Berlin:20181014T110000
LOCATION:Nibe arena - městská sportovní hala
SUMMARY:ST-ZCIM-S41B: Benátky nad Jizerou A-Odolena Voda C
END:VEVENT
BEGIN:VEVENT
UID:66346638-6266-4634-b437-376332373965
DTSTAMP:20260422T213411Z
DESCRIPTION:1/10 Kladno A - Benátky nad Jizerou A 0:2 (-22\,-17)
DTSTART;TZID=Europe/Berlin:20181014T090000
DTEND;TZID=Europe/Berlin:20181014T110000
LOCATION:Kladenská sportovní hala
SUMMARY:ST-ZCIM-S41B: Kladno A-Benátky nad Jizerou A
END:VEVENT
BEGIN:VEVENT
UID:62643561-3761-4434-a263-343837643634
DTSTAMP:20260422T213411Z
DESCRIPTION:1/20 Odolena Voda A - Benátky nad Jizerou A 2:1 (15\,-16\,8)
DTSTART;TZID=Europe/Berlin:20181014T090000
DTEND;TZID=Europe/Berlin:20181014T110000
LOCATION:Sportovní hala Odolena Voda
SUMMARY:ST-ZCIM-S41P2: Odolena Voda A-Benátky nad Jizerou A
END:VEVENT
BEGIN:VEVENT
UID:31633337-6635-4063-a438-393037396264
DTSTAMP:20260422T213411Z
DESCRIPTION:1/24 Benátky nad Jizerou B - Benátky nad Jizerou A 0:2 (-17\,-2
 4)
DTSTART;TZID=Europe/Berlin:20181014T090000
DTEND;TZID=Europe/Berlin:20181014T110000
LOCATION:Nibe arena - městská sportovní hala
SUMMARY:ST-ZCIM-S41P3: Benátky nad Jizerou B-Benátky nad Jizerou A
END:VEVENT
BEGIN:VEVENT
UID:39323836-3166-4366-b930-393161333137
DTSTAMP:20260422T213411Z
DESCRIPTION:1/30 Kladno A - Benátky nad Jizerou A 2:0 (19\,27)
DTSTART;TZID=Europe/Berlin:20181014T090000
DTEND;TZID=Europe/Berlin:20181014T110000
LOCATION:Kladenská sportovní hala
SUMMARY:ST-ZCIM-S41P4: Kladno A-Benátky nad Jizerou A
END:VEVENT
BEGIN:VEVENT
UID:39663634-3562-4566-b433-333337316430
DTSTAMP:20260422T213411Z
DESCRIPTION:1/4 Benátky nad Jizerou A - Odolena Voda D 2:0 (13\,9)
DTSTART;TZID=Europe/Berlin:20181111T090000
DTEND;TZID=Europe/Berlin:20181111T110000
LOCATION:Nibe arena - městská sportovní hala
SUMMARY:ST-ZCIM-S42C: Benátky nad Jizerou A-Odolena Voda D
END:VEVENT
BEGIN:VEVENT
UID:64666665-3765-4536-b838-393836636531
DTSTAMP:20260422T213411Z
DESCRIPTION:1/12 Kladno B - Benátky nad Jizerou A 1:2 (-23\,19\,-12)
DTSTART;TZID=Europe/Berlin:20181111T090000
DTEND;TZID=Europe/Berlin:20181111T110000
LOCATION:Kladenská sportovní hala
SUMMARY:ST-ZCIM-S42C: Kladno B-Benátky nad Jizerou A
END:VEVENT
BEGIN:VEVENT
UID:65623261-3839-4132-a231-366235316662
DTSTAMP:20260422T213412Z
DESCRIPTION:1/18 Odolena Voda A - Benátky nad Jizerou A 2:0 (20\,14)
DTSTART;TZID=Europe/Berlin:20181111T090000
DTEND;TZID=Europe/Berlin:20181111T110000
LOCATION:Sportovní hala Odolena Voda
SUMMARY:ST-ZCIM-S42P1: Odolena Voda A-Benátky nad Jizerou A
END:VEVENT
BEGIN:VEVENT
UID:61623936-3134-4364-a565-643964653938
DTSTAMP:20260422T213412Z
DESCRIPTION:1/23 Kladno A - Benátky nad Jizerou A 2:1 (19\,-20\,13)
DTSTART;TZID=Europe/Berlin:20181111T090000
DTEND;TZID=Europe/Berlin:20181111T110000
LOCATION:Kladenská sportovní hala
SUMMARY:ST-ZCIM-S42P2: Kladno A-Benátky nad Jizerou A
END:VEVENT
BEGIN:VEVENT
UID:66656165-3463-4337-a538-396566306561
DTSTAMP:20260422T213412Z
DESCRIPTION:1/1 Benátky nad Jizerou A - Mělník 2:0 (19\,15)
DTSTART;TZID=Europe/Berlin:20181125T090000
DTEND;TZID=Europe/Berlin:20181125T110000
LOCATION:Nibe arena - městská sportovní hala
SUMMARY:ST-ZCIM-S43D: Benátky nad Jizerou A-Mělník
END:VEVENT
BEGIN:VEVENT
UID:61323238-3230-4037-b332-313563396630
DTSTAMP:20260422T213412Z
DESCRIPTION:1/9 Kladno C - Benátky nad Jizerou A 0:2 (-10\,-15)
DTSTART;TZID=Europe/Berlin:20181125T090000
DTEND;TZID=Europe/Berlin:20181125T110000
LOCATION:Kladenská sportovní hala
SUMMARY:ST-ZCIM-S43D: Kladno C-Benátky nad Jizerou A
END:VEVENT
BEGIN:VEVENT
UID:61313937-3634-4864-a433-633937323436
DTSTAMP:20260422T213412Z
DESCRIPTION:1/14 Odolena Voda B - Benátky nad Jizerou A 0:2 (-19\,-14)
DTSTART;TZID=Europe/Berlin:20181125T090000
DTEND;TZID=Europe/Berlin:20181125T110000
LOCATION:Sportovní hala Odolena Voda
SUMMARY:ST-ZCIM-S43P1: Odolena Voda B-Benátky nad Jizerou A
END:VEVENT
BEGIN:VEVENT
UID:34376434-3737-4863-a462-343431356162
DTSTAMP:20260422T213412Z
DESCRIPTION:1/21 Kladno B - Benátky nad Jizerou A 2:0 (12\,20)
DTSTART;TZID=Europe/Berlin:20181125T090000
DTEND;TZID=Europe/Berlin:20181125T110000
LOCATION:Kladenská sportovní hala
SUMMARY:ST-ZCIM-S43P2: Kladno B-Benátky nad Jizerou A
END:VEVENT
BEGIN:VEVENT
UID:34363334-6134-4733-a433-336637366239
DTSTAMP:20260422T213412Z
DESCRIPTION:1/27 Benátky nad Jizerou A - Odolena Voda A 0:2 (-21\,-17)
DTSTART;TZID=Europe/Berlin:20181125T090000
DTEND;TZID=Europe/Berlin:20181125T110000
LOCATION:Nibe arena - městská sportovní hala
SUMMARY:ST-ZCIM-S43P3: Benátky nad Jizerou A-Odolena Voda A
END:VEVENT
BEGIN:VEVENT
UID:31376439-3130-4234-a361-633366653035
DTSTAMP:20260422T213412Z
DESCRIPTION:1/4 Benátky nad Jizerou A - Odolena Voda D 2:0 (11\,10)
DTSTART;TZID=Europe/Berlin:20190120T090000
DTEND;TZID=Europe/Berlin:20190120T110000
LOCATION:Nibe arena - městská sportovní hala
SUMMARY:ST-ZCIM-S44D: Benátky nad Jizerou A-Odolena Voda D
END:VEVENT
BEGIN:VEVENT
UID:37643535-3664-4961-b538-633538306465
DTSTAMP:20260422T213412Z
DESCRIPTION:1/12 Králův Dvůr - Benátky nad Jizerou A 2:0 (13\,22)
DTSTART;TZID=Europe/Berlin:20190120T090000
DTEND;TZID=Europe/Berlin:20190120T110000
LOCATION:SOŠ a SOU HLINKY
SUMMARY:ST-ZCIM-S44D: Králův Dvůr-Benátky nad Jizerou A
END:VEVENT
BEGIN:VEVENT
UID:64373434-3637-4034-b036-386565336362
DTSTAMP:20260422T213412Z
DESCRIPTION:1/16 Odolena Voda B - Benátky nad Jizerou A 0:2 (-20\,-15)
DTSTART;TZID=Europe/Berlin:20190120T090000
DTEND;TZID=Europe/Berlin:20190120T110000
LOCATION:Sportovní hala Odolena Voda
SUMMARY:ST-ZCIM-S44P1: Odolena Voda B-Benátky nad Jizerou A
END:VEVENT
BEGIN:VEVENT
UID:66623565-3935-4234-b532-363137353234
DTSTAMP:20260422T213412Z
DESCRIPTION:1/22 Mělník - Benátky nad Jizerou A 0:2 (-18\,-18)
DTSTART;TZID=Europe/Berlin:20190120T090000
DTEND;TZID=Europe/Berlin:20190120T110000
LOCATION:tělocvična SPŠS
SUMMARY:ST-ZCIM-S44P2: Mělník-Benátky nad Jizerou A
END:VEVENT
BEGIN:VEVENT
UID:37656365-3537-4733-a162-343631623762
DTSTAMP:20260422T213412Z
DESCRIPTION:1/9 Benátky nad Jizerou A - Kladno A 0:2 (-13\,-20)
DTSTART;TZID=Europe/Berlin:20190324T123000
DTEND;TZID=Europe/Berlin:20190324T143000
LOCATION:Nibe arena - městská sportovní hala
SUMMARY:ST-ZCIM-S45D: Benátky nad Jizerou A-Kladno A
END:VEVENT
BEGIN:VEVENT
UID:62316466-3533-4932-b739-616335346364
DTSTAMP:20260422T213412Z
DESCRIPTION:1/5 Kladno C - Benátky nad Jizerou A 0:2 (-21\,-14)
DTSTART;TZID=Europe/Berlin:20190324T123000
DTEND;TZID=Europe/Berlin:20190324T143000
LOCATION:Kladenská sportovní hala
SUMMARY:ST-ZCIM-S45D: Kladno C-Benátky nad Jizerou A
END:VEVENT
BEGIN:VEVENT
UID:34363731-6430-4765-b035-653732313635
DTSTAMP:20260422T213412Z
DESCRIPTION:1/15 Králův Dvůr - Benátky nad Jizerou A 2:0 (12\,12)
DTSTART;TZID=Europe/Berlin:20190324T123000
DTEND;TZID=Europe/Berlin:20190324T143000
LOCATION:SOŠ a SOU HLINKY
SUMMARY:ST-ZCIM-S45P1: Králův Dvůr-Benátky nad Jizerou A
END:VEVENT
BEGIN:VEVENT
UID:34383838-3462-4866-b932-666134346331
DTSTAMP:20260422T213412Z
DESCRIPTION:1/20 Benátky nad Jizerou A - Benátky nad Jizerou B 1:2 (-22\,14
 \,-8)
DTSTART;TZID=Europe/Berlin:20190324T123000
DTEND;TZID=Europe/Berlin:20190324T143000
LOCATION:Nibe arena - městská sportovní hala
SUMMARY:ST-ZCIM-S45P2: Benátky nad Jizerou A-Benátky nad Jizerou B
END:VEVENT
BEGIN:VEVENT
UID:31663763-3534-4336-a335-363765643961
DTSTAMP:20260422T213412Z
DESCRIPTION:1/25 Odolena Voda B - Benátky nad Jizerou A 0:2 (-23\,-15)
DTSTART;TZID=Europe/Berlin:20190324T123000
DTEND;TZID=Europe/Berlin:20190324T143000
LOCATION:Sportovní hala Odolena Voda
SUMMARY:ST-ZCIM-S45P3: Odolena Voda B-Benátky nad Jizerou A
END:VEVENT
END:VCALENDAR
