BEGIN:VCALENDAR
VERSION:2.0
PRODID:-//Kladno volejbal cz B57929//NONSGML kigkonsult.se iCalcreator 2.41.80//
CALSCALE:GREGORIAN
UID:33313861-6132-4538-a139-333036616265
BEGIN:VEVENT
UID:36386166-3362-4031-a132-313839623364
DTSTAMP:20260423T005408Z
DESCRIPTION:1/12 Kladno B - Nymburk 2:0 (17\,11)
DTSTART;TZID=Europe/Berlin:20181014T090000
DTEND;TZID=Europe/Berlin:20181014T110000
LOCATION:Kladenská sportovní hala
SUMMARY:ST-ZCIM-S41D: Kladno B-Nymburk
END:VEVENT
BEGIN:VEVENT
UID:30643636-3339-4364-b364-363834343663
DTSTAMP:20260423T005408Z
DESCRIPTION:1/8 Odolena Voda D - Kladno B 0:2 (-10\,-11)
DTSTART;TZID=Europe/Berlin:20181014T090000
DTEND;TZID=Europe/Berlin:20181014T110000
LOCATION:Sportovní hala Odolena Voda
SUMMARY:ST-ZCIM-S41D: Odolena Voda D-Kladno B
END:VEVENT
BEGIN:VEVENT
UID:63333239-6138-4233-a566-383866613034
DTSTAMP:20260423T005408Z
DESCRIPTION:1/18 Mělník - Kladno B 1:2 (13\,-13\,-11)
DTSTART;TZID=Europe/Berlin:20181014T090000
DTEND;TZID=Europe/Berlin:20181014T110000
LOCATION:tělocvična SPŠS
SUMMARY:ST-ZCIM-S41P2: Mělník-Kladno B
END:VEVENT
BEGIN:VEVENT
UID:35336134-3631-4236-b233-363361613431
DTSTAMP:20260423T005408Z
DESCRIPTION:1/25 Králův Dvůr - Kladno B 2:0 (18\,15)
DTSTART;TZID=Europe/Berlin:20181014T090000
DTEND;TZID=Europe/Berlin:20181014T110000
LOCATION:SOŠ a SOU HLINKY
SUMMARY:ST-ZCIM-S41P3: Králův Dvůr-Kladno B
END:VEVENT
BEGIN:VEVENT
UID:30363265-3832-4738-b031-643733643135
DTSTAMP:20260423T005408Z
DESCRIPTION:1/31 Kladno B - Odolena Voda B 2:1 (15\,-24\,11)
DTSTART;TZID=Europe/Berlin:20181014T090000
DTEND;TZID=Europe/Berlin:20181014T110000
LOCATION:Kladenská sportovní hala
SUMMARY:ST-ZCIM-S41P4: Kladno B-Odolena Voda B
END:VEVENT
BEGIN:VEVENT
UID:65646133-3637-4261-a239-326365623563
DTSTAMP:20260423T005408Z
DESCRIPTION:1/12 Kladno B - Benátky nad Jizerou A 1:2 (-23\,19\,-12)
DTSTART;TZID=Europe/Berlin:20181111T090000
DTEND;TZID=Europe/Berlin:20181111T110000
LOCATION:Kladenská sportovní hala
SUMMARY:ST-ZCIM-S42C: Kladno B-Benátky nad Jizerou A
END:VEVENT
BEGIN:VEVENT
UID:65323834-3833-4563-b461-366439363832
DTSTAMP:20260423T005408Z
DESCRIPTION:1/8 Odolena Voda D - Kladno B 0:2 (-14\,-16)
DTSTART;TZID=Europe/Berlin:20181111T090000
DTEND;TZID=Europe/Berlin:20181111T110000
LOCATION:Sportovní hala Odolena Voda
SUMMARY:ST-ZCIM-S42C: Odolena Voda D-Kladno B
END:VEVENT
BEGIN:VEVENT
UID:35353061-6637-4865-a462-643762346663
DTSTAMP:20260423T005408Z
DESCRIPTION:1/16 Mělník - Kladno B 2:1 (17\,-22\,10)
DTSTART;TZID=Europe/Berlin:20181111T090000
DTEND;TZID=Europe/Berlin:20181111T110000
LOCATION:tělocvična SPŠS
SUMMARY:ST-ZCIM-S42P1: Mělník-Kladno B
END:VEVENT
BEGIN:VEVENT
UID:37303539-3866-4333-b734-323733633731
DTSTAMP:20260423T005408Z
DESCRIPTION:1/21 Nymburk - Kladno B 0:2 (-16\,-19)
DTSTART;TZID=Europe/Berlin:20181111T090000
DTEND;TZID=Europe/Berlin:20181111T110000
LOCATION:Zimní stadion Nymburk
SUMMARY:ST-ZCIM-S42P2: Nymburk-Kladno B
END:VEVENT
BEGIN:VEVENT
UID:62393037-3062-4762-a238-326463646439
DTSTAMP:20260423T005408Z
DESCRIPTION:1/11 Kladno B - Benátky nad Jizerou B 2:0 (13\,21)
DTSTART;TZID=Europe/Berlin:20181125T090000
DTEND;TZID=Europe/Berlin:20181125T110000
LOCATION:Kladenská sportovní hala
SUMMARY:ST-ZCIM-S43B: Kladno B-Benátky nad Jizerou B
END:VEVENT
BEGIN:VEVENT
UID:38323539-3734-4231-b264-306631393331
DTSTAMP:20260423T005408Z
DESCRIPTION:1/7 Odolena Voda A - Kladno B 2:0 (13\,20)
DTSTART;TZID=Europe/Berlin:20181125T090000
DTEND;TZID=Europe/Berlin:20181125T110000
LOCATION:Sportovní hala Odolena Voda
SUMMARY:ST-ZCIM-S43B: Odolena Voda A-Kladno B
END:VEVENT
BEGIN:VEVENT
UID:64323137-6662-4538-b130-303432323135
DTSTAMP:20260423T005408Z
DESCRIPTION:1/13 Králův Dvůr - Kladno B 0:2 (-19\,-24)
DTSTART;TZID=Europe/Berlin:20181125T090000
DTEND;TZID=Europe/Berlin:20181125T110000
LOCATION:SOŠ a SOU HLINKY
SUMMARY:ST-ZCIM-S43P1: Králův Dvůr-Kladno B
END:VEVENT
BEGIN:VEVENT
UID:34366235-3335-4564-b865-663535626364
DTSTAMP:20260423T005408Z
DESCRIPTION:1/21 Kladno B - Benátky nad Jizerou A 2:0 (12\,20)
DTSTART;TZID=Europe/Berlin:20181125T090000
DTEND;TZID=Europe/Berlin:20181125T110000
LOCATION:Kladenská sportovní hala
SUMMARY:ST-ZCIM-S43P2: Kladno B-Benátky nad Jizerou A
END:VEVENT
BEGIN:VEVENT
UID:66376139-6430-4265-b464-346462623330
DTSTAMP:20260423T005408Z
DESCRIPTION:1/28 Kladno B - Kladno A 2:0 (16\,24)
DTSTART;TZID=Europe/Berlin:20181125T090000
DTEND;TZID=Europe/Berlin:20181125T110000
LOCATION:Kladenská sportovní hala
SUMMARY:ST-ZCIM-S43P3: Kladno B-Kladno A
END:VEVENT
BEGIN:VEVENT
UID:62656365-3934-4830-b538-343539313132
DTSTAMP:20260423T005408Z
DESCRIPTION:1/11 Kladno B - Odolena Voda B 2:0 (16\,17)
DTSTART;TZID=Europe/Berlin:20190120T090000
DTEND;TZID=Europe/Berlin:20190120T110000
LOCATION:Kladenská sportovní hala
SUMMARY:ST-ZCIM-S44A: Kladno B-Odolena Voda B
END:VEVENT
BEGIN:VEVENT
UID:35333761-6163-4934-b062-643137346465
DTSTAMP:20260423T005408Z
DESCRIPTION:1/7 Benátky nad Jizerou B - Kladno B 0:2 (-19\,-19)
DTSTART;TZID=Europe/Berlin:20190120T090000
DTEND;TZID=Europe/Berlin:20190120T110000
LOCATION:Nibe arena - městská sportovní hala
SUMMARY:ST-ZCIM-S44A: Benátky nad Jizerou B-Kladno B
END:VEVENT
BEGIN:VEVENT
UID:31346236-3939-4162-a465-623333323032
DTSTAMP:20260423T005408Z
DESCRIPTION:1/18 Kladno B - Králův Dvůr 2:0 (23\,23)
DTSTART;TZID=Europe/Berlin:20190120T090000
DTEND;TZID=Europe/Berlin:20190120T110000
LOCATION:Kladenská sportovní hala
SUMMARY:ST-ZCIM-S44P1: Kladno B-Králův Dvůr
END:VEVENT
BEGIN:VEVENT
UID:64353333-3162-4833-a236-383834343635
DTSTAMP:20260423T005408Z
DESCRIPTION:1/24 Odolena Voda A - Kladno B 0:2 (-22\,-18)
DTSTART;TZID=Europe/Berlin:20190120T090000
DTEND;TZID=Europe/Berlin:20190120T110000
LOCATION:Sportovní hala Odolena Voda
SUMMARY:ST-ZCIM-S44P2: Odolena Voda A-Kladno B
END:VEVENT
BEGIN:VEVENT
UID:64306134-6164-4562-a430-656232613238
DTSTAMP:20260423T005408Z
DESCRIPTION:1/2 Kladno B - Benátky nad Jizerou B 2:0 (16\,17)
DTSTART;TZID=Europe/Berlin:20190324T123000
DTEND;TZID=Europe/Berlin:20190324T143000
LOCATION:Kladenská sportovní hala
SUMMARY:ST-ZCIM-S45A: Kladno B-Benátky nad Jizerou B
END:VEVENT
BEGIN:VEVENT
UID:65373561-3563-4161-b739-306234386133
DTSTAMP:20260423T005408Z
DESCRIPTION:1/10 Nymburk - Kladno B 0:2 (-16\,-19)
DTSTART;TZID=Europe/Berlin:20190324T123000
DTEND;TZID=Europe/Berlin:20190324T143000
LOCATION:Zimní stadion Nymburk
SUMMARY:ST-ZCIM-S45A: Nymburk-Kladno B
END:VEVENT
BEGIN:VEVENT
UID:66386264-6564-4736-b463-356561316330
DTSTAMP:20260423T005408Z
DESCRIPTION:1/13 Kladno B - Odolena Voda B 2:0 (18\,16)
DTSTART;TZID=Europe/Berlin:20190324T123000
DTEND;TZID=Europe/Berlin:20190324T143000
LOCATION:Kladenská sportovní hala
SUMMARY:ST-ZCIM-S45P1: Kladno B-Odolena Voda B
END:VEVENT
BEGIN:VEVENT
UID:65303237-3661-4038-a462-636234393262
DTSTAMP:20260423T005408Z
DESCRIPTION:1/21 Kladno B - Mělník 2:0 (22\,15)
DTSTART;TZID=Europe/Berlin:20190324T123000
DTEND;TZID=Europe/Berlin:20190324T143000
LOCATION:Kladenská sportovní hala
SUMMARY:ST-ZCIM-S45P2: Kladno B-Mělník
END:VEVENT
BEGIN:VEVENT
UID:32663862-3831-4635-a463-636134616332
DTSTAMP:20260423T005408Z
DESCRIPTION:1/28 Kladno B - Králův Dvůr 0:2 (-22\,-16)
DTSTART;TZID=Europe/Berlin:20190324T123000
DTEND;TZID=Europe/Berlin:20190324T143000
LOCATION:Kladenská sportovní hala
SUMMARY:ST-ZCIM-S45P3: Kladno B-Králův Dvůr
END:VEVENT
END:VCALENDAR
