BEGIN:VCALENDAR
VERSION:2.0
PRODID:-//SK Volejbal Kolín57937//NONSGML kigkonsult.se iCalcreator 2.41.80//
CALSCALE:GREGORIAN
UID:37633938-3030-4335-b334-356366653262
BEGIN:VEVENT
UID:65623534-3337-4434-b663-363964376563
DTSTAMP:20260422T211449Z
DESCRIPTION:1/1 Kolín - Pečky 0:2 (-22\,-20)\nPořadatel: SK Volejbal Kolín
DTSTART;TZID=Europe/Berlin:20180909T100000
DTEND;TZID=Europe/Berlin:20180909T120000
LOCATION:U chaty\, Borky\, Brankovická
SUMMARY:ST-ZKYM-A: Kolín-Pečky
END:VEVENT
BEGIN:VEVENT
UID:63393632-3739-4666-a133-386434653637
DTSTAMP:20260422T211449Z
DESCRIPTION:2/12 Kolín - Benátky nad Jizerou 2:0 (7\,12)
DTSTART;TZID=Europe/Berlin:20180916T100000
DTEND;TZID=Europe/Berlin:20180916T120000
LOCATION:U chaty\, Borky\, Brankovická
SUMMARY:ST-ZKYM-A: Kolín-Benátky nad Jizerou
END:VEVENT
BEGIN:VEVENT
UID:62393339-3365-4036-b364-656335306262
DTSTAMP:20260422T211449Z
DESCRIPTION:2/15 Kolín - Kostomlaty nad Labem 1:2 (-16\,11\,-15)
DTSTART;TZID=Europe/Berlin:20180916T100000
DTEND;TZID=Europe/Berlin:20180916T120000
LOCATION:U chaty\, Borky\, Brankovická
SUMMARY:ST-ZKYM-A: Kolín-Kostomlaty nad Labem
END:VEVENT
BEGIN:VEVENT
UID:65306465-3462-4865-b430-386437643364
DTSTAMP:20260422T211449Z
DESCRIPTION:2/17 Kolín - Mladá Boleslav 2:0 (14\,17)
DTSTART;TZID=Europe/Berlin:20180916T100000
DTEND;TZID=Europe/Berlin:20180916T120000
LOCATION:U chaty\, Borky\, Brankovická
SUMMARY:ST-ZKYM-A: Kolín-Mladá Boleslav
END:VEVENT
BEGIN:VEVENT
UID:35373332-3766-4465-a664-366161313235
DTSTAMP:20260422T211449Z
DESCRIPTION:1/3 Nymburk - Kolín 0:2 (-23\,-16)
DTSTART;TZID=Europe/Berlin:20180909T100000
DTEND;TZID=Europe/Berlin:20180909T120000
LOCATION:Zimní stadion Nymburk
SUMMARY:ST-ZKYM-A: Nymburk-Kolín
END:VEVENT
BEGIN:VEVENT
UID:38313031-3566-4161-b638-393432353739
DTSTAMP:20260422T211449Z
DESCRIPTION:3/24 Brandýs nad Labem - Kolín 0:2 (-8\,-12)
DTSTART;TZID=Europe/Berlin:20180923T100000
DTEND;TZID=Europe/Berlin:20180923T120000
LOCATION:sokolovna Brandýs nad Labem
SUMMARY:ST-ZKYM-A: Brandýs nad Labem-Kolín
END:VEVENT
BEGIN:VEVENT
UID:30353334-6166-4436-a362-363865303337
DTSTAMP:20260422T211449Z
DESCRIPTION:3/27 Mělník - Kolín 0:2 (-9\,-17)
DTSTART;TZID=Europe/Berlin:20180923T100000
DTEND;TZID=Europe/Berlin:20180923T120000
LOCATION:SPŠS
SUMMARY:ST-ZKYM-A: Mělník-Kolín
END:VEVENT
BEGIN:VEVENT
UID:62646331-3237-4562-b233-353639313738
DTSTAMP:20260422T211449Z
DESCRIPTION:1/1 Kolín - Vavřinec Kladno A 2:1 (22\,-5\,6)\nPořadatel: SK Vo
 lejbal Kolín
DTSTART;TZID=Europe/Berlin:20181111T100000
DTEND;TZID=Europe/Berlin:20181111T120000
LOCATION:U chaty\, Borky\, Brankovická
SUMMARY:ST-ZKYM-S1: Kolín-Vavřinec Kladno A
END:VEVENT
BEGIN:VEVENT
UID:31613433-6432-4037-b732-363638316638
DTSTAMP:20260422T211449Z
DESCRIPTION:1/3 Kolín - Příbram 0:2 (-14\,-13)
DTSTART;TZID=Europe/Berlin:20181111T100000
DTEND;TZID=Europe/Berlin:20181111T120000
LOCATION:U chaty\, Borky\, Brankovická
SUMMARY:ST-ZKYM-S1: Kolín-Příbram
END:VEVENT
BEGIN:VEVENT
UID:32343462-6434-4733-a235-376532326131
DTSTAMP:20260422T211449Z
DESCRIPTION:3/22 Kolín - Kostomlaty nad Labem 0:2 (-11\,-15)
DTSTART;TZID=Europe/Berlin:20181209T100000
DTEND;TZID=Europe/Berlin:20181209T120000
LOCATION:U chaty\, Borky\, Brankovická
SUMMARY:ST-ZKYM-S1: Kolín-Kostomlaty nad Labem
END:VEVENT
BEGIN:VEVENT
UID:37626235-6636-4038-b663-636263343039
DTSTAMP:20260422T211449Z
DESCRIPTION:4/28 Kolín - Kralupy A 0:2 (-7\,-15)
DTSTART;TZID=Europe/Berlin:20190113T100000
DTEND;TZID=Europe/Berlin:20190113T120000
LOCATION:U chaty\, Borky\, Brankovická
SUMMARY:ST-ZKYM-S1: Kolín-Kralupy A
END:VEVENT
BEGIN:VEVENT
UID:61656439-6331-4736-b165-633735353537
DTSTAMP:20260422T211449Z
DESCRIPTION:5/32 Kolín - Příbram 0:2 (-6\,-11)\nPořadatel: 2 hřiště
DTSTART;TZID=Europe/Berlin:20190217T100000
DTEND;TZID=Europe/Berlin:20190217T120000
LOCATION:U chaty\, Borky\, Brankovická
SUMMARY:ST-ZKYM-S1: Kolín-Příbram
END:VEVENT
BEGIN:VEVENT
UID:61643532-3930-4130-b835-336637333065
DTSTAMP:20260422T211449Z
DESCRIPTION:5/38 Kolín - Kralupy A 0:2 (-14\,-14)
DTSTART;TZID=Europe/Berlin:20190217T100000
DTEND;TZID=Europe/Berlin:20190217T120000
LOCATION:U chaty\, Borky\, Brankovická
SUMMARY:ST-ZKYM-S1: Kolín-Kralupy A
END:VEVENT
BEGIN:VEVENT
UID:33326461-3738-4935-a236-366438306165
DTSTAMP:20260422T211449Z
DESCRIPTION:6/44 Kolín - Kostomlaty nad Labem 0:2 (-10\,-18)
DTSTART;TZID=Europe/Berlin:20190317T100000
DTEND;TZID=Europe/Berlin:20190317T120000
LOCATION:U chaty\, Borky\, Brankovická
SUMMARY:ST-ZKYM-S1: Kolín-Kostomlaty nad Labem
END:VEVENT
BEGIN:VEVENT
UID:39336436-3731-4232-a437-303061303864
DTSTAMP:20260422T211449Z
DESCRIPTION:1/6 Roztoky - Kolín 2:1 (23\,-16\,13)
DTSTART;TZID=Europe/Berlin:20181111T100000
DTEND;TZID=Europe/Berlin:20181111T120000
LOCATION:TJ Sokol Roztoky
SUMMARY:ST-ZKYM-S1: Roztoky-Kolín
END:VEVENT
BEGIN:VEVENT
UID:39306535-3764-4632-b237-346530346536
DTSTAMP:20260422T211449Z
DESCRIPTION:1/8 Kostomlaty nad Labem - Kolín 2:0 (7\,14)
DTSTART;TZID=Europe/Berlin:20181111T100000
DTEND;TZID=Europe/Berlin:20181111T120000
LOCATION:Sokol Kostomlaty - antukové kurty
SUMMARY:ST-ZKYM-S1: Kostomlaty nad Labem-Kolín
END:VEVENT
BEGIN:VEVENT
UID:61366165-3831-4366-b762-653862323632
DTSTAMP:20260422T211449Z
DESCRIPTION:3/18 Roztoky - Kolín 2:0 (22\,19)\nPořadatel: 1 hřiště
DTSTART;TZID=Europe/Berlin:20181209T100000
DTEND;TZID=Europe/Berlin:20181209T120000
LOCATION:TJ Sokol Roztoky
SUMMARY:ST-ZKYM-S1: Roztoky-Kolín
END:VEVENT
BEGIN:VEVENT
UID:35356366-3161-4734-b863-386362316530
DTSTAMP:20260422T211449Z
DESCRIPTION:3/20 Příbram - Kolín 2:0 (17\,12)
DTSTART;TZID=Europe/Berlin:20181209T100000
DTEND;TZID=Europe/Berlin:20181209T120000
LOCATION:ZŠ pod Svatou Horou\, Příbram
SUMMARY:ST-ZKYM-S1: Příbram-Kolín
END:VEVENT
BEGIN:VEVENT
UID:35343633-6433-4434-b964-616565383235
DTSTAMP:20260422T211449Z
DESCRIPTION:4/26 Vavřinec Kladno A - Kolín 2:0 (13\,11)
DTSTART;TZID=Europe/Berlin:20190113T100000
DTEND;TZID=Europe/Berlin:20190113T120000
LOCATION:Kurty: Nám. Jana Opletala 3\, Kladno 4-Rozdělov
SUMMARY:ST-ZKYM-S1: Vavřinec Kladno A-Kolín
END:VEVENT
BEGIN:VEVENT
UID:36316536-3830-4234-b235-313861616231
DTSTAMP:20260422T211449Z
DESCRIPTION:5/35 Vavřinec Kladno A - Kolín 2:0 (9\,10)
DTSTART;TZID=Europe/Berlin:20190217T100000
DTEND;TZID=Europe/Berlin:20190217T120000
LOCATION:Kurty: Nám. Jana Opletala 3\, Kladno 4-Rozdělov
SUMMARY:ST-ZKYM-S1: Vavřinec Kladno A-Kolín
END:VEVENT
BEGIN:VEVENT
UID:35373932-3261-4938-a431-386263373336
DTSTAMP:20260422T211449Z
DESCRIPTION:6/40 Kralupy A - Kolín 2:0 (9\,12)\nPořadatel: 1 hřiště\, velká
  tělocvična ZŠ Roztoky\, Školní náměstí 470
DTSTART;TZID=Europe/Berlin:20190317T093000
DTEND;TZID=Europe/Berlin:20190317T113000
LOCATION:ZŠ Generála Klapálka/areál Sokoliště
SUMMARY:ST-ZKYM-S1: Kralupy A-Kolín
END:VEVENT
BEGIN:VEVENT
UID:36313234-3463-4432-b263-636338626333
DTSTAMP:20260422T211449Z
DESCRIPTION:6/42 Roztoky - Kolín 2:0 (14\,21)
DTSTART;TZID=Europe/Berlin:20190317T100000
DTEND;TZID=Europe/Berlin:20190317T120000
LOCATION:TJ Sokol Roztoky
SUMMARY:ST-ZKYM-S1: Roztoky-Kolín
END:VEVENT
BEGIN:VEVENT
UID:30666365-3332-4132-a562-323232373837
DTSTAMP:20260422T211449Z
DESCRIPTION:1/7 Pečky - Kolín 1:2 (-23\,21\,-12)\nPořadatel: o 5. - 6. míst
 o
DTSTART;TZID=Europe/Berlin:20190428T100000
DTEND;TZID=Europe/Berlin:20190428T120000
LOCATION:PARKHALA
SUMMARY:ST-ZKYM-J2: Pečky-Kolín
END:VEVENT
BEGIN:VEVENT
UID:66373333-3665-4663-b037-323666363730
DTSTAMP:20260422T211449Z
DESCRIPTION:1/6 Kolín - VK Benešovská. 0:2 (-20\,-18)
DTSTART;TZID=Europe/Berlin:20190428T100000
DTEND;TZID=Europe/Berlin:20190428T120000
LOCATION:U chaty\, Borky\, Brankovická
SUMMARY:ST-ZKYM-J2B: Kolín-VK Benešovská.
END:VEVENT
BEGIN:VEVENT
UID:64363066-3366-4731-a435-336531313338
DTSTAMP:20260422T211449Z
DESCRIPTION:1/4 Nymburk - Kolín 2:0 (7\,13)
DTSTART;TZID=Europe/Berlin:20190428T100000
DTEND;TZID=Europe/Berlin:20190428T120000
LOCATION:Zimní stadion Nymburk
SUMMARY:ST-ZKYM-J2B: Nymburk-Kolín
END:VEVENT
BEGIN:VEVENT
UID:33653435-3466-4864-a564-313135306432
DTSTAMP:20260422T211449Z
DESCRIPTION:1/1 Kolín - Mělník 2:0 (13\,11)\nPořadatel: SK Volejbal Kolín
DTSTART;TZID=Europe/Berlin:20190512T100000
DTEND;TZID=Europe/Berlin:20190512T120000
LOCATION:U chaty\, Borky\, Brankovická
SUMMARY:ST-ZKYM-F3: Kolín-Mělník
END:VEVENT
BEGIN:VEVENT
UID:65633639-6531-4964-a630-623764656263
DTSTAMP:20260422T211449Z
DESCRIPTION:1/6 Kolín - VK Benešovská. 2:1 (-23\,17\,14)
DTSTART;TZID=Europe/Berlin:20190512T100000
DTEND;TZID=Europe/Berlin:20190512T120000
LOCATION:U chaty\, Borky\, Brankovická
SUMMARY:ST-ZKYM-F3: Kolín-VK Benešovská.
END:VEVENT
BEGIN:VEVENT
UID:62623963-6362-4435-a538-316230636537
DTSTAMP:20260422T211449Z
DESCRIPTION:1/4 Vavřinec Kladno B - Kolín 0:2 (-7\,-19)
DTSTART;TZID=Europe/Berlin:20190512T100000
DTEND;TZID=Europe/Berlin:20190512T120000
LOCATION:Kurty: Nám. Jana Opletala 3\, Kladno 4-Rozdělov
SUMMARY:ST-ZKYM-F3: Vavřinec Kladno B-Kolín
END:VEVENT
END:VCALENDAR
