BEGIN:VCALENDAR
VERSION:2.0
PRODID:-//TJ Kralupy B57946//NONSGML kigkonsult.se iCalcreator 2.41.80//
CALSCALE:GREGORIAN
UID:38353433-3865-4462-a264-623166653963
BEGIN:VEVENT
UID:32306638-3835-4132-a336-623035373966
DTSTAMP:20260423T042810Z
DESCRIPTION:1/3 Kralupy B - Roztoky 0:2 (-22\,-17)
DTSTART;TZID=Europe/Berlin:20180909T100000
DTEND;TZID=Europe/Berlin:20180909T120000
LOCATION:ZŠ Generála Klapálka/areál Sokoliště
SUMMARY:ST-ZKYM-B: Kralupy B-Roztoky
END:VEVENT
BEGIN:VEVENT
UID:37626331-6263-4463-a564-386137343263
DTSTAMP:20260423T042810Z
DESCRIPTION:2/18 Kralupy B - Příbram 2:1 (-19\,17\,9)
DTSTART;TZID=Europe/Berlin:20180916T100000
DTEND;TZID=Europe/Berlin:20180916T120000
LOCATION:ZŠ Generála Klapálka/areál Sokoliště
SUMMARY:ST-ZKYM-B: Kralupy B-Příbram
END:VEVENT
BEGIN:VEVENT
UID:64353032-6664-4165-b937-643065336432
DTSTAMP:20260423T042810Z
DESCRIPTION:2/21 Kralupy B - VK Benešovská. 2:0 (20\,23)
DTSTART;TZID=Europe/Berlin:20180916T100000
DTEND;TZID=Europe/Berlin:20180916T120000
LOCATION:ZŠ Generála Klapálka/areál Sokoliště
SUMMARY:ST-ZKYM-B: Kralupy B-VK Benešovská.
END:VEVENT
BEGIN:VEVENT
UID:32343236-3130-4638-b635-306165353839
DTSTAMP:20260423T042810Z
DESCRIPTION:2/23 Kralupy B - Kunice 2:0 (16\,19)
DTSTART;TZID=Europe/Berlin:20180916T100000
DTEND;TZID=Europe/Berlin:20180916T120000
LOCATION:ZŠ Generála Klapálka/areál Sokoliště
SUMMARY:ST-ZKYM-B: Kralupy B-Kunice
END:VEVENT
BEGIN:VEVENT
UID:33666666-3439-4531-a562-376438363135
DTSTAMP:20260423T042810Z
DESCRIPTION:1/2 Kralupy A - Kralupy B 2:0 (11\,15)\nPořadatel: 1 hřiště
DTSTART;TZID=Europe/Berlin:20180909T100000
DTEND;TZID=Europe/Berlin:20180909T120000
LOCATION:ZŠ Generála Klapálka/areál Sokoliště
SUMMARY:ST-ZKYM-B: Kralupy A-Kralupy B
END:VEVENT
BEGIN:VEVENT
UID:31613139-3262-4564-a561-306530356637
DTSTAMP:20260423T042810Z
DESCRIPTION:3/28 Hořovice - Kralupy B 2:0 (12\,22)\nPořadatel: TJ Spartak H
 ořovice
DTSTART;TZID=Europe/Berlin:20180923T100000
DTEND;TZID=Europe/Berlin:20180923T120000
LOCATION:Městská sportovní hala
SUMMARY:ST-ZKYM-B: Hořovice-Kralupy B
END:VEVENT
BEGIN:VEVENT
UID:36666261-6139-4436-b866-653137353430
DTSTAMP:20260423T042810Z
DESCRIPTION:3/31 Vavřinec Kladno A - Kralupy B 2:0 (11\,16)
DTSTART;TZID=Europe/Berlin:20180923T100000
DTEND;TZID=Europe/Berlin:20180923T120000
LOCATION:Kurty: Nám. Jana Opletala 3\, Kladno 4-Rozdělov
SUMMARY:ST-ZKYM-B: Vavřinec Kladno A-Kralupy B
END:VEVENT
BEGIN:VEVENT
UID:62366561-6663-4331-a433-393335633730
DTSTAMP:20260423T042810Z
DESCRIPTION:3/35 Vavřinec Kladno B - Kralupy B 0:2 (-15\,-15)
DTSTART;TZID=Europe/Berlin:20180923T100000
DTEND;TZID=Europe/Berlin:20180923T120000
LOCATION:Kurty: Nám. Jana Opletala 3\, Kladno 4-Rozdělov
SUMMARY:ST-ZKYM-B: Vavřinec Kladno B-Kralupy B
END:VEVENT
BEGIN:VEVENT
UID:64363138-3064-4230-b066-323163623931
DTSTAMP:20260423T042810Z
DESCRIPTION:1/1 Kralupy B - Kunice 2:1 (21\,-23\,13)\nPořadatel: TJ Kralupy
  B
DTSTART;TZID=Europe/Berlin:20181111T100000
DTEND;TZID=Europe/Berlin:20181111T120000
LOCATION:ZŠ Generála Klapálka/areál Sokoliště
SUMMARY:ST-ZKYM-S2B: Kralupy B-Kunice
END:VEVENT
BEGIN:VEVENT
UID:64386538-6365-4563-b863-663363326235
DTSTAMP:20260423T042810Z
DESCRIPTION:1/3 Kralupy B - Hořovice 0:2 (-19\,-10)
DTSTART;TZID=Europe/Berlin:20181111T100000
DTEND;TZID=Europe/Berlin:20181111T120000
LOCATION:ZŠ Generála Klapálka/areál Sokoliště
SUMMARY:ST-ZKYM-S2B: Kralupy B-Hořovice
END:VEVENT
BEGIN:VEVENT
UID:66373130-3264-4430-b164-373038623236
DTSTAMP:20260423T042810Z
DESCRIPTION:2/10 Kralupy B - Hořovice 1:2 (11\,-20\,-9)\nPořadatel: 2 hřišt
 ě
DTSTART;TZID=Europe/Berlin:20181125T100000
DTEND;TZID=Europe/Berlin:20181125T120000
LOCATION:ZŠ Generála Klapálka/areál Sokoliště
SUMMARY:ST-ZKYM-S2B: Kralupy B-Hořovice
END:VEVENT
BEGIN:VEVENT
UID:37316333-3334-4133-a138-663030396266
DTSTAMP:20260423T042810Z
DESCRIPTION:2/16 Kralupy B - Vavřinec Kladno B 2:0 (6\,20)
DTSTART;TZID=Europe/Berlin:20181125T100000
DTEND;TZID=Europe/Berlin:20181125T120000
LOCATION:ZŠ Generála Klapálka/areál Sokoliště
SUMMARY:ST-ZKYM-S2B: Kralupy B-Vavřinec Kladno B
END:VEVENT
BEGIN:VEVENT
UID:34323166-6131-4663-b862-353961363235
DTSTAMP:20260423T042810Z
DESCRIPTION:3/21 Kralupy B - Kunice 2:0 (10\,13)
DTSTART;TZID=Europe/Berlin:20181209T100000
DTEND;TZID=Europe/Berlin:20181209T120000
LOCATION:ZŠ Generála Klapálka/areál Sokoliště
SUMMARY:ST-ZKYM-S2B: Kralupy B-Kunice
END:VEVENT
BEGIN:VEVENT
UID:65326131-3063-4564-a363-343338363438
DTSTAMP:20260423T042810Z
DESCRIPTION:4/26 Kralupy B - Vavřinec Kladno B 2:0 (13\,5)\nPořadatel: 2 hř
 iště ZŠ Jindřicha Matiegky\, Pražská 2817\, 276 01 Mělník
DTSTART;TZID=Europe/Berlin:20190113T100000
DTEND;TZID=Europe/Berlin:20190113T120000
LOCATION:ZŠ Generála Klapálka/areál Sokoliště
SUMMARY:ST-ZKYM-S2B: Kralupy B-Vavřinec Kladno B
END:VEVENT
BEGIN:VEVENT
UID:63343462-6638-4437-a432-396564663439
DTSTAMP:20260423T042810Z
DESCRIPTION:4/31 Kralupy B - Mělník 2:0 (14\,10)
DTSTART;TZID=Europe/Berlin:20190113T100000
DTEND;TZID=Europe/Berlin:20190113T120000
LOCATION:ZŠ Generála Klapálka/areál Sokoliště
SUMMARY:ST-ZKYM-S2B: Kralupy B-Mělník
END:VEVENT
BEGIN:VEVENT
UID:64363438-6266-4139-a337-363235386230
DTSTAMP:20260423T042810Z
DESCRIPTION:6/45 Kralupy B - Kunice 2:0 (23\,19)
DTSTART;TZID=Europe/Berlin:20190317T100000
DTEND;TZID=Europe/Berlin:20190317T120000
LOCATION:ZŠ Generála Klapálka/areál Sokoliště
SUMMARY:ST-ZKYM-S2B: Kralupy B-Kunice
END:VEVENT
BEGIN:VEVENT
UID:34383335-3535-4430-b831-666163646466
DTSTAMP:20260423T042810Z
DESCRIPTION:1/6 Vavřinec Kladno B - Kralupy B 0:2 (-18\,-18)
DTSTART;TZID=Europe/Berlin:20181111T100000
DTEND;TZID=Europe/Berlin:20181111T120000
LOCATION:Kurty: Nám. Jana Opletala 3\, Kladno 4-Rozdělov
SUMMARY:ST-ZKYM-S2B: Vavřinec Kladno B-Kralupy B
END:VEVENT
BEGIN:VEVENT
UID:36663562-3664-4334-a665-613433653062
DTSTAMP:20260423T042810Z
DESCRIPTION:1/8 Mělník - Kralupy B 0:2 (-17\,-14)
DTSTART;TZID=Europe/Berlin:20181111T100000
DTEND;TZID=Europe/Berlin:20181111T120000
LOCATION:SPŠS
SUMMARY:ST-ZKYM-S2B: Mělník-Kralupy B
END:VEVENT
BEGIN:VEVENT
UID:34653962-6330-4431-b966-623239366434
DTSTAMP:20260423T042810Z
DESCRIPTION:2/13 Mělník - Kralupy B 0:2 (-8\,-10)
DTSTART;TZID=Europe/Berlin:20181125T100000
DTEND;TZID=Europe/Berlin:20181125T120000
LOCATION:SPŠS
SUMMARY:ST-ZKYM-S2B: Mělník-Kralupy B
END:VEVENT
BEGIN:VEVENT
UID:38373862-6535-4432-b638-323964636462
DTSTAMP:20260423T042810Z
DESCRIPTION:3/19 VK Benešovská. - Kralupy B 1:2 (-23\,12\,-14)
DTSTART;TZID=Europe/Berlin:20181209T100000
DTEND;TZID=Europe/Berlin:20181209T120000
LOCATION:ZŠ Jiráskova
SUMMARY:ST-ZKYM-S2B: VK Benešovská.-Kralupy B
END:VEVENT
BEGIN:VEVENT
UID:66393936-3536-4433-b765-363963653833
DTSTAMP:20260423T042810Z
DESCRIPTION:3/23 Hořovice - Kralupy B 2:0 (19\,14)
DTSTART;TZID=Europe/Berlin:20181209T100000
DTEND;TZID=Europe/Berlin:20181209T120000
LOCATION:Městská sportovní hala
SUMMARY:ST-ZKYM-S2B: Hořovice-Kralupy B
END:VEVENT
BEGIN:VEVENT
UID:34333130-3731-4938-a465-323161383938
DTSTAMP:20260423T042810Z
DESCRIPTION:4/29 VK Benešovská. - Kralupy B 0:2 (-18\,-21)\nPořadatel: odlo
 ženo
DTSTART;TZID=Europe/Berlin:20190317T100000
DTEND;TZID=Europe/Berlin:20190317T120000
LOCATION:ZŠ Jiráskova
SUMMARY:ST-ZKYM-S2B: VK Benešovská.-Kralupy B
END:VEVENT
BEGIN:VEVENT
UID:36646636-3039-4339-a535-396230613735
DTSTAMP:20260423T042810Z
DESCRIPTION:6/42 VK Benešovská. - Kralupy B 0:2 (-20\,-13)
DTSTART;TZID=Europe/Berlin:20190317T100000
DTEND;TZID=Europe/Berlin:20190317T120000
LOCATION:ZŠ Jiráskova
SUMMARY:ST-ZKYM-S2B: VK Benešovská.-Kralupy B
END:VEVENT
BEGIN:VEVENT
UID:38336131-3739-4562-b561-306362313565
DTSTAMP:20260423T042810Z
DESCRIPTION:1/9 Kralupy B - Nymburk 2:1 (-21\,22\,15)\nPořadatel: o 1. - 2.
  místo
DTSTART;TZID=Europe/Berlin:20190428T100000
DTEND;TZID=Europe/Berlin:20190428T120000
LOCATION:ZŠ Generála Klapálka/areál Sokoliště
SUMMARY:ST-ZKYM-J2: Kralupy B-Nymburk
END:VEVENT
BEGIN:VEVENT
UID:39363139-3833-4931-a333-343939623963
DTSTAMP:20260423T042810Z
DESCRIPTION:1/5 Kralupy B - Kostomlaty nad Labem 2:0 (22\,23)
DTSTART;TZID=Europe/Berlin:20190428T100000
DTEND;TZID=Europe/Berlin:20190428T120000
LOCATION:ZŠ Generála Klapálka/areál Sokoliště
SUMMARY:ST-ZKYM-J2A: Kralupy B-Kostomlaty nad Labem
END:VEVENT
BEGIN:VEVENT
UID:33333335-3130-4636-b261-386661353231
DTSTAMP:20260423T042810Z
DESCRIPTION:1/3 Pečky - Kralupy B 0:2 (-20\,-16)
DTSTART;TZID=Europe/Berlin:20190428T100000
DTEND;TZID=Europe/Berlin:20190428T120000
LOCATION:PARKHALA
SUMMARY:ST-ZKYM-J2A: Pečky-Kralupy B
END:VEVENT
BEGIN:VEVENT
UID:32356135-3437-4865-b234-306135366635
DTSTAMP:20260423T042810Z
DESCRIPTION:1/2 Kralupy B - Kralupy A 0:2 (-23\,-7)\nPořadatel: 2 hřiště
DTSTART;TZID=Europe/Berlin:20190512T100000
DTEND;TZID=Europe/Berlin:20190512T120000
LOCATION:ZŠ Generála Klapálka/areál Sokoliště
SUMMARY:ST-ZKYM-F1: Kralupy B-Kralupy A
END:VEVENT
BEGIN:VEVENT
UID:34333762-6561-4438-b137-666464613865
DTSTAMP:20260423T042810Z
DESCRIPTION:1/8 Kralupy B - Mladá Boleslav 2:0 (8\,17)
DTSTART;TZID=Europe/Berlin:20190512T100000
DTEND;TZID=Europe/Berlin:20190512T120000
LOCATION:ZŠ Generála Klapálka/areál Sokoliště
SUMMARY:ST-ZKYM-F1: Kralupy B-Mladá Boleslav
END:VEVENT
BEGIN:VEVENT
UID:61393736-6163-4432-a131-626132303662
DTSTAMP:20260423T042810Z
DESCRIPTION:1/4 Roztoky - Kralupy B 1:2 (17\,-23\,-10)
DTSTART;TZID=Europe/Berlin:20190512T100000
DTEND;TZID=Europe/Berlin:20190512T120000
LOCATION:TJ Sokol Roztoky
SUMMARY:ST-ZKYM-F1: Roztoky-Kralupy B
END:VEVENT
BEGIN:VEVENT
UID:33633139-6137-4666-a334-316265363235
DTSTAMP:20260423T042810Z
DESCRIPTION:1/6 Vavřinec Kladno A - Kralupy B 2:0 (12\,24)
DTSTART;TZID=Europe/Berlin:20190512T100000
DTEND;TZID=Europe/Berlin:20190512T120000
LOCATION:Kurty: Nám. Jana Opletala 3\, Kladno 4-Rozdělov
SUMMARY:ST-ZKYM-F1: Vavřinec Kladno A-Kralupy B
END:VEVENT
END:VCALENDAR
