BEGIN:VCALENDAR
VERSION:2.0
PRODID:-//TJ Spartak Hořovice57950//NONSGML kigkonsult.se iCalcreator 2.41.80//
CALSCALE:GREGORIAN
UID:66313238-6663-4437-a235-643130363162
BEGIN:VEVENT
UID:30613637-3565-4937-b738-316563653131
DTSTAMP:20260422T213232Z
DESCRIPTION:2/14 Hořovice - Vavřinec Kladno B 2:0 (11\,10)\nPořadatel: 1 hř
 iště
DTSTART;TZID=Europe/Berlin:20180916T100000
DTEND;TZID=Europe/Berlin:20180916T120000
LOCATION:Městská sportovní hala
SUMMARY:ST-ZKYM-B: Hořovice-Vavřinec Kladno B
END:VEVENT
BEGIN:VEVENT
UID:39356338-6265-4232-b430-336130633131
DTSTAMP:20260422T213232Z
DESCRIPTION:3/28 Hořovice - Kralupy B 2:0 (12\,22)\nPořadatel: TJ Spartak H
 ořovice
DTSTART;TZID=Europe/Berlin:20180923T100000
DTEND;TZID=Europe/Berlin:20180923T120000
LOCATION:Městská sportovní hala
SUMMARY:ST-ZKYM-B: Hořovice-Kralupy B
END:VEVENT
BEGIN:VEVENT
UID:63393130-3733-4239-b430-666337636533
DTSTAMP:20260422T213232Z
DESCRIPTION:3/32 Hořovice - Roztoky 1:2 (-16\,23\,-15)
DTSTART;TZID=Europe/Berlin:20180923T100000
DTEND;TZID=Europe/Berlin:20180923T120000
LOCATION:Městská sportovní hala
SUMMARY:ST-ZKYM-B: Hořovice-Roztoky
END:VEVENT
BEGIN:VEVENT
UID:36616334-6461-4233-b266-343135366431
DTSTAMP:20260422T213232Z
DESCRIPTION:3/36 Hořovice - Kralupy A 0:2 (-3\,-11)
DTSTART;TZID=Europe/Berlin:20180923T100000
DTEND;TZID=Europe/Berlin:20180923T120000
LOCATION:Městská sportovní hala
SUMMARY:ST-ZKYM-B: Hořovice-Kralupy A
END:VEVENT
BEGIN:VEVENT
UID:33353961-3561-4438-b636-636331353831
DTSTAMP:20260422T213232Z
DESCRIPTION:1/4 Příbram - Hořovice 2:0 (12\,18)\nPořadatel: TJ Baník Příbra
 m
DTSTART;TZID=Europe/Berlin:20180909T100000
DTEND;TZID=Europe/Berlin:20180909T120000
LOCATION:ZŠ pod Svatou Horou\, Příbram
SUMMARY:ST-ZKYM-B: Příbram-Hořovice
END:VEVENT
BEGIN:VEVENT
UID:64306235-6634-4832-b863-306437623064
DTSTAMP:20260422T213232Z
DESCRIPTION:1/7 Kunice - Hořovice 0:2 (-22\,-13)
DTSTART;TZID=Europe/Berlin:20180909T100000
DTEND;TZID=Europe/Berlin:20180909T120000
LOCATION:ZŠ Strančice
SUMMARY:ST-ZKYM-B: Kunice-Hořovice
END:VEVENT
BEGIN:VEVENT
UID:61373936-3832-4665-b234-316664326437
DTSTAMP:20260422T213232Z
DESCRIPTION:1/11 VK Benešovská. - Hořovice 0:2 (-16\,-10)
DTSTART;TZID=Europe/Berlin:20180909T100000
DTEND;TZID=Europe/Berlin:20180909T120000
LOCATION:ZŠ Jiráskova
SUMMARY:ST-ZKYM-B: VK Benešovská.-Hořovice
END:VEVENT
BEGIN:VEVENT
UID:61393332-6333-4365-a139-623031626431
DTSTAMP:20260422T213232Z
DESCRIPTION:2/13 Vavřinec Kladno A - Hořovice 2:0 (13\,11)\nPořadatel: Vavř
 inec Kladno
DTSTART;TZID=Europe/Berlin:20180916T100000
DTEND;TZID=Europe/Berlin:20180916T120000
LOCATION:Kurty: Nám. Jana Opletala 3\, Kladno 4-Rozdělov
SUMMARY:ST-ZKYM-B: Vavřinec Kladno A-Hořovice
END:VEVENT
BEGIN:VEVENT
UID:30363735-3665-4037-b535-376232306665
DTSTAMP:20260422T213232Z
DESCRIPTION:1/5 Hořovice - Mělník 2:0 (11\,10)
DTSTART;TZID=Europe/Berlin:20181111T100000
DTEND;TZID=Europe/Berlin:20181111T120000
LOCATION:Městská sportovní hala
SUMMARY:ST-ZKYM-S2B: Hořovice-Mělník
END:VEVENT
BEGIN:VEVENT
UID:34613734-3431-4162-a262-656332386161
DTSTAMP:20260422T213232Z
DESCRIPTION:2/14 Hořovice - Vavřinec Kladno B 2:0 (9\,10)
DTSTART;TZID=Europe/Berlin:20181125T100000
DTEND;TZID=Europe/Berlin:20181125T120000
LOCATION:Městská sportovní hala
SUMMARY:ST-ZKYM-S2B: Hořovice-Vavřinec Kladno B
END:VEVENT
BEGIN:VEVENT
UID:64633337-3465-4665-b433-653932336164
DTSTAMP:20260422T213232Z
DESCRIPTION:3/20 Hořovice - Mělník 2:0 (12\,16)
DTSTART;TZID=Europe/Berlin:20181209T100000
DTEND;TZID=Europe/Berlin:20181209T120000
LOCATION:Městská sportovní hala
SUMMARY:ST-ZKYM-S2B: Hořovice-Mělník
END:VEVENT
BEGIN:VEVENT
UID:63633937-3133-4666-b464-326437373566
DTSTAMP:20260422T213232Z
DESCRIPTION:3/23 Hořovice - Kralupy B 2:0 (19\,14)
DTSTART;TZID=Europe/Berlin:20181209T100000
DTEND;TZID=Europe/Berlin:20181209T120000
LOCATION:Městská sportovní hala
SUMMARY:ST-ZKYM-S2B: Hořovice-Kralupy B
END:VEVENT
BEGIN:VEVENT
UID:31396565-3562-4334-b537-653130316264
DTSTAMP:20260422T213232Z
DESCRIPTION:5/32 Hořovice - Mělník 2:0 (9\,13)\nPořadatel: TJ Spartak Hořov
 ice
DTSTART;TZID=Europe/Berlin:20190217T100000
DTEND;TZID=Europe/Berlin:20190217T120000
LOCATION:Městská sportovní hala
SUMMARY:ST-ZKYM-S2B: Hořovice-Mělník
END:VEVENT
BEGIN:VEVENT
UID:65623664-3863-4365-a535-313361336534
DTSTAMP:20260422T213232Z
DESCRIPTION:5/34 Hořovice - Kunice 2:0 (8\,12)
DTSTART;TZID=Europe/Berlin:20190317T100000
DTEND;TZID=Europe/Berlin:20190317T120000
LOCATION:Městská sportovní hala
SUMMARY:ST-ZKYM-S2B: Hořovice-Kunice
END:VEVENT
BEGIN:VEVENT
UID:66353332-3531-4564-a662-313530356637
DTSTAMP:20260422T213232Z
DESCRIPTION:6/41 Hořovice - Vavřinec Kladno B 2:0 (24\,21)\nPořadatel: 1 hř
 iště TJ Kunice
DTSTART;TZID=Europe/Berlin:20190317T100000
DTEND;TZID=Europe/Berlin:20190317T120000
LOCATION:Městská sportovní hala
SUMMARY:ST-ZKYM-S2B: Hořovice-Vavřinec Kladno B
END:VEVENT
BEGIN:VEVENT
UID:34333066-6632-4335-b338-626466393130
DTSTAMP:20260422T213232Z
DESCRIPTION:1/3 Kralupy B - Hořovice 0:2 (-19\,-10)
DTSTART;TZID=Europe/Berlin:20181111T100000
DTEND;TZID=Europe/Berlin:20181111T120000
LOCATION:ZŠ Generála Klapálka/areál Sokoliště
SUMMARY:ST-ZKYM-S2B: Kralupy B-Hořovice
END:VEVENT
BEGIN:VEVENT
UID:35386161-3231-4331-a432-353132333533
DTSTAMP:20260422T213232Z
DESCRIPTION:1/7 Kunice - Hořovice 0:2 (-11\,-17)
DTSTART;TZID=Europe/Berlin:20181111T100000
DTEND;TZID=Europe/Berlin:20181111T120000
LOCATION:ZŠ Strančice
SUMMARY:ST-ZKYM-S2B: Kunice-Hořovice
END:VEVENT
BEGIN:VEVENT
UID:63616433-6530-4236-a665-623035336364
DTSTAMP:20260422T213232Z
DESCRIPTION:2/10 Kralupy B - Hořovice 1:2 (11\,-20\,-9)\nPořadatel: 2 hřišt
 ě
DTSTART;TZID=Europe/Berlin:20181125T100000
DTEND;TZID=Europe/Berlin:20181125T120000
LOCATION:ZŠ Generála Klapálka/areál Sokoliště
SUMMARY:ST-ZKYM-S2B: Kralupy B-Hořovice
END:VEVENT
BEGIN:VEVENT
UID:31306439-3433-4631-b837-643464623134
DTSTAMP:20260422T213232Z
DESCRIPTION:2/12 VK Benešovská. - Hořovice 1:2 (-22\,22\,-7)
DTSTART;TZID=Europe/Berlin:20181125T100000
DTEND;TZID=Europe/Berlin:20181125T120000
LOCATION:ZŠ Jiráskova
SUMMARY:ST-ZKYM-S2B: VK Benešovská.-Hořovice
END:VEVENT
BEGIN:VEVENT
UID:34353963-6439-4138-b333-373632393033
DTSTAMP:20260422T213232Z
DESCRIPTION:3/17 VK Benešovská. - Hořovice 0:2 (-18\,-23)\nPořadatel: VK Be
 nešovská
DTSTART;TZID=Europe/Berlin:20181209T100000
DTEND;TZID=Europe/Berlin:20181209T120000
LOCATION:ZŠ Jiráskova
SUMMARY:ST-ZKYM-S2B: VK Benešovská.-Hořovice
END:VEVENT
BEGIN:VEVENT
UID:30363038-3736-4237-b435-656261343534
DTSTAMP:20260422T213232Z
DESCRIPTION:5/37 VK Benešovská. - Hořovice 2:0 (22\,10)
DTSTART;TZID=Europe/Berlin:20190217T100000
DTEND;TZID=Europe/Berlin:20190217T120000
LOCATION:ZŠ Jiráskova
SUMMARY:ST-ZKYM-S2B: VK Benešovská.-Hořovice
END:VEVENT
BEGIN:VEVENT
UID:65653936-3562-4664-b564-363439663065
DTSTAMP:20260422T213232Z
DESCRIPTION:5/39 Vavřinec Kladno B - Hořovice 0:2 (-11\,-10)
DTSTART;TZID=Europe/Berlin:20190217T100000
DTEND;TZID=Europe/Berlin:20190217T120000
LOCATION:Kurty: Nám. Jana Opletala 3\, Kladno 4-Rozdělov
SUMMARY:ST-ZKYM-S2B: Vavřinec Kladno B-Hořovice
END:VEVENT
BEGIN:VEVENT
UID:62333865-3139-4631-b937-303465313730
DTSTAMP:20260422T213232Z
DESCRIPTION:6/43 Kunice - Hořovice 0:2 (-19\,-12)
DTSTART;TZID=Europe/Berlin:20190317T100000
DTEND;TZID=Europe/Berlin:20190317T120000
LOCATION:ZŠ Strančice
SUMMARY:ST-ZKYM-S2B: Kunice-Hořovice
END:VEVENT
BEGIN:VEVENT
UID:61383964-3738-4830-b639-353632636635
DTSTAMP:20260422T213232Z
DESCRIPTION:1/7 Hořovice - Příbram 2:0 (22\,16)\nPořadatel: o 5. - 6. místo
DTSTART;TZID=Europe/Berlin:20190428T100000
DTEND;TZID=Europe/Berlin:20190428T120000
LOCATION:Městská sportovní hala
SUMMARY:ST-ZKYM-J1: Hořovice-Příbram
END:VEVENT
BEGIN:VEVENT
UID:30383935-3136-4463-b263-363837393462
DTSTAMP:20260422T213232Z
DESCRIPTION:1/5 Hořovice - Kralupy A 0:2 (-8\,-16)
DTSTART;TZID=Europe/Berlin:20190428T100000
DTEND;TZID=Europe/Berlin:20190428T120000
LOCATION:Městská sportovní hala
SUMMARY:ST-ZKYM-J1A: Hořovice-Kralupy A
END:VEVENT
BEGIN:VEVENT
UID:37313233-6334-4261-b830-336533393339
DTSTAMP:20260422T213232Z
DESCRIPTION:1/3 Roztoky - Hořovice 2:0 (14\,24)
DTSTART;TZID=Europe/Berlin:20190428T100000
DTEND;TZID=Europe/Berlin:20190428T120000
LOCATION:TJ Sokol Roztoky
SUMMARY:ST-ZKYM-J1A: Roztoky-Hořovice
END:VEVENT
BEGIN:VEVENT
UID:39313737-6238-4932-a366-623639633037
DTSTAMP:20260422T213232Z
DESCRIPTION:1/1 Hořovice - Nymburk 1:2 (18\,-19\,-13)\nPořadatel: TJ Sparta
 k Hořovice
DTSTART;TZID=Europe/Berlin:20190512T100000
DTEND;TZID=Europe/Berlin:20190512T120000
LOCATION:Městská sportovní hala
SUMMARY:ST-ZKYM-F2: Hořovice-Nymburk
END:VEVENT
BEGIN:VEVENT
UID:62306263-6130-4239-b266-373864386638
DTSTAMP:20260422T213232Z
DESCRIPTION:1/6 Hořovice - Příbram 0:2 (-16\,-14)
DTSTART;TZID=Europe/Berlin:20190512T100000
DTEND;TZID=Europe/Berlin:20190512T120000
LOCATION:Městská sportovní hala
SUMMARY:ST-ZKYM-F2: Hořovice-Příbram
END:VEVENT
BEGIN:VEVENT
UID:38646461-3064-4136-b161-313361646534
DTSTAMP:20260422T213232Z
DESCRIPTION:1/4 Kostomlaty nad Labem - Hořovice 0:2 (-16\,-17)
DTSTART;TZID=Europe/Berlin:20190512T100000
DTEND;TZID=Europe/Berlin:20190512T120000
LOCATION:Sokol Kostomlaty - antukové kurty
SUMMARY:ST-ZKYM-F2: Kostomlaty nad Labem-Hořovice
END:VEVENT
END:VCALENDAR
