BEGIN:VCALENDAR
VERSION:2.0
PRODID:-//TJ EMĚ Mělník A57986//NONSGML kigkonsult.se iCalcreator 2.41.80//
CALSCALE:GREGORIAN
UID:36653962-3934-4639-b764-356466393035
BEGIN:VEVENT
UID:35323566-3935-4339-a166-646566313631
DTSTAMP:20260422T150332Z
DESCRIPTION:1/1 Mělník A - Neratovice 2:0 (7\,6)\nPořadatel: TJ EMÉ Mělník
DTSTART;TZID=Europe/Berlin:20180908T100000
DTEND;TZID=Europe/Berlin:20180908T120000
LOCATION:Sportovní areál TJ EMĚ Na Polabí
SUMMARY:ST-ZKY-B: Mělník A-Neratovice
END:VEVENT
BEGIN:VEVENT
UID:37313164-6135-4334-a261-333833366434
DTSTAMP:20260422T150332Z
DESCRIPTION:3/21 Mělník A - Kralupy B 0:2 (-19\,-22)\nPořadatel: 3 hřiště
DTSTART;TZID=Europe/Berlin:20180922T100000
DTEND;TZID=Europe/Berlin:20180922T120000
LOCATION:Sportovní areál TJ EMĚ Na Polabí
SUMMARY:ST-ZKY-B: Mělník A-Kralupy B
END:VEVENT
BEGIN:VEVENT
UID:64626138-6430-4435-b534-646232356365
DTSTAMP:20260422T150332Z
DESCRIPTION:3/23 Mělník A - Roztoky 2:0 (14\,14)
DTSTART;TZID=Europe/Berlin:20180922T100000
DTEND;TZID=Europe/Berlin:20180922T120000
LOCATION:Sportovní areál TJ EMĚ Na Polabí
SUMMARY:ST-ZKY-B: Mělník A-Roztoky
END:VEVENT
BEGIN:VEVENT
UID:30353861-6334-4965-b236-613231383233
DTSTAMP:20260422T150332Z
DESCRIPTION:3/26 Mělník A - Kralupy A 0:2 (-9\,-20)
DTSTART;TZID=Europe/Berlin:20180922T100000
DTEND;TZID=Europe/Berlin:20180922T120000
LOCATION:Sportovní areál TJ EMĚ Na Polabí
SUMMARY:ST-ZKY-B: Mělník A-Kralupy A
END:VEVENT
BEGIN:VEVENT
UID:62383538-3865-4564-b739-623935333163
DTSTAMP:20260422T150332Z
DESCRIPTION:1/3 Mělník B - Mělník A 0:2 (-17\,-16)
DTSTART;TZID=Europe/Berlin:20180908T100000
DTEND;TZID=Europe/Berlin:20180908T120000
LOCATION:SPŠS Mělník
SUMMARY:ST-ZKY-B: Mělník B-Mělník A
END:VEVENT
BEGIN:VEVENT
UID:64623332-3066-4830-a539-346238306566
DTSTAMP:20260422T150332Z
DESCRIPTION:2/14 Vavřinec Kladno B - Mělník A 0:2 (-12\,-10)\nPořadatel: 2 
 hřiště
DTSTART;TZID=Europe/Berlin:20180915T100000
DTEND;TZID=Europe/Berlin:20180915T120000
LOCATION:Kurty: Nám. Jana Opletala 3\, Kladno 4-Rozdělov
SUMMARY:ST-ZKY-B: Vavřinec Kladno B-Mělník A
END:VEVENT
BEGIN:VEVENT
UID:30356433-3532-4538-b862-613537353162
DTSTAMP:20260422T150332Z
DESCRIPTION:2/17 Vavřinec Kladno A - Mělník A 2:0 (23\,22)
DTSTART;TZID=Europe/Berlin:20180915T100000
DTEND;TZID=Europe/Berlin:20180915T120000
LOCATION:Kurty: Nám. Jana Opletala 3\, Kladno 4-Rozdělov
SUMMARY:ST-ZKY-B: Vavřinec Kladno A-Mělník A
END:VEVENT
BEGIN:VEVENT
UID:61383132-3837-4366-a163-653038303663
DTSTAMP:20260422T150332Z
DESCRIPTION:1/5 Mělník A - Hořovice 0:2 (-19\,-24)
DTSTART;TZID=Europe/Berlin:20181006T100000
DTEND;TZID=Europe/Berlin:20181006T120000
LOCATION:Sportovní areál TJ EMĚ Na Polabí
SUMMARY:ST-ZKY-DA: Mělník A-Hořovice
END:VEVENT
BEGIN:VEVENT
UID:37313838-3262-4131-a166-353633633863
DTSTAMP:20260422T150332Z
DESCRIPTION:1/3 Benátky nad Jizerou - Mělník A 0:2 (-8\,-17)
DTSTART;TZID=Europe/Berlin:20181006T100000
DTEND;TZID=Europe/Berlin:20181006T120000
LOCATION:Nibe aréna
SUMMARY:ST-ZKY-DA: Benátky nad Jizerou-Mělník A
END:VEVENT
BEGIN:VEVENT
UID:61616532-6265-4062-a561-316437666164
DTSTAMP:20260422T150332Z
DESCRIPTION:1/7 Mělník A - Kralupy B 2:0 (21\,20)
DTSTART;TZID=Europe/Berlin:20181006T100000
DTEND;TZID=Europe/Berlin:20181006T120000
LOCATION:Sportovní areál TJ EMĚ Na Polabí
SUMMARY:ST-ZKY-DAB: Mělník A-Kralupy B
END:VEVENT
BEGIN:VEVENT
UID:62353630-3865-4361-b533-633532353765
DTSTAMP:20260422T150332Z
DESCRIPTION:1/12 Mělník A - Hořovice 1:2 (-22\,10\,-10)
DTSTART;TZID=Europe/Berlin:20181104T100000
DTEND;TZID=Europe/Berlin:20181104T120000
LOCATION:Sportovní areál TJ EMĚ Na Polabí
SUMMARY:ST-ZKY-S1: Mělník A-Hořovice
END:VEVENT
BEGIN:VEVENT
UID:36306534-3330-4163-b563-353663336630
DTSTAMP:20260422T150332Z
DESCRIPTION:2/18 Mělník A - Hořovice 2:1 (-28\,23\,9)
DTSTART;TZID=Europe/Berlin:20181118T100000
DTEND;TZID=Europe/Berlin:20181118T120000
LOCATION:Sportovní areál TJ EMĚ Na Polabí
SUMMARY:ST-ZKY-S1: Mělník A-Hořovice
END:VEVENT
BEGIN:VEVENT
UID:62323733-3235-4964-b966-623537663637
DTSTAMP:20260422T150332Z
DESCRIPTION:3/36 Mělník A - Vavřinec Kladno A 2:1 (-20\,23\,12)
DTSTART;TZID=Europe/Berlin:20181202T100000
DTEND;TZID=Europe/Berlin:20181202T120000
LOCATION:Sportovní areál TJ EMĚ Na Polabí
SUMMARY:ST-ZKY-S1: Mělník A-Vavřinec Kladno A
END:VEVENT
BEGIN:VEVENT
UID:62643561-3366-4239-b137-636566356462
DTSTAMP:20260422T150332Z
DESCRIPTION:4/43 Mělník A - Nymburk 0:2 (-20\,-9)\nPořadatel: TJ EMĚ Mělník
  A
DTSTART;TZID=Europe/Berlin:20190106T100000
DTEND;TZID=Europe/Berlin:20190106T120000
LOCATION:Sportovní areál TJ EMĚ Na Polabí
SUMMARY:ST-ZKY-S1: Mělník A-Nymburk
END:VEVENT
BEGIN:VEVENT
UID:35323238-6530-4466-b039-393163643365
DTSTAMP:20260422T150332Z
DESCRIPTION:4/46 Mělník A - Příbram 0:2 (-16\,-23)
DTSTART;TZID=Europe/Berlin:20190106T100000
DTEND;TZID=Europe/Berlin:20190106T120000
LOCATION:Sportovní areál TJ EMĚ Na Polabí
SUMMARY:ST-ZKY-S1: Mělník A-Příbram
END:VEVENT
BEGIN:VEVENT
UID:35653962-3531-4533-b361-656464633835
DTSTAMP:20260422T150332Z
DESCRIPTION:5/50 Mělník A - Nymburk 0:2 (-18\,-23)\nPořadatel: 1 hřiště
DTSTART;TZID=Europe/Berlin:20190120T100000
DTEND;TZID=Europe/Berlin:20190120T120000
LOCATION:Sportovní areál TJ EMĚ Na Polabí
SUMMARY:ST-ZKY-S1: Mělník A-Nymburk
END:VEVENT
BEGIN:VEVENT
UID:65306462-3562-4462-b865-616635373138
DTSTAMP:20260422T150332Z
DESCRIPTION:5/53 Mělník A - Kolín 2:1 (17\,-20\,3)
DTSTART;TZID=Europe/Berlin:20190120T100000
DTEND;TZID=Europe/Berlin:20190120T120000
LOCATION:Sportovní areál TJ EMĚ Na Polabí
SUMMARY:ST-ZKY-S1: Mělník A-Kolín
END:VEVENT
BEGIN:VEVENT
UID:34616263-6636-4230-a435-333364353836
DTSTAMP:20260422T150332Z
DESCRIPTION:6/69 Mělník A - Vavřinec Kladno A 2:1 (-22\,22\,8)
DTSTART;TZID=Europe/Berlin:20190210T100000
DTEND;TZID=Europe/Berlin:20190210T120000
LOCATION:Sportovní areál TJ EMĚ Na Polabí
SUMMARY:ST-ZKY-S1: Mělník A-Vavřinec Kladno A
END:VEVENT
BEGIN:VEVENT
UID:33323663-3639-4136-a231-336232343430
DTSTAMP:20260422T150332Z
DESCRIPTION:8/91 Mělník A - Kralupy A 0:2 (-9\,-13)\nPořadatel: TJ EMĚ Měln
 ík A
DTSTART;TZID=Europe/Berlin:20190319T170000
DTEND;TZID=Europe/Berlin:20190319T190000
LOCATION:Sportovní areál TJ EMĚ Na Polabí
SUMMARY:ST-ZKY-S1: Mělník A-Kralupy A
END:VEVENT
BEGIN:VEVENT
UID:62616432-6634-4961-a436-613563653736
DTSTAMP:20260422T150332Z
DESCRIPTION:8/94 Mělník A - Pečky A 2:0 (21\,25)
DTSTART;TZID=Europe/Berlin:20190316T100000
DTEND;TZID=Europe/Berlin:20190316T120000
LOCATION:Sportovní areál TJ EMĚ Na Polabí
SUMMARY:ST-ZKY-S1: Mělník A-Pečky A
END:VEVENT
BEGIN:VEVENT
UID:35306430-3137-4939-b461-356339613230
DTSTAMP:20260422T150332Z
DESCRIPTION:9/99 Mělník A - Kralupy A 0:2 (-13\,-6)
DTSTART;TZID=Europe/Berlin:20190324T100000
DTEND;TZID=Europe/Berlin:20190324T120000
LOCATION:Sportovní areál TJ EMĚ Na Polabí
SUMMARY:ST-ZKY-S1: Mělník A-Kralupy A
END:VEVENT
BEGIN:VEVENT
UID:64636531-3436-4331-a431-333461356135
DTSTAMP:20260422T150332Z
DESCRIPTION:1/8 Nymburk - Mělník A 2:0 (20\,22)\nPořadatel: 2 hřiště
DTSTART;TZID=Europe/Berlin:20181104T100000
DTEND;TZID=Europe/Berlin:20181104T120000
LOCATION:Zimní stadion Nymburk
SUMMARY:ST-ZKY-S1: Nymburk-Mělník A
END:VEVENT
BEGIN:VEVENT
UID:64396236-3663-4864-a631-303333346162
DTSTAMP:20260422T150332Z
DESCRIPTION:1/9 Vavřinec Kladno A - Mělník A 2:1 (-22\,17\,9)
DTSTART;TZID=Europe/Berlin:20181104T100000
DTEND;TZID=Europe/Berlin:20181104T120000
LOCATION:Kurty: Nám. Jana Opletala 3\, Kladno 4-Rozdělov
SUMMARY:ST-ZKY-S1: Vavřinec Kladno A-Mělník A
END:VEVENT
BEGIN:VEVENT
UID:39393337-3538-4561-b332-336564633337
DTSTAMP:20260422T150332Z
DESCRIPTION:2/14 Kolín - Mělník A 0:2 (-21\,-21)\nPořadatel: 2 hřiště
DTSTART;TZID=Europe/Berlin:20181118T100000
DTEND;TZID=Europe/Berlin:20181118T120000
LOCATION:U chaty\, Borky\, Brankovická
SUMMARY:ST-ZKY-S1: Kolín-Mělník A
END:VEVENT
BEGIN:VEVENT
UID:63383163-3635-4866-a234-373134613431
DTSTAMP:20260422T150332Z
DESCRIPTION:2/15 Příbram - Mělník A 2:0 (28\,21)
DTSTART;TZID=Europe/Berlin:20181118T100000
DTEND;TZID=Europe/Berlin:20181118T120000
LOCATION:Základní škola pod Svatou Horou
SUMMARY:ST-ZKY-S1: Příbram-Mělník A
END:VEVENT
BEGIN:VEVENT
UID:63363461-6564-4639-b133-326133626634
DTSTAMP:20260422T150332Z
DESCRIPTION:3/32 Příbram - Mělník A 2:0 (14\,22)\nPořadatel: 2 hřiště
DTSTART;TZID=Europe/Berlin:20181202T100000
DTEND;TZID=Europe/Berlin:20181202T120000
LOCATION:Základní škola pod Svatou Horou
SUMMARY:ST-ZKY-S1: Příbram-Mělník A
END:VEVENT
BEGIN:VEVENT
UID:38363336-3766-4565-b738-336466666239
DTSTAMP:20260422T150332Z
DESCRIPTION:3/33 Kralupy A - Mělník A 2:0 (11\,6)
DTSTART;TZID=Europe/Berlin:20181202T100000
DTEND;TZID=Europe/Berlin:20181202T120000
LOCATION:ZŠ Generála Klapálka/areál Sokoliště
SUMMARY:ST-ZKY-S1: Kralupy A-Mělník A
END:VEVENT
BEGIN:VEVENT
UID:62663531-3436-4235-b033-363731663538
DTSTAMP:20260422T150332Z
DESCRIPTION:4/48 Komárov - Mělník A 2:1 (22\,-18\,11)
DTSTART;TZID=Europe/Berlin:20190106T100000
DTEND;TZID=Europe/Berlin:20190106T120000
LOCATION:Sokolovna Komárov
SUMMARY:ST-ZKY-S1: Komárov-Mělník A
END:VEVENT
BEGIN:VEVENT
UID:38393263-6365-4932-a332-323265373031
DTSTAMP:20260422T150332Z
DESCRIPTION:5/52 Pečky A - Mělník A 0:2 (-10\,-12)
DTSTART;TZID=Europe/Berlin:20190120T100000
DTEND;TZID=Europe/Berlin:20190120T120000
LOCATION:PARKHALA
SUMMARY:ST-ZKY-S1: Pečky A-Mělník A
END:VEVENT
BEGIN:VEVENT
UID:34393061-6635-4530-b135-396632393761
DTSTAMP:20260422T150332Z
DESCRIPTION:6/67 Pečky A - Mělník A 1:2 (-21\,17\,-7)\nPořadatel: TJ Sparta
 k Pečky A
DTSTART;TZID=Europe/Berlin:20190210T100000
DTEND;TZID=Europe/Berlin:20190210T120000
LOCATION:PARKHALA
SUMMARY:ST-ZKY-S1: Pečky A-Mělník A
END:VEVENT
BEGIN:VEVENT
UID:39633438-3834-4931-a534-393666646534
DTSTAMP:20260422T150332Z
DESCRIPTION:6/71 Komárov - Mělník A 0:2 (-22\,-11)
DTSTART;TZID=Europe/Berlin:20190210T100000
DTEND;TZID=Europe/Berlin:20190210T120000
LOCATION:Sokolovna Komárov
SUMMARY:ST-ZKY-S1: Komárov-Mělník A
END:VEVENT
BEGIN:VEVENT
UID:34326231-6561-4161-b630-323038343064
DTSTAMP:20260422T150332Z
DESCRIPTION:8/96 Hořovice - Mělník A 2:1 (13\,-12\,11)
DTSTART;TZID=Europe/Berlin:20190316T100000
DTEND;TZID=Europe/Berlin:20190316T120000
LOCATION:Městská sportovní hala
SUMMARY:ST-ZKY-S1: Hořovice-Mělník A
END:VEVENT
BEGIN:VEVENT
UID:33633961-6464-4835-a432-383234353361
DTSTAMP:20260422T150332Z
DESCRIPTION:9/97 Kolín - Mělník A 1:2 (-22\,16\,-10)\nPořadatel: SK Volejba
 l Kolín
DTSTART;TZID=Europe/Berlin:20190324T100000
DTEND;TZID=Europe/Berlin:20190324T120000
LOCATION:U chaty\, Borky\, Brankovická
SUMMARY:ST-ZKY-S1: Kolín-Mělník A
END:VEVENT
BEGIN:VEVENT
UID:31633136-3634-4162-b435-333764386439
DTSTAMP:20260422T150332Z
DESCRIPTION:9/101 Komárov - Mělník A 0:2 (-20\,-11)
DTSTART;TZID=Europe/Berlin:20190324T100000
DTEND;TZID=Europe/Berlin:20190324T120000
LOCATION:Sokolovna Komárov
SUMMARY:ST-ZKY-S1: Komárov-Mělník A
END:VEVENT
BEGIN:VEVENT
UID:39393166-6231-4138-a261-666632636131
DTSTAMP:20260422T150332Z
DESCRIPTION:1/4 Mělník A - Kralupy A 0:2 (-6\,-8)
DTSTART;TZID=Europe/Berlin:20190407T120000
DTEND;TZID=Europe/Berlin:20190407T140000
LOCATION:Sportovní areál TJ EMĚ Na Polabí
SUMMARY:ST-ZKY-F1: Mělník A-Kralupy A
END:VEVENT
BEGIN:VEVENT
UID:36313766-3730-4436-b337-623639656664
DTSTAMP:20260422T150332Z
DESCRIPTION:1/8 Mělník A - Příbram 0:2 (-17\,-19)
DTSTART;TZID=Europe/Berlin:20190407T120000
DTEND;TZID=Europe/Berlin:20190407T140000
LOCATION:Sportovní areál TJ EMĚ Na Polabí
SUMMARY:ST-ZKY-F1: Mělník A-Příbram
END:VEVENT
BEGIN:VEVENT
UID:38336461-3536-4565-b538-366430356163
DTSTAMP:20260422T150332Z
DESCRIPTION:1/2 Nymburk - Mělník A 2:0 (18\,13)\nPořadatel: 2 hřiště
DTSTART;TZID=Europe/Berlin:20190407T120000
DTEND;TZID=Europe/Berlin:20190407T140000
LOCATION:Zimní stadion Nymburk
SUMMARY:ST-ZKY-F1: Nymburk-Mělník A
END:VEVENT
BEGIN:VEVENT
UID:37663233-6130-4336-b365-363030653839
DTSTAMP:20260422T150332Z
DESCRIPTION:1/6 Kolín - Mělník A 1:2 (-12\,24\,-10)
DTSTART;TZID=Europe/Berlin:20190407T120000
DTEND;TZID=Europe/Berlin:20190407T140000
LOCATION:U chaty\, Borky\, Brankovická
SUMMARY:ST-ZKY-F1: Kolín-Mělník A
END:VEVENT
END:VCALENDAR
