BEGIN:VCALENDAR
VERSION:2.0
PRODID:-//TJ EMĚ Mělník B57988//NONSGML kigkonsult.se iCalcreator 2.41.80//
CALSCALE:GREGORIAN
UID:62656438-3632-4532-a431-656134623931
BEGIN:VEVENT
UID:66373063-3266-4266-b138-326331623139
DTSTAMP:20260422T164738Z
DESCRIPTION:1/3 Mělník B - Mělník A 0:2 (-17\,-16)
DTSTART;TZID=Europe/Berlin:20180908T100000
DTEND;TZID=Europe/Berlin:20180908T120000
LOCATION:SPŠS Mělník
SUMMARY:ST-ZKY-B: Mělník B-Mělník A
END:VEVENT
BEGIN:VEVENT
UID:64663838-3861-4566-b732-663734353664
DTSTAMP:20260422T164738Z
DESCRIPTION:3/22 Mělník B - Kralupy A 0:2 (-7\,-5)
DTSTART;TZID=Europe/Berlin:20180922T100000
DTEND;TZID=Europe/Berlin:20180922T120000
LOCATION:SPŠS Mělník
SUMMARY:ST-ZKY-B: Mělník B-Kralupy A
END:VEVENT
BEGIN:VEVENT
UID:66346535-6663-4935-b531-323961393938
DTSTAMP:20260422T164738Z
DESCRIPTION:3/25 Mělník B - Kralupy B 0:2 (-20\,-18)
DTSTART;TZID=Europe/Berlin:20180922T100000
DTEND;TZID=Europe/Berlin:20180922T120000
LOCATION:SPŠS Mělník
SUMMARY:ST-ZKY-B: Mělník B-Kralupy B
END:VEVENT
BEGIN:VEVENT
UID:32663235-3262-4738-b632-333261376566
DTSTAMP:20260422T164738Z
DESCRIPTION:3/27 Mělník B - Roztoky 0:2 (-21\,-19)
DTSTART;TZID=Europe/Berlin:20180922T100000
DTEND;TZID=Europe/Berlin:20180922T120000
LOCATION:SPŠS Mělník
SUMMARY:ST-ZKY-B: Mělník B-Roztoky
END:VEVENT
BEGIN:VEVENT
UID:34336538-6230-4235-b366-383764376636
DTSTAMP:20260422T164738Z
DESCRIPTION:1/2 Neratovice - Mělník B 0:2 (-4\,-6)\nPořadatel: 1 hřiště
DTSTART;TZID=Europe/Berlin:20180908T100000
DTEND;TZID=Europe/Berlin:20180908T120000
LOCATION:sportovní hala TJ Neratovice
SUMMARY:ST-ZKY-B: Neratovice-Mělník B
END:VEVENT
BEGIN:VEVENT
UID:31643033-3532-4435-b037-323362646161
DTSTAMP:20260422T164738Z
DESCRIPTION:2/15 Vavřinec Kladno A - Mělník B 2:0 (9\,19)
DTSTART;TZID=Europe/Berlin:20180915T100000
DTEND;TZID=Europe/Berlin:20180915T120000
LOCATION:Kurty: Nám. Jana Opletala 3\, Kladno 4-Rozdělov
SUMMARY:ST-ZKY-B: Vavřinec Kladno A-Mělník B
END:VEVENT
BEGIN:VEVENT
UID:37653534-3437-4932-b430-633136393938
DTSTAMP:20260422T164738Z
DESCRIPTION:2/18 Vavřinec Kladno B - Mělník B 0:2 (-18\,-21)
DTSTART;TZID=Europe/Berlin:20180915T100000
DTEND;TZID=Europe/Berlin:20180915T120000
LOCATION:Kurty: Nám. Jana Opletala 3\, Kladno 4-Rozdělov
SUMMARY:ST-ZKY-B: Vavřinec Kladno B-Mělník B
END:VEVENT
BEGIN:VEVENT
UID:31373662-3361-4935-a335-643163386437
DTSTAMP:20260422T164738Z
DESCRIPTION:1/8 Mělník B - Brandýs nad Labem 2:1 (20\,-20\,12)\nPořadatel: 
 2 hřiště
DTSTART;TZID=Europe/Berlin:20181104T100000
DTEND;TZID=Europe/Berlin:20181104T120000
LOCATION:SPŠS Mělník
SUMMARY:ST-ZKY-S2A: Mělník B-Brandýs nad Labem
END:VEVENT
BEGIN:VEVENT
UID:35613838-3561-4535-b734-386431356464
DTSTAMP:20260422T164738Z
DESCRIPTION:1/11 Mělník B - Mladá Boleslav 2:1 (17\,-18\,12)
DTSTART;TZID=Europe/Berlin:20181104T100000
DTEND;TZID=Europe/Berlin:20181104T120000
LOCATION:SPŠS Mělník
SUMMARY:ST-ZKY-S2A: Mělník B-Mladá Boleslav
END:VEVENT
BEGIN:VEVENT
UID:33366337-3036-4463-b462-653337613535
DTSTAMP:20260422T164738Z
DESCRIPTION:2/21 Mělník B - Kralupy B 1:2 (-15\,19\,-6)
DTSTART;TZID=Europe/Berlin:20181118T100000
DTEND;TZID=Europe/Berlin:20181118T120000
LOCATION:SPŠS Mělník
SUMMARY:ST-ZKY-S2A: Mělník B-Kralupy B
END:VEVENT
BEGIN:VEVENT
UID:34393230-3337-4635-b933-353937636264
DTSTAMP:20260422T164738Z
DESCRIPTION:3/31 Mělník B - Neratovice 2:0 (17\,22)\nPořadatel: TJ EMĚ Měln
 ík B
DTSTART;TZID=Europe/Berlin:20181202T100000
DTEND;TZID=Europe/Berlin:20181202T120000
LOCATION:SPŠS Mělník
SUMMARY:ST-ZKY-S2A: Mělník B-Neratovice
END:VEVENT
BEGIN:VEVENT
UID:62623432-3838-4436-a130-323762373637
DTSTAMP:20260422T164738Z
DESCRIPTION:3/34 Mělník B - Kostomlaty nad Labem 2:0 (10\,11)
DTSTART;TZID=Europe/Berlin:20181202T100000
DTEND;TZID=Europe/Berlin:20181202T120000
LOCATION:SPŠS Mělník
SUMMARY:ST-ZKY-S2A: Mělník B-Kostomlaty nad Labem
END:VEVENT
BEGIN:VEVENT
UID:39313939-6131-4234-b336-653630333366
DTSTAMP:20260422T164738Z
DESCRIPTION:4/38 Mělník B - Brandýs nad Labem 2:1 (-24\,11\,13)\nPořadatel:
  1 hřiště
DTSTART;TZID=Europe/Berlin:20190106T100000
DTEND;TZID=Europe/Berlin:20190106T120000
LOCATION:SPŠS Mělník
SUMMARY:ST-ZKY-S2A: Mělník B-Brandýs nad Labem
END:VEVENT
BEGIN:VEVENT
UID:39653566-3831-4137-b736-376239663830
DTSTAMP:20260422T164738Z
DESCRIPTION:4/41 Mělník B - Kutná Hora 2:0 (5\,19)
DTSTART;TZID=Europe/Berlin:20190106T100000
DTEND;TZID=Europe/Berlin:20190106T120000
LOCATION:SPŠS Mělník
SUMMARY:ST-ZKY-S2A: Mělník B-Kutná Hora
END:VEVENT
BEGIN:VEVENT
UID:39343839-6334-4463-a563-313933653064
DTSTAMP:20260422T164738Z
DESCRIPTION:6/63 Mělník B - Benátky nad Jizerou 0:2 (-21\,-21)
DTSTART;TZID=Europe/Berlin:20190210T100000
DTEND;TZID=Europe/Berlin:20190210T120000
LOCATION:SPŠS Mělník
SUMMARY:ST-ZKY-S2A: Mělník B-Benátky nad Jizerou
END:VEVENT
BEGIN:VEVENT
UID:36393330-6264-4333-b631-366530646462
DTSTAMP:20260422T164738Z
DESCRIPTION:7/84 Mělník B - Brandýs nad Labem 2:0 (19\,21)
DTSTART;TZID=Europe/Berlin:20190309T100000
DTEND;TZID=Europe/Berlin:20190309T120000
LOCATION:SPŠS Mělník
SUMMARY:ST-ZKY-S2A: Mělník B-Brandýs nad Labem
END:VEVENT
BEGIN:VEVENT
UID:31613463-3830-4461-b733-316335636332
DTSTAMP:20260422T164738Z
DESCRIPTION:8/85 Mělník B - Kralupy B 0:2 (-14\,-19)\nPořadatel: TJ EMĚ Měl
 ník B
DTSTART;TZID=Europe/Berlin:20190324T100000
DTEND;TZID=Europe/Berlin:20190324T120000
LOCATION:SPŠS Mělník
SUMMARY:ST-ZKY-S2A: Mělník B-Kralupy B
END:VEVENT
BEGIN:VEVENT
UID:35366136-3362-4062-a330-666534343630
DTSTAMP:20260422T164738Z
DESCRIPTION:8/88 Mělník B - Kutná Hora 2:0 (23\,19)
DTSTART;TZID=Europe/Berlin:20190324T100000
DTEND;TZID=Europe/Berlin:20190324T120000
LOCATION:SPŠS Mělník
SUMMARY:ST-ZKY-S2A: Mělník B-Kutná Hora
END:VEVENT
BEGIN:VEVENT
UID:36313135-3237-4366-b061-366236323963
DTSTAMP:20260422T164738Z
DESCRIPTION:9/104 Mělník B - Benátky nad Jizerou 1:2 (25\,-16\,-12)\nPořada
 tel: 1 hřiště
DTSTART;TZID=Europe/Berlin:20190407T100000
DTEND;TZID=Europe/Berlin:20190407T120000
LOCATION:SPŠS Mělník
SUMMARY:ST-ZKY-S2A: Mělník B-Benátky nad Jizerou
END:VEVENT
BEGIN:VEVENT
UID:37303063-3134-4264-a539-313562353438
DTSTAMP:20260422T164738Z
DESCRIPTION:9/107 Mělník B - Kostomlaty nad Labem 2:0 (18\,20)
DTSTART;TZID=Europe/Berlin:20190407T100000
DTEND;TZID=Europe/Berlin:20190407T120000
LOCATION:SPŠS Mělník
SUMMARY:ST-ZKY-S2A: Mělník B-Kostomlaty nad Labem
END:VEVENT
BEGIN:VEVENT
UID:31373436-3332-4061-a262-303732366265
DTSTAMP:20260422T164738Z
DESCRIPTION:1/10 Benátky nad Jizerou - Mělník B 1:2 (15\,-23\,-11)
DTSTART;TZID=Europe/Berlin:20181104T100000
DTEND;TZID=Europe/Berlin:20181104T120000
LOCATION:Nibe aréna
SUMMARY:ST-ZKY-S2A: Benátky nad Jizerou-Mělník B
END:VEVENT
BEGIN:VEVENT
UID:38396336-3863-4732-b437-663132666639
DTSTAMP:20260422T164738Z
DESCRIPTION:2/19 Neratovice - Mělník B 0:2 (-10\,-9)\nPořadatel: TJ Neratov
 ice
DTSTART;TZID=Europe/Berlin:20181118T100000
DTEND;TZID=Europe/Berlin:20181118T120000
LOCATION:sportovní hala TJ Neratovice
SUMMARY:ST-ZKY-S2A: Neratovice-Mělník B
END:VEVENT
BEGIN:VEVENT
UID:31363363-6262-4830-b263-646532626139
DTSTAMP:20260422T164738Z
DESCRIPTION:2/23 Pečky B - Mělník B 0:2 (-9\,-24)
DTSTART;TZID=Europe/Berlin:20181118T100000
DTEND;TZID=Europe/Berlin:20181118T120000
LOCATION:PARKHALA
SUMMARY:ST-ZKY-S2A: Pečky B-Mělník B
END:VEVENT
BEGIN:VEVENT
UID:64356531-6431-4836-b066-643235306137
DTSTAMP:20260422T164738Z
DESCRIPTION:3/36 Mladá Boleslav - Mělník B 1:2 (22\,-16\,-10)
DTSTART;TZID=Europe/Berlin:20181202T100000
DTEND;TZID=Europe/Berlin:20181202T120000
LOCATION:7.ZŠ
SUMMARY:ST-ZKY-S2A: Mladá Boleslav-Mělník B
END:VEVENT
BEGIN:VEVENT
UID:63653938-3835-4938-b136-343465393539
DTSTAMP:20260422T164738Z
DESCRIPTION:4/40 Pečky B - Mělník B 0:2 (-16\,-17)
DTSTART;TZID=Europe/Berlin:20190106T100000
DTEND;TZID=Europe/Berlin:20190106T120000
LOCATION:PARKHALA
SUMMARY:ST-ZKY-S2A: Pečky B-Mělník B
END:VEVENT
BEGIN:VEVENT
UID:66363165-3138-4763-b966-393332643464
DTSTAMP:20260422T164738Z
DESCRIPTION:6/61 Neratovice - Mělník B 0:2 (-12\,-14)\nPořadatel: TJ Nerato
 vice
DTSTART;TZID=Europe/Berlin:20190210T100000
DTEND;TZID=Europe/Berlin:20190210T120000
LOCATION:sportovní hala TJ Neratovice
SUMMARY:ST-ZKY-S2A: Neratovice-Mělník B
END:VEVENT
BEGIN:VEVENT
UID:64633263-3331-4231-a631-316630633562
DTSTAMP:20260422T164738Z
DESCRIPTION:6/65 Kutná Hora - Mělník B 0:2 (-21\,-5)
DTSTART;TZID=Europe/Berlin:20190210T100000
DTEND;TZID=Europe/Berlin:20190210T120000
LOCATION:Česká 2\, Kutná Hora\, Hala Klimeška\, Čáslavská\, Kutná Hora
SUMMARY:ST-ZKY-S2A: Kutná Hora-Mělník B
END:VEVENT
BEGIN:VEVENT
UID:63356531-3839-4438-a263-663830656232
DTSTAMP:20260422T164738Z
DESCRIPTION:7/80 Kralupy B - Mělník B 2:0 (9\,11)\nPořadatel: 1 hřiště
DTSTART;TZID=Europe/Berlin:20190309T100000
DTEND;TZID=Europe/Berlin:20190309T120000
LOCATION:ZŠ Generála Klapálka/areál Sokoliště
SUMMARY:ST-ZKY-S2A: Kralupy B-Mělník B
END:VEVENT
BEGIN:VEVENT
UID:61326138-3734-4230-a130-303530396362
DTSTAMP:20260422T164738Z
DESCRIPTION:7/81 Kostomlaty nad Labem - Mělník B 0:2 (-23\,-21)
DTSTART;TZID=Europe/Berlin:20190309T100000
DTEND;TZID=Europe/Berlin:20190309T120000
LOCATION:Sokol Kostomlaty - antukové kurty
SUMMARY:ST-ZKY-S2A: Kostomlaty nad Labem-Mělník B
END:VEVENT
BEGIN:VEVENT
UID:37373236-3561-4134-a533-653832393232
DTSTAMP:20260422T164738Z
DESCRIPTION:8/90 Mladá Boleslav - Mělník B 1:2 (-16\,13\,-7)
DTSTART;TZID=Europe/Berlin:20190324T100000
DTEND;TZID=Europe/Berlin:20190324T120000
LOCATION:7.ZŠ
SUMMARY:ST-ZKY-S2A: Mladá Boleslav-Mělník B
END:VEVENT
BEGIN:VEVENT
UID:32396339-6637-4232-a134-303433386137
DTSTAMP:20260422T164738Z
DESCRIPTION:9/106 Pečky B - Mělník B 0:2 (-19\,-18)
DTSTART;TZID=Europe/Berlin:20190407T100000
DTEND;TZID=Europe/Berlin:20190407T120000
LOCATION:PARKHALA
SUMMARY:ST-ZKY-S2A: Pečky B-Mělník B
END:VEVENT
BEGIN:VEVENT
UID:62346538-3863-4235-a134-666137313431
DTSTAMP:20260422T164738Z
DESCRIPTION:1/5 Mělník B - Roztoky 0:2 (-25\,-22)
DTSTART;TZID=Europe/Berlin:20190427T100000
DTEND;TZID=Europe/Berlin:20190427T120000
LOCATION:SPŠS Mělník
SUMMARY:ST-ZKY-F3: Mělník B-Roztoky
END:VEVENT
BEGIN:VEVENT
UID:32393031-3030-4633-a535-636632623031
DTSTAMP:20260422T164738Z
DESCRIPTION:1/10 Mělník B - Komárov 2:0 (23\,17)
DTSTART;TZID=Europe/Berlin:20190427T100000
DTEND;TZID=Europe/Berlin:20190427T120000
LOCATION:SPŠS Mělník
SUMMARY:ST-ZKY-F3: Mělník B-Komárov
END:VEVENT
BEGIN:VEVENT
UID:30363437-3934-4235-b138-373865623665
DTSTAMP:20260422T164738Z
DESCRIPTION:1/3 Rakovník A - Mělník B 1:2 (20\,-20\,-13)
DTSTART;TZID=Europe/Berlin:20190427T100000
DTEND;TZID=Europe/Berlin:20190427T120000
LOCATION:Čermákovy sady
SUMMARY:ST-ZKY-F3: Rakovník A-Mělník B
END:VEVENT
BEGIN:VEVENT
UID:37343231-6365-4238-b533-643830663335
DTSTAMP:20260422T164738Z
DESCRIPTION:1/8 Benátky nad Jizerou - Mělník B 2:0 (21\,21)
DTSTART;TZID=Europe/Berlin:20190427T100000
DTEND;TZID=Europe/Berlin:20190427T120000
LOCATION:Nibe aréna
SUMMARY:ST-ZKY-F3: Benátky nad Jizerou-Mělník B
END:VEVENT
END:VCALENDAR
