BEGIN:VCALENDAR
VERSION:2.0
PRODID:-//TJ Spartak Hořovice57996//NONSGML kigkonsult.se iCalcreator 2.41.80//
CALSCALE:GREGORIAN
UID:66656134-3561-4330-b931-366239653630
BEGIN:VEVENT
UID:63646261-3030-4965-a135-353036663164
DTSTAMP:20260422T205156Z
DESCRIPTION:1/6 Hořovice - Zruč nad Sázavou 2:0 (17\,16)
DTSTART;TZID=Europe/Berlin:20180908T100000
DTEND;TZID=Europe/Berlin:20180908T120000
LOCATION:Městská sportovní hala
SUMMARY:ST-ZKY-C: Hořovice-Zruč nad Sázavou
END:VEVENT
BEGIN:VEVENT
UID:32623835-3664-4233-b732-353533363366
DTSTAMP:20260422T205156Z
DESCRIPTION:1/9 Hořovice - VK Benešovská 2:1 (-29\,16\,8)
DTSTART;TZID=Europe/Berlin:20180908T100000
DTEND;TZID=Europe/Berlin:20180908T120000
LOCATION:Městská sportovní hala
SUMMARY:ST-ZKY-C: Hořovice-VK Benešovská
END:VEVENT
BEGIN:VEVENT
UID:31393439-3263-4166-b439-326236396631
DTSTAMP:20260422T205156Z
DESCRIPTION:1/11 Hořovice - Kunice 2:0 (7\,9)
DTSTART;TZID=Europe/Berlin:20180908T100000
DTEND;TZID=Europe/Berlin:20180908T120000
LOCATION:Městská sportovní hala
SUMMARY:ST-ZKY-C: Hořovice-Kunice
END:VEVENT
BEGIN:VEVENT
UID:65626232-3935-4131-b833-666465333233
DTSTAMP:20260422T205156Z
DESCRIPTION:2/13 Hořovice - Rakovník A 2:0 (14\,3)\nPořadatel: TJ Spartak H
 ořovice
DTSTART;TZID=Europe/Berlin:20180915T100000
DTEND;TZID=Europe/Berlin:20180915T120000
LOCATION:Městská sportovní hala
SUMMARY:ST-ZKY-C: Hořovice-Rakovník A
END:VEVENT
BEGIN:VEVENT
UID:34643063-6466-4132-b737-633136343864
DTSTAMP:20260422T205156Z
DESCRIPTION:2/15 Rakovník B - Hořovice 0:2 (-8\,-7)
DTSTART;TZID=Europe/Berlin:20180915T100000
DTEND;TZID=Europe/Berlin:20180915T120000
LOCATION:Čermákovy sady
SUMMARY:ST-ZKY-C: Rakovník B-Hořovice
END:VEVENT
BEGIN:VEVENT
UID:62626531-3030-4762-b637-383363653438
DTSTAMP:20260422T205156Z
DESCRIPTION:3/28 Komárov - Hořovice 2:1 (12\,-16\,10)\nPořadatel: TJ Sokol 
 Komárov
DTSTART;TZID=Europe/Berlin:20180922T100000
DTEND;TZID=Europe/Berlin:20180922T120000
LOCATION:Sokolovna Komárov
SUMMARY:ST-ZKY-C: Komárov-Hořovice
END:VEVENT
BEGIN:VEVENT
UID:62363464-6238-4537-b363-346234363037
DTSTAMP:20260422T205156Z
DESCRIPTION:3/31 Králův Dvůr - Hořovice 0:2 (-17\,-18)
DTSTART;TZID=Europe/Berlin:20180922T100000
DTEND;TZID=Europe/Berlin:20180922T120000
LOCATION:SOŠ a SOU HLINKY
SUMMARY:ST-ZKY-C: Králův Dvůr-Hořovice
END:VEVENT
BEGIN:VEVENT
UID:62376538-3631-4330-a331-356263646265
DTSTAMP:20260422T205156Z
DESCRIPTION:3/35 Příbram - Hořovice 2:0 (18\,23)
DTSTART;TZID=Europe/Berlin:20180922T100000
DTEND;TZID=Europe/Berlin:20180922T120000
LOCATION:Základní škola pod Svatou Horou
SUMMARY:ST-ZKY-C: Příbram-Hořovice
END:VEVENT
BEGIN:VEVENT
UID:65356636-6661-4265-b134-633135353362
DTSTAMP:20260422T205156Z
DESCRIPTION:1/1 Hořovice - Benátky nad Jizerou 2:0 (8\,20)\nPořadatel: TJ S
 partak Hořovice (v Komárově)
DTSTART;TZID=Europe/Berlin:20181006T100000
DTEND;TZID=Europe/Berlin:20181006T120000
LOCATION:Městská sportovní hala
SUMMARY:ST-ZKY-DA: Hořovice-Benátky nad Jizerou
END:VEVENT
BEGIN:VEVENT
UID:65333934-6666-4335-a361-303164643732
DTSTAMP:20260422T205156Z
DESCRIPTION:1/5 Mělník A - Hořovice 0:2 (-19\,-24)
DTSTART;TZID=Europe/Berlin:20181006T100000
DTEND;TZID=Europe/Berlin:20181006T120000
LOCATION:Sportovní areál TJ EMĚ Na Polabí
SUMMARY:ST-ZKY-DA: Mělník A-Hořovice
END:VEVENT
BEGIN:VEVENT
UID:64393265-3663-4738-b537-623563393165
DTSTAMP:20260422T205156Z
DESCRIPTION:1/7 Hořovice - Vavřinec Kladno A 0:2 (-22\,-16)\nPořadatel: TJ 
 Spartak Hořovice
DTSTART;TZID=Europe/Berlin:20181104T100000
DTEND;TZID=Europe/Berlin:20181104T120000
LOCATION:Městská sportovní hala
SUMMARY:ST-ZKY-S1: Hořovice-Vavřinec Kladno A
END:VEVENT
BEGIN:VEVENT
UID:36303138-3337-4262-b965-623132346139
DTSTAMP:20260422T205156Z
DESCRIPTION:1/10 Hořovice - Nymburk 1:2 (-20\,22\,-11)
DTSTART;TZID=Europe/Berlin:20181104T100000
DTEND;TZID=Europe/Berlin:20181104T120000
LOCATION:Městská sportovní hala
SUMMARY:ST-ZKY-S1: Hořovice-Nymburk
END:VEVENT
BEGIN:VEVENT
UID:30343936-3230-4635-a638-386633653435
DTSTAMP:20260422T205156Z
DESCRIPTION:2/13 Hořovice - Příbram 1:2 (-11\,14\,-13)\nPořadatel: TJ Spart
 ak Hořovice
DTSTART;TZID=Europe/Berlin:20181118T100000
DTEND;TZID=Europe/Berlin:20181118T120000
LOCATION:Městská sportovní hala
SUMMARY:ST-ZKY-S1: Hořovice-Příbram
END:VEVENT
BEGIN:VEVENT
UID:30333065-3863-4634-b032-666539323431
DTSTAMP:20260422T205156Z
DESCRIPTION:2/16 Hořovice - Kolín 0:2 (-10\,-19)
DTSTART;TZID=Europe/Berlin:20181118T100000
DTEND;TZID=Europe/Berlin:20181118T120000
LOCATION:Městská sportovní hala
SUMMARY:ST-ZKY-S1: Hořovice-Kolín
END:VEVENT
BEGIN:VEVENT
UID:61333335-3261-4637-b761-626133393938
DTSTAMP:20260422T205156Z
DESCRIPTION:3/30 Hořovice - Kolín 2:1 (22\,-20\,12)
DTSTART;TZID=Europe/Berlin:20181202T100000
DTEND;TZID=Europe/Berlin:20181202T120000
LOCATION:Městská sportovní hala
SUMMARY:ST-ZKY-S1: Hořovice-Kolín
END:VEVENT
BEGIN:VEVENT
UID:66653963-6432-4734-a230-363761643036
DTSTAMP:20260422T205156Z
DESCRIPTION:4/42 Hořovice - Vavřinec Kladno A 2:1 (20\,-23\,12)
DTSTART;TZID=Europe/Berlin:20190106T100000
DTEND;TZID=Europe/Berlin:20190106T120000
LOCATION:Městská sportovní hala
SUMMARY:ST-ZKY-S1: Hořovice-Vavřinec Kladno A
END:VEVENT
BEGIN:VEVENT
UID:63363232-6434-4234-a432-623037656634
DTSTAMP:20260422T205156Z
DESCRIPTION:5/55 Hořovice - Příbram 0:2 (-15\,-21)\nPořadatel: TJ Spartak H
 ořovice
DTSTART;TZID=Europe/Berlin:20190120T100000
DTEND;TZID=Europe/Berlin:20190120T120000
LOCATION:Městská sportovní hala
SUMMARY:ST-ZKY-S1: Hořovice-Příbram
END:VEVENT
BEGIN:VEVENT
UID:32626434-3364-4739-b439-306639663833
DTSTAMP:20260422T205156Z
DESCRIPTION:5/58 Hořovice - Vavřinec Kladno A 2:0 (20\,17)
DTSTART;TZID=Europe/Berlin:20190120T100000
DTEND;TZID=Europe/Berlin:20190120T120000
LOCATION:Městská sportovní hala
SUMMARY:ST-ZKY-S1: Hořovice-Vavřinec Kladno A
END:VEVENT
BEGIN:VEVENT
UID:30636362-3366-4839-b238-653065616333
DTSTAMP:20260422T205156Z
DESCRIPTION:7/81 Hořovice - Kralupy A 0:2 (-8\,-10)
DTSTART;TZID=Europe/Berlin:20190303T100000
DTEND;TZID=Europe/Berlin:20190303T120000
LOCATION:Městská sportovní hala
SUMMARY:ST-ZKY-S1: Hořovice-Kralupy A
END:VEVENT
BEGIN:VEVENT
UID:38653530-3839-4339-a635-303936303832
DTSTAMP:20260422T205156Z
DESCRIPTION:8/96 Hořovice - Mělník A 2:1 (13\,-12\,11)
DTSTART;TZID=Europe/Berlin:20190316T100000
DTEND;TZID=Europe/Berlin:20190316T120000
LOCATION:Městská sportovní hala
SUMMARY:ST-ZKY-S1: Hořovice-Mělník A
END:VEVENT
BEGIN:VEVENT
UID:64656139-6430-4931-a665-663630353663
DTSTAMP:20260422T205156Z
DESCRIPTION:9/104 Hořovice - Příbram 0:2 (-14\,-16)\nPořadatel: 2 hřiště
DTSTART;TZID=Europe/Berlin:20190324T100000
DTEND;TZID=Europe/Berlin:20190324T120000
LOCATION:Městská sportovní hala
SUMMARY:ST-ZKY-S1: Hořovice-Příbram
END:VEVENT
BEGIN:VEVENT
UID:35613762-3234-4266-b439-626231303532
DTSTAMP:20260422T205156Z
DESCRIPTION:9/107 Hořovice - Pečky A 1:2 (17\,-16\,-12)
DTSTART;TZID=Europe/Berlin:20190324T100000
DTEND;TZID=Europe/Berlin:20190324T120000
LOCATION:Městská sportovní hala
SUMMARY:ST-ZKY-S1: Hořovice-Pečky A
END:VEVENT
BEGIN:VEVENT
UID:64323161-3565-4637-b239-316366623336
DTSTAMP:20260422T205156Z
DESCRIPTION:1/12 Mělník A - Hořovice 1:2 (-22\,10\,-10)
DTSTART;TZID=Europe/Berlin:20181104T100000
DTEND;TZID=Europe/Berlin:20181104T120000
LOCATION:Sportovní areál TJ EMĚ Na Polabí
SUMMARY:ST-ZKY-S1: Mělník A-Hořovice
END:VEVENT
BEGIN:VEVENT
UID:64643863-3235-4634-b064-613061383336
DTSTAMP:20260422T205156Z
DESCRIPTION:2/18 Mělník A - Hořovice 2:1 (-28\,23\,9)
DTSTART;TZID=Europe/Berlin:20181118T100000
DTEND;TZID=Europe/Berlin:20181118T120000
LOCATION:Sportovní areál TJ EMĚ Na Polabí
SUMMARY:ST-ZKY-S1: Mělník A-Hořovice
END:VEVENT
BEGIN:VEVENT
UID:33303265-6465-4932-b438-373930613964
DTSTAMP:20260422T205156Z
DESCRIPTION:3/26 Komárov - Hořovice 0:2 (-12\,-18)\nPořadatel: 2 hřiště
DTSTART;TZID=Europe/Berlin:20181202T100000
DTEND;TZID=Europe/Berlin:20181202T120000
LOCATION:Sokolovna Komárov
SUMMARY:ST-ZKY-S1: Komárov-Hořovice
END:VEVENT
BEGIN:VEVENT
UID:66323362-6364-4432-a261-616639323434
DTSTAMP:20260422T205156Z
DESCRIPTION:3/27 Pečky A - Hořovice 0:2 (-17\,-19)
DTSTART;TZID=Europe/Berlin:20181202T100000
DTEND;TZID=Europe/Berlin:20181202T120000
LOCATION:PARKHALA
SUMMARY:ST-ZKY-S1: Pečky A-Hořovice
END:VEVENT
BEGIN:VEVENT
UID:63363966-3130-4631-b864-613262323932
DTSTAMP:20260422T205156Z
DESCRIPTION:4/38 Kolín - Hořovice 2:0 (21\,15)\nPořadatel: 2 hřiště
DTSTART;TZID=Europe/Berlin:20190106T100000
DTEND;TZID=Europe/Berlin:20190106T120000
LOCATION:U chaty\, Borky\, Brankovická
SUMMARY:ST-ZKY-S1: Kolín-Hořovice
END:VEVENT
BEGIN:VEVENT
UID:31326238-6138-4233-b532-663661663334
DTSTAMP:20260422T205156Z
DESCRIPTION:4/39 Kralupy A - Hořovice 2:0 (8\,11)
DTSTART;TZID=Europe/Berlin:20190106T100000
DTEND;TZID=Europe/Berlin:20190106T120000
LOCATION:ZŠ Generála Klapálka/areál Sokoliště
SUMMARY:ST-ZKY-S1: Kralupy A-Hořovice
END:VEVENT
BEGIN:VEVENT
UID:39323132-6265-4662-b438-336234323162
DTSTAMP:20260422T205156Z
DESCRIPTION:5/60 Komárov - Hořovice 0:2 (-14\,-19)
DTSTART;TZID=Europe/Berlin:20190120T100000
DTEND;TZID=Europe/Berlin:20190120T120000
LOCATION:Sokolovna Komárov
SUMMARY:ST-ZKY-S1: Komárov-Hořovice
END:VEVENT
BEGIN:VEVENT
UID:39356336-6430-4731-a235-396130656331
DTSTAMP:20260422T205156Z
DESCRIPTION:7/79 Komárov - Hořovice 1:2 (-21\,22\,-11)\nPořadatel: TJ Sokol
  Komárov
DTSTART;TZID=Europe/Berlin:20190303T100000
DTEND;TZID=Europe/Berlin:20190303T120000
LOCATION:Sokolovna Komárov
SUMMARY:ST-ZKY-S1: Komárov-Hořovice
END:VEVENT
BEGIN:VEVENT
UID:66316231-3733-4635-b938-623935326633
DTSTAMP:20260422T205156Z
DESCRIPTION:7/83 Nymburk - Hořovice 2:1 (-20\,10\,11)
DTSTART;TZID=Europe/Berlin:20190303T100000
DTEND;TZID=Europe/Berlin:20190303T120000
LOCATION:Zimní stadion Nymburk
SUMMARY:ST-ZKY-S1: Nymburk-Hořovice
END:VEVENT
BEGIN:VEVENT
UID:63316239-6133-4630-a139-646566383833
DTSTAMP:20260422T205156Z
DESCRIPTION:8/92 Pečky A - Hořovice 0:2 (-17\,-20)\nPořadatel: 2 hřiště
DTSTART;TZID=Europe/Berlin:20190316T100000
DTEND;TZID=Europe/Berlin:20190316T120000
LOCATION:PARKHALA
SUMMARY:ST-ZKY-S1: Pečky A-Hořovice
END:VEVENT
BEGIN:VEVENT
UID:34666130-3238-4137-b863-373834313330
DTSTAMP:20260422T205156Z
DESCRIPTION:8/93 Kralupy A - Hořovice 2:0 (11\,19)
DTSTART;TZID=Europe/Berlin:20190303T100000
DTEND;TZID=Europe/Berlin:20190303T120000
LOCATION:ZŠ Generála Klapálka/areál Sokoliště
SUMMARY:ST-ZKY-S1: Kralupy A-Hořovice
END:VEVENT
BEGIN:VEVENT
UID:64656262-6662-4738-b162-336666643430
DTSTAMP:20260422T205156Z
DESCRIPTION:9/106 Nymburk - Hořovice 2:0 (10\,24)
DTSTART;TZID=Europe/Berlin:20190324T100000
DTEND;TZID=Europe/Berlin:20190324T120000
LOCATION:Zimní stadion Nymburk
SUMMARY:ST-ZKY-S1: Nymburk-Hořovice
END:VEVENT
BEGIN:VEVENT
UID:31366162-3931-4366-b938-613732353332
DTSTAMP:20260422T205156Z
DESCRIPTION:1/1 Hořovice - VK Benešovská 2:0 (18\,23)\nPořadatel: TJ Sparta
 k Hořovice
DTSTART;TZID=Europe/Berlin:20190427T100000
DTEND;TZID=Europe/Berlin:20190427T120000
LOCATION:Městská sportovní hala
SUMMARY:ST-ZKY-F2: Hořovice-VK Benešovská
END:VEVENT
BEGIN:VEVENT
UID:61353432-6432-4538-b935-316563656561
DTSTAMP:20260422T205156Z
DESCRIPTION:1/7 Hořovice - Vavřinec Kladno A 0:2 (-22\,-18)
DTSTART;TZID=Europe/Berlin:20190427T100000
DTEND;TZID=Europe/Berlin:20190427T120000
LOCATION:Městská sportovní hala
SUMMARY:ST-ZKY-F2: Hořovice-Vavřinec Kladno A
END:VEVENT
BEGIN:VEVENT
UID:31303462-6562-4437-b866-666561326631
DTSTAMP:20260422T205156Z
DESCRIPTION:1/4 Kralupy B - Hořovice 2:0 (20\,19)
DTSTART;TZID=Europe/Berlin:20190427T100000
DTEND;TZID=Europe/Berlin:20190427T120000
LOCATION:ZŠ Generála Klapálka/areál Sokoliště
SUMMARY:ST-ZKY-F2: Kralupy B-Hořovice
END:VEVENT
BEGIN:VEVENT
UID:31613663-3265-4664-b562-623165373930
DTSTAMP:20260422T205156Z
DESCRIPTION:1/10 Pečky A - Hořovice 2:0 (13\,18)
DTSTART;TZID=Europe/Berlin:20190427T100000
DTEND;TZID=Europe/Berlin:20190427T120000
LOCATION:PARKHALA
SUMMARY:ST-ZKY-F2: Pečky A-Hořovice
END:VEVENT
END:VCALENDAR
