BEGIN:VCALENDAR
VERSION:2.0
PRODID:-//TJ ČZU Praha A58736//NONSGML kigkonsult.se iCalcreator 2.41.80//
CALSCALE:GREGORIAN
UID:64333265-3333-4533-b839-376462326332
BEGIN:VEVENT
UID:39666631-3334-4462-b762-303663353133
DTSTAMP:20260421T133352Z
DESCRIPTION:1/1 ČZU A - Nusle B 3:0 (22\,19\,18)
DTSTART;TZID=Europe/Berlin:20181010T203000
DTEND;TZID=Europe/Berlin:20181010T223000
LOCATION:SH areálu ČZU
SUMMARY:Z: ČZU A-Nusle B
END:VEVENT
BEGIN:VEVENT
UID:66343637-6663-4561-b735-633733336239
DTSTAMP:20260421T133352Z
DESCRIPTION:2/10 ČZU A - Meteor A 3:1 (21\,-18\,17\,17)
DTSTART;TZID=Europe/Berlin:20181017T203000
DTEND;TZID=Europe/Berlin:20181017T223000
LOCATION:SH areálu ČZU
SUMMARY:Z: ČZU A-Meteor A
END:VEVENT
BEGIN:VEVENT
UID:61366639-3337-4639-b737-646533313039
DTSTAMP:20260421T133352Z
DESCRIPTION:4/19 ČZU A - Žižkov C 3:0 (17\,20\,18)
DTSTART;TZID=Europe/Berlin:20181031T203000
DTEND;TZID=Europe/Berlin:20181031T223000
LOCATION:SH areálu ČZU
SUMMARY:Z: ČZU A-Žižkov C
END:VEVENT
BEGIN:VEVENT
UID:39613737-6235-4362-b630-366431313762
DTSTAMP:20260421T133352Z
DESCRIPTION:6/28 ČZU A - Vršovice A 3:1 (17\,-25\,15\,19)
DTSTART;TZID=Europe/Berlin:20181114T203000
DTEND;TZID=Europe/Berlin:20181114T223000
LOCATION:SH areálu ČZU
SUMMARY:Z: ČZU A-Vršovice A
END:VEVENT
BEGIN:VEVENT
UID:64393164-6564-4431-b139-353265346662
DTSTAMP:20260421T133352Z
DESCRIPTION:8/37 ČZU A - MFF A 3:1 (-18\,24\,23\,11)
DTSTART;TZID=Europe/Berlin:20181128T203000
DTEND;TZID=Europe/Berlin:20181128T223000
LOCATION:SH areálu ČZU
SUMMARY:Z: ČZU A-MFF A
END:VEVENT
BEGIN:VEVENT
UID:34373530-6362-4133-a534-346238373839
DTSTAMP:20260421T133352Z
DESCRIPTION:12/57 ČZU A - Modřany 3:1 (-17\,23\,20\,17)
DTSTART;TZID=Europe/Berlin:20190130T203000
DTEND;TZID=Europe/Berlin:20190130T223000
LOCATION:SH areálu ČZU
SUMMARY:Z: ČZU A-Modřany
END:VEVENT
BEGIN:VEVENT
UID:30623564-3338-4430-b934-363631663736
DTSTAMP:20260421T133352Z
DESCRIPTION:14/68 ČZU A - Braník A 3:1 (22\,-18\,23\,18)
DTSTART;TZID=Europe/Berlin:20190227T203000
DTEND;TZID=Europe/Berlin:20190227T223000
LOCATION:SH areálu ČZU
SUMMARY:Z: ČZU A-Braník A
END:VEVENT
BEGIN:VEVENT
UID:61323962-6265-4530-b662-373462373764
DTSTAMP:20260421T133352Z
DESCRIPTION:16/79 ČZU A - Meteor C 0:3 (-20\,-20\,-14)
DTSTART;TZID=Europe/Berlin:20190313T203000
DTEND;TZID=Europe/Berlin:20190313T223000
LOCATION:SH areálu ČZU
SUMMARY:Z: ČZU A-Meteor C
END:VEVENT
BEGIN:VEVENT
UID:32373035-3163-4861-a365-343839633765
DTSTAMP:20260421T133352Z
DESCRIPTION:18/90 ČZU A - Praga 3:1 (-22\,14\,20\,16)
DTSTART;TZID=Europe/Berlin:20190327T203000
DTEND;TZID=Europe/Berlin:20190327T223000
LOCATION:SH areálu ČZU
SUMMARY:Z: ČZU A-Praga
END:VEVENT
BEGIN:VEVENT
UID:62326664-3365-4439-b839-653533636138
DTSTAMP:20260421T133352Z
DESCRIPTION:3/12 Modřany - ČZU A 2:3 (18\,-26\,15\,-18\,-11)
DTSTART;TZID=Europe/Berlin:20181023T203000
DTEND;TZID=Europe/Berlin:20181023T223000
LOCATION:ZŠ Rakovského
SUMMARY:Z: Modřany-ČZU A
END:VEVENT
BEGIN:VEVENT
UID:64343938-6364-4866-a230-386164633466
DTSTAMP:20260421T133352Z
DESCRIPTION:5/23 Braník A - ČZU A 0:3 (-24\,-12\,-18)
DTSTART;TZID=Europe/Berlin:20181107T182000
DTEND;TZID=Europe/Berlin:20181107T202000
LOCATION:tělocvična TJ Sokol Braník
SUMMARY:Z: Braník A-ČZU A
END:VEVENT
BEGIN:VEVENT
UID:36636133-6131-4539-b537-313865393461
DTSTAMP:20260421T133352Z
DESCRIPTION:7/34 Meteor C - ČZU A 0:3 (-15\,-23\,-19)
DTSTART;TZID=Europe/Berlin:20181121T202000
DTEND;TZID=Europe/Berlin:20181121T222000
LOCATION:ZŠ Na Šutce
SUMMARY:Z: Meteor C-ČZU A
END:VEVENT
BEGIN:VEVENT
UID:61633733-6131-4534-b234-373064336464
DTSTAMP:20260421T133352Z
DESCRIPTION:9/45 Praga - ČZU A 0:3 (-20\,-13\,-19)
DTSTART;TZID=Europe/Berlin:20181206T182000
DTEND;TZID=Europe/Berlin:20181206T202000
LOCATION:Tělocvična Sokola Braník I.
SUMMARY:Z: Praga-ČZU A
END:VEVENT
BEGIN:VEVENT
UID:36313438-6161-4136-a137-316339306131
DTSTAMP:20260421T133352Z
DESCRIPTION:10/46 Nusle B - ČZU A 3:1 (-22\,25\,14\,24)
DTSTART;TZID=Europe/Berlin:20190117T203000
DTEND;TZID=Europe/Berlin:20190117T223000
LOCATION:Tělocvična TJ Sokol Nusle
SUMMARY:Z: Nusle B-ČZU A
END:VEVENT
BEGIN:VEVENT
UID:66336433-6232-4531-b531-393034386563
DTSTAMP:20260421T133352Z
DESCRIPTION:11/55 Meteor A - ČZU A 1:3 (18\,-22\,-16\,-21)
DTSTART;TZID=Europe/Berlin:20190123T202000
DTEND;TZID=Europe/Berlin:20190123T222000
LOCATION:ZŠ Na Šutce
SUMMARY:Z: Meteor A-ČZU A
END:VEVENT
BEGIN:VEVENT
UID:32373163-3263-4633-b631-303966373930
DTSTAMP:20260421T133352Z
DESCRIPTION:13/64 Žižkov C - ČZU A 1:3 (-19\,-20\,23\,-21)
DTSTART;TZID=Europe/Berlin:20190207T203000
DTEND;TZID=Europe/Berlin:20190207T223000
LOCATION:Sportovní hala TJ Sokol Žižkov
SUMMARY:Z: Žižkov C-ČZU A
END:VEVENT
BEGIN:VEVENT
UID:61393838-3136-4433-b965-613239653934
DTSTAMP:20260421T133352Z
DESCRIPTION:15/73 Vršovice A - ČZU A 1:3 (24\,-14\,-22\,-22)
DTSTART;TZID=Europe/Berlin:20190304T201500
DTEND;TZID=Europe/Berlin:20190304T221500
LOCATION:Sokolovna Vršovice
SUMMARY:Z: Vršovice A-ČZU A
END:VEVENT
BEGIN:VEVENT
UID:30653964-6535-4666-b566-346330653931
DTSTAMP:20260421T133352Z
DESCRIPTION:17/82 MFF A - ČZU A 3:0 (9\,11\,11)
DTSTART;TZID=Europe/Berlin:20190319T201500
DTEND;TZID=Europe/Berlin:20190319T221500
LOCATION:tělocvična ZŠ Ohradní
SUMMARY:Z: MFF A-ČZU A
END:VEVENT
END:VCALENDAR
