BEGIN:VCALENDAR
VERSION:2.0
PRODID:-//Tělovýchovná jednota Bižuterie, z.s. C59602//NONSGML kigkonsult.se iCalcreator 2.41.80//
CALSCALE:GREGORIAN
UID:61653463-3039-4562-a331-656263623132
BEGIN:VEVENT
UID:30613132-3433-4031-b361-306635623365
DTSTAMP:20260421T111222Z
DESCRIPTION:1/1 Tělovýchovná jednota Bižuterie\, z.s. C - TJ VK DUKLA LIBER
 EC z.s. C 1:2 (-16\,11\,-10)
DTSTART;TZID=Europe/Berlin:20181110T083000
DTEND;TZID=Europe/Berlin:20181110T103000
SUMMARY:LIB-ZKYM-4-1B: Tělovýchovná jednota Bižuterie\, z.s. C-TJ VK DUKLA 
 LIBEREC z.s. C
END:VEVENT
BEGIN:VEVENT
UID:38626130-3065-4438-b739-303061303964
DTSTAMP:20260421T111222Z
DESCRIPTION:7/7 Tělovýchovná jednota Bižuterie\, z.s. C - USK Slavia Libere
 c z.s.  0:2 (-2\,-11)
DTSTART;TZID=Europe/Berlin:20181110T143000
DTEND;TZID=Europe/Berlin:20181110T163000
SUMMARY:LIB-ZKYM-4-1B: Tělovýchovná jednota Bižuterie\, z.s. C-USK Slavia L
 iberec z.s.
END:VEVENT
BEGIN:VEVENT
UID:33336534-6262-4663-b564-636439383138
DTSTAMP:20260421T111222Z
DESCRIPTION:4/4 Schrödingerův institut Varnsdorf A - Tělovýchovná jednota B
 ižuterie\, z.s. C 2:0 (1\,4)
DTSTART;TZID=Europe/Berlin:20181110T113000
DTEND;TZID=Europe/Berlin:20181110T133000
SUMMARY:LIB-ZKYM-4-1B: Schrödingerův institut Varnsdorf A-Tělovýchovná jedn
 ota Bižuterie\, z.s. C
END:VEVENT
BEGIN:VEVENT
UID:65376561-6163-4431-b766-373466333666
DTSTAMP:20260421T111222Z
DESCRIPTION:10/10 SK Ještědská Liberec z.s. A - Tělovýchovná jednota Bižute
 rie\, z.s. C 2:1 (-18\,10\,8)
DTSTART;TZID=Europe/Berlin:20181110T173000
DTEND;TZID=Europe/Berlin:20181110T193000
SUMMARY:LIB-ZKYM-4-1B: SK Ještědská Liberec z.s. A-Tělovýchovná jednota Biž
 uterie\, z.s. C
END:VEVENT
END:VCALENDAR
