BEGIN:VCALENDAR
VERSION:2.0
PRODID:-//TJ VK DUKLA LIBEREC z.s. C59605//NONSGML kigkonsult.se iCalcreator 2.41.80//
CALSCALE:GREGORIAN
UID:65343630-3732-4437-b238-366632346636
BEGIN:VEVENT
UID:33373961-6139-4730-b339-613632383261
DTSTAMP:20260421T125019Z
DESCRIPTION:3/3 TJ VK DUKLA LIBEREC z.s. C - SK Ještědská Liberec z.s. A 0:
 2 (-14\,-9)
DTSTART;TZID=Europe/Berlin:20181110T103000
DTEND;TZID=Europe/Berlin:20181110T123000
SUMMARY:LIB-ZKYM-4-1B: TJ VK DUKLA LIBEREC z.s. C-SK Ještědská Liberec z.s.
  A
END:VEVENT
BEGIN:VEVENT
UID:63666530-3261-4532-a437-343436633833
DTSTAMP:20260421T125019Z
DESCRIPTION:9/9 TJ VK DUKLA LIBEREC z.s. C - USK Slavia Liberec z.s.  2:1 (
 13\,-9\,15)
DTSTART;TZID=Europe/Berlin:20181110T163000
DTEND;TZID=Europe/Berlin:20181110T183000
SUMMARY:LIB-ZKYM-4-1B: TJ VK DUKLA LIBEREC z.s. C-USK Slavia Liberec z.s.
END:VEVENT
BEGIN:VEVENT
UID:36336531-3565-4235-b738-316636633235
DTSTAMP:20260421T125019Z
DESCRIPTION:1/1 Tělovýchovná jednota Bižuterie\, z.s. C - TJ VK DUKLA LIBER
 EC z.s. C 1:2 (-16\,11\,-10)
DTSTART;TZID=Europe/Berlin:20181110T083000
DTEND;TZID=Europe/Berlin:20181110T103000
SUMMARY:LIB-ZKYM-4-1B: Tělovýchovná jednota Bižuterie\, z.s. C-TJ VK DUKLA 
 LIBEREC z.s. C
END:VEVENT
BEGIN:VEVENT
UID:34623233-6135-4265-b337-393638623265
DTSTAMP:20260421T125019Z
DESCRIPTION:6/6 Schrödingerův institut Varnsdorf A - TJ VK DUKLA LIBEREC z.
 s. C 2:0 (3\,4)
DTSTART;TZID=Europe/Berlin:20181110T133000
DTEND;TZID=Europe/Berlin:20181110T153000
SUMMARY:LIB-ZKYM-4-1B: Schrödingerův institut Varnsdorf A-TJ VK DUKLA LIBER
 EC z.s. C
END:VEVENT
END:VCALENDAR
