BEGIN:VCALENDAR
VERSION:2.0
PRODID:-//TJ Spartak Uherský Brod, z.s.73405//NONSGML kigkonsult.se iCalcreator 2.41.80//
CALSCALE:GREGORIAN
UID:31363638-3739-4435-a234-343365623365
BEGIN:VEVENT
UID:33663265-6562-4664-a336-643662623335
DTSTAMP:20260422T014827Z
DESCRIPTION:3/6 TJ Spartak Uherský Brod\, z.s. - TJ Rožnov pod Radhoštěm\, 
 spolek 2:0 (0\,0)
DTSTART;TZID=Europe/Berlin:20200913T110000
DTEND;TZID=Europe/Berlin:20200913T130000
LOCATION:TJ SPARTAK UHERSKÝ BROD z.s.\, U Stadionu 2295 Uherský Brod
SUMMARY:PKVS-ZKY-A1: TJ Spartak Uherský Brod\, z.s.-TJ Rožnov pod Radhoštěm
 \, spolek
END:VEVENT
BEGIN:VEVENT
UID:32616535-3964-4232-a665-623432653038
DTSTAMP:20260422T014827Z
DESCRIPTION:1/2 ŠSK Brumov-Bylnice A - TJ Spartak Uherský Brod\, z.s. 0:2 (
 -22\,-14)
DTSTART;TZID=Europe/Berlin:20200913T090000
DTEND;TZID=Europe/Berlin:20200913T110000
LOCATION:Sportovní hala Slavičín\, Školní 29 Slavičín
SUMMARY:PKVS-ZKY-A1: ŠSK Brumov-Bylnice A-TJ Spartak Uherský Brod\, z.s.
END:VEVENT
BEGIN:VEVENT
UID:34313831-3337-4536-b234-663530643834
DTSTAMP:20260422T014827Z
DESCRIPTION:2/3 TĚLOVÝCHOVNÁ JEDNOTA NIVNICE z.s. - TJ Spartak Uherský Brod
 \, z.s. 1:2 (18\,-20\,-12)
DTSTART;TZID=Europe/Berlin:20200913T100000
DTEND;TZID=Europe/Berlin:20200913T120000
LOCATION:Sportovní hala Nivnice\, Podohradí 888 Nivnice
SUMMARY:PKVS-ZKY-A1: TĚLOVÝCHOVNÁ JEDNOTA NIVNICE z.s.-TJ Spartak Uherský B
 rod\, z.s.
END:VEVENT
BEGIN:VEVENT
UID:39613861-6636-4135-b364-396663333137
DTSTAMP:20260422T014827Z
DESCRIPTION:1/1 TJ Spartak Uherský Brod\, z.s. - VK AUSTIN Vsetín z.s. 2:0 
 (19\,19)
DTSTART;TZID=Europe/Berlin:20200913T140000
DTEND;TZID=Europe/Berlin:20200913T160000
LOCATION:TJ SPARTAK UHERSKÝ BROD z.s.\, U Stadionu 2295 Uherský Brod
SUMMARY:PKVS-ZKY-A3: TJ Spartak Uherský Brod\, z.s.-VK AUSTIN Vsetín z.s.
END:VEVENT
BEGIN:VEVENT
UID:64316361-3364-4332-a332-396633633039
DTSTAMP:20260422T014827Z
DESCRIPTION:2/4 TJ Spartak Uherský Brod\, z.s. - VK Valašské Meziříčí 1:2 (
 -15\,23\,-10)
DTSTART;TZID=Europe/Berlin:20200913T150000
DTEND;TZID=Europe/Berlin:20200913T170000
LOCATION:TJ SPARTAK UHERSKÝ BROD z.s.\, U Stadionu 2295 Uherský Brod
SUMMARY:PKVS-ZKY-A3: TJ Spartak Uherský Brod\, z.s.-VK Valašské Meziříčí
END:VEVENT
BEGIN:VEVENT
UID:39343265-3634-4761-b834-666562366163
DTSTAMP:20260422T014827Z
DESCRIPTION:2/3 TJ Spartak Uherský Brod\, z.s. - VSK Zlín 0:2 (-0\,-0)
DTSTART;TZID=Europe/Berlin:20201011T100000
DTEND;TZID=Europe/Berlin:20201011T120000
LOCATION:TJ SPARTAK UHERSKÝ BROD z.s.\, U Stadionu 2295 Uherský Brod
SUMMARY:ZLK-ZKY-1A: TJ Spartak Uherský Brod\, z.s.-VSK Zlín
END:VEVENT
BEGIN:VEVENT
UID:36346133-3331-4137-b733-626131376161
DTSTAMP:20260422T014827Z
DESCRIPTION:5/10 TJ Spartak Uherský Brod\, z.s. - VK Valašské Meziříčí 0:2 
 (-0\,-0)
DTSTART;TZID=Europe/Berlin:20201011T130000
DTEND;TZID=Europe/Berlin:20201011T150000
LOCATION:TJ SPARTAK UHERSKÝ BROD z.s.\, U Stadionu 2295 Uherský Brod
SUMMARY:ZLK-ZKY-1A: TJ Spartak Uherský Brod\, z.s.-VK Valašské Meziříčí
END:VEVENT
BEGIN:VEVENT
UID:30653537-3332-4636-a633-326332303530
DTSTAMP:20260422T014827Z
DESCRIPTION:1/1 VC KM 'B' - TJ Spartak Uherský Brod\, z.s. 2:0 (0\,0)
DTSTART;TZID=Europe/Berlin:20201011T090000
DTEND;TZID=Europe/Berlin:20201011T110000
LOCATION:ZŠ Slovan\, Zeyerova 3354 Kroměříž
SUMMARY:ZLK-ZKY-1A: VC KM 'B'-TJ Spartak Uherský Brod\, z.s.
END:VEVENT
BEGIN:VEVENT
UID:38386432-6630-4531-b032-613135663166
DTSTAMP:20260422T014827Z
DESCRIPTION:3/6 VC KM 'A' - TJ Spartak Uherský Brod\, z.s. 2:0 (0\,0)
DTSTART;TZID=Europe/Berlin:20201011T110000
DTEND;TZID=Europe/Berlin:20201011T130000
LOCATION:ZŠ Slovan\, Zeyerova 3354 Kroměříž
SUMMARY:ZLK-ZKY-1A: VC KM 'A'-TJ Spartak Uherský Brod\, z.s.
END:VEVENT
END:VCALENDAR
