BEGIN:VCALENDAR
VERSION:2.0
PRODID:-//VO Slezská Orlice73673//NONSGML kigkonsult.se iCalcreator 2.41.80//
CALSCALE:GREGORIAN
UID:65353832-3230-4462-a138-613237656237
BEGIN:VEVENT
UID:66613166-6530-4261-b932-383839323237
DTSTAMP:20260421T192724Z
DESCRIPTION:5/9 VO Slezská Orlice - ŠSK Bílovec B 2:0 (18\,13)
DTSTART;TZID=Europe/Berlin:20201004T130000
DTEND;TZID=Europe/Berlin:20201004T150000
LOCATION:Sportovní hala\, Tyršova 1668 Hlučín
SUMMARY:MS-ZKY-KC: VO Slezská Orlice-ŠSK Bílovec B
END:VEVENT
BEGIN:VEVENT
UID:33616535-3131-4234-b030-396266656464
DTSTAMP:20260421T192724Z
DESCRIPTION:7/14 VO Slezská Orlice - Bílovec 0:2 (-8\,-9)
DTSTART;TZID=Europe/Berlin:20201004T150000
DTEND;TZID=Europe/Berlin:20201004T170000
LOCATION:Sportovní hala\, Tyršova 1668 Hlučín
SUMMARY:MS-ZKY-KC: VO Slezská Orlice-Bílovec
END:VEVENT
BEGIN:VEVENT
UID:33366162-6237-4734-a264-343164633830
DTSTAMP:20260421T192724Z
DESCRIPTION:1/1 SVK Nový Jičín B - VO Slezská Orlice 2:0 (11\,6)
DTSTART;TZID=Europe/Berlin:20201004T090000
DTEND;TZID=Europe/Berlin:20201004T110000
LOCATION:Sportovní hala\, Tyršova 1668 Hlučín
SUMMARY:MS-ZKY-KC: SVK Nový Jičín B-VO Slezská Orlice
END:VEVENT
BEGIN:VEVENT
UID:34326431-6365-4033-b661-396133313836
DTSTAMP:20260421T192724Z
DESCRIPTION:3/5 TJ Hlučín A - VO Slezská Orlice 2:0 (15\,10)
DTSTART;TZID=Europe/Berlin:20201004T110000
DTEND;TZID=Europe/Berlin:20201004T130000
LOCATION:Sportovní hala\, Tyršova 1668 Hlučín
SUMMARY:MS-ZKY-KC: TJ Hlučín A-VO Slezská Orlice
END:VEVENT
BEGIN:VEVENT
UID:65336134-3762-4433-a238-386434356430
DTSTAMP:20260421T192724Z
DESCRIPTION:6/12 SK Slezan Orlová - VO Slezská Orlice 2:0 (11\,9)
DTSTART;TZID=Europe/Berlin:20201004T140000
DTEND;TZID=Europe/Berlin:20201004T160000
LOCATION:Sportovní hala\, Tyršova 1668 Hlučín
SUMMARY:MS-ZKY-KC: SK Slezan Orlová-VO Slezská Orlice
END:VEVENT
END:VCALENDAR
