BEGIN:VCALENDAR
VERSION:2.0
PRODID:-//Green Volley Frýdek-Místek73811//NONSGML kigkonsult.se iCalcreator 2.41.80//
CALSCALE:GREGORIAN
UID:62623864-3966-4435-b339-663838613039
BEGIN:VEVENT
UID:32636563-6133-4232-a539-346531343034
DTSTAMP:20260423T124842Z
DESCRIPTION:4/8 Green F-M - Svitavy 3:0 (21\,13\,19)
DTSTART;TZID=Europe/Berlin:20200927T090000
DTEND;TZID=Europe/Berlin:20200927T110000
LOCATION:TJ Slavia Hradec Králové\, Víta Nejedlého 1216 Hradec Králové
SUMMARY:EX-KTI-1D: Green F-M-Svitavy
END:VEVENT
BEGIN:VEVENT
UID:62373230-6435-4930-b134-346430626136
DTSTAMP:20260423T124842Z
DESCRIPTION:5/10 H. Králové - Green F-M 0:3 (-25\,-10\,-9)
DTSTART;TZID=Europe/Berlin:20200927T130000
DTEND;TZID=Europe/Berlin:20200927T150000
LOCATION:TJ Slavia Hradec Králové\, Víta Nejedlého 1216 Hradec Králové
SUMMARY:EX-KTI-1D: H. Králové-Green F-M
END:VEVENT
BEGIN:VEVENT
UID:30366165-6666-4634-b036-303364626533
DTSTAMP:20260423T124842Z
DESCRIPTION:2/4 Green F-M - Lanškroun 3:0 (14\,23\,18)
DTSTART;TZID=Europe/Berlin:20200926T130000
DTEND;TZID=Europe/Berlin:20200926T150000
LOCATION:TJ Slavia Hradec Králové\, Víta Nejedlého 1216 Hradec Králové
SUMMARY:EX-KTI-1D2: Green F-M-Lanškroun
END:VEVENT
BEGIN:VEVENT
UID:38393464-3366-4661-b139-663932633564
DTSTAMP:20260423T124842Z
DESCRIPTION:3/6 Kojetín - Green F-M 0:3 (-22\,-11\,-21)
DTSTART;TZID=Europe/Berlin:20200926T180000
DTEND;TZID=Europe/Berlin:20200926T200000
LOCATION:TJ Slavia Hradec Králové\, Víta Nejedlého 1216 Hradec Králové
SUMMARY:EX-KTI-1D2: Kojetín-Green F-M
END:VEVENT
END:VCALENDAR
