BEGIN:VCALENDAR
VERSION:2.0
PRODID:-//TJ Svitavy73824//NONSGML kigkonsult.se iCalcreator 2.41.80//
CALSCALE:GREGORIAN
UID:36333838-3736-4437-b431-613864373336
BEGIN:VEVENT
UID:64346635-6664-4737-b239-333530393738
DTSTAMP:20260423T145106Z
DESCRIPTION:4/8 Green F-M - Svitavy 3:0 (21\,13\,19)
DTSTART;TZID=Europe/Berlin:20200927T090000
DTEND;TZID=Europe/Berlin:20200927T110000
LOCATION:TJ Slavia Hradec Králové\, Víta Nejedlého 1216 Hradec Králové
SUMMARY:EX-KTI-1D: Green F-M-Svitavy
END:VEVENT
BEGIN:VEVENT
UID:63336131-6632-4661-b035-313634633232
DTSTAMP:20260423T145106Z
DESCRIPTION:6/11 Kojetín - Svitavy 3:0 (16\,17\,16)
DTSTART;TZID=Europe/Berlin:20200927T130000
DTEND;TZID=Europe/Berlin:20200927T150000
LOCATION:TJ Slavia Hradec Králové\, Víta Nejedlého 1216 Hradec Králové
SUMMARY:EX-KTI-1D: Kojetín-Svitavy
END:VEVENT
BEGIN:VEVENT
UID:66613362-6439-4135-a535-346330343631
DTSTAMP:20260423T145106Z
DESCRIPTION:2/3 Svitavy - Olomouc 3:1 (-22\,22\,18\,24)
DTSTART;TZID=Europe/Berlin:20200926T130000
DTEND;TZID=Europe/Berlin:20200926T150000
LOCATION:TJ Slavia Hradec Králové\, Víta Nejedlého 1216 Hradec Králové
SUMMARY:EX-KTI-1D1: Svitavy-Olomouc
END:VEVENT
BEGIN:VEVENT
UID:63623533-3664-4763-b830-663832653764
DTSTAMP:20260423T145106Z
DESCRIPTION:3/5 H. Králové - Svitavy 3:0 (18\,23\,22)
DTSTART;TZID=Europe/Berlin:20200926T180000
DTEND;TZID=Europe/Berlin:20200926T200000
LOCATION:TJ Slavia Hradec Králové\, Víta Nejedlého 1216 Hradec Králové
SUMMARY:EX-KTI-1D1: H. Králové-Svitavy
END:VEVENT
END:VCALENDAR
