BEGIN:VCALENDAR
VERSION:2.0
PRODID:-//VK TJ Lanškroun73831//NONSGML kigkonsult.se iCalcreator 2.41.80//
CALSCALE:GREGORIAN
UID:37613737-3137-4330-b137-626436643539
BEGIN:VEVENT
UID:36646134-3861-4464-b537-376231356665
DTSTAMP:20260425T132924Z
DESCRIPTION:5/9 Olomouc - Lanškroun 0:3 (-14\,-21\,-21)\no 5. místo
DTSTART;TZID=Europe/Berlin:20200927T110000
DTEND;TZID=Europe/Berlin:20200927T130000
LOCATION:TJ Slavia Hradec Králové\, Víta Nejedlého 1216 Hradec Králové
SUMMARY:EX-KTI-1D: Olomouc-Lanškroun
END:VEVENT
BEGIN:VEVENT
UID:36613862-3533-4961-a532-643039353865
DTSTAMP:20260425T132924Z
DESCRIPTION:1/2 Kojetín - Lanškroun 3:1 (12\,-21\,16\,21)
DTSTART;TZID=Europe/Berlin:20200926T100000
DTEND;TZID=Europe/Berlin:20200926T120000
LOCATION:TJ Slavia Hradec Králové\, Víta Nejedlého 1216 Hradec Králové
SUMMARY:EX-KTI-1D2: Kojetín-Lanškroun
END:VEVENT
BEGIN:VEVENT
UID:64653138-3864-4633-b332-393438373064
DTSTAMP:20260425T132924Z
DESCRIPTION:2/4 Green F-M - Lanškroun 3:0 (14\,23\,18)
DTSTART;TZID=Europe/Berlin:20200926T130000
DTEND;TZID=Europe/Berlin:20200926T150000
LOCATION:TJ Slavia Hradec Králové\, Víta Nejedlého 1216 Hradec Králové
SUMMARY:EX-KTI-1D2: Green F-M-Lanškroun
END:VEVENT
BEGIN:VEVENT
UID:61633634-6431-4563-a331-616136373233
DTSTAMP:20260425T132924Z
DESCRIPTION:2/4 Lanškroun - VK ČB B
DTSTART;TZID=Europe/Berlin:20201115T103000
DTEND;TZID=Europe/Berlin:20201115T123000
LOCATION:Zimní stadion\, U Stadionu 12 Nymburk
SUMMARY:CP-KTI-K2: Lanškroun-VK ČB B
END:VEVENT
BEGIN:VEVENT
UID:66353136-3364-4736-b362-653462316531
DTSTAMP:20260425T132924Z
DESCRIPTION:6/11 Lanškroun - VK Jirkov
DTSTART;TZID=Europe/Berlin:20201115T163000
DTEND;TZID=Europe/Berlin:20201115T183000
LOCATION:Zimní stadion\, U Stadionu 12 Nymburk
SUMMARY:CP-KTI-K2: Lanškroun-VK Jirkov
END:VEVENT
BEGIN:VEVENT
UID:61383135-6638-4632-a238-393839626163
DTSTAMP:20260425T132924Z
DESCRIPTION:7/13 Lanškroun - Mělník
DTSTART;TZID=Europe/Berlin:20201115T180000
DTEND;TZID=Europe/Berlin:20201115T200000
LOCATION:Zimní stadion\, U Stadionu 12 Nymburk
SUMMARY:CP-KTI-K2: Lanškroun-Mělník
END:VEVENT
BEGIN:VEVENT
UID:61366637-6561-4236-a338-636362323737
DTSTAMP:20260425T132924Z
DESCRIPTION:1/1 Dřevěnice - Lanškroun
DTSTART;TZID=Europe/Berlin:20201115T090000
DTEND;TZID=Europe/Berlin:20201115T110000
LOCATION:Zimní stadion\, U Stadionu 12 Nymburk
SUMMARY:CP-KTI-K2: Dřevěnice-Lanškroun
END:VEVENT
BEGIN:VEVENT
UID:35613838-3439-4535-a134-303230383331
DTSTAMP:20260425T132924Z
DESCRIPTION:4/7 Nymburk - Lanškroun
DTSTART;TZID=Europe/Berlin:20201115T133000
DTEND;TZID=Europe/Berlin:20201115T153000
LOCATION:Zimní stadion\, U Stadionu 12 Nymburk
SUMMARY:CP-KTI-K2: Nymburk-Lanškroun
END:VEVENT
END:VCALENDAR
