BEGIN:VCALENDAR
VERSION:2.0
PRODID:-//SK Volejbal Ústí nad Labem73836//NONSGML kigkonsult.se iCalcreator 2.41.80//
CALSCALE:GREGORIAN
UID:66333866-3736-4161-b437-643761663037
BEGIN:VEVENT
UID:61366161-6433-4531-a139-646362383166
DTSTAMP:20260425T132958Z
DESCRIPTION:2/6 Ústí n. L. - Rychnov n. K. 0:3 (-18\,-27\,-16)
DTSTART;TZID=Europe/Berlin:20200927T090000
DTEND;TZID=Europe/Berlin:20200927T110000
LOCATION:Sportovní hala Lužiny\, Bellušova 1877 Praha - Stodůlky
SUMMARY:EX-KTI-1E: Ústí n. L.-Rychnov n. K.
END:VEVENT
BEGIN:VEVENT
UID:31633532-6138-4438-b666-626664323862
DTSTAMP:20260425T132958Z
DESCRIPTION:1/1 Lvi - Ústí n. L. 3:0 (17\,17\,14)
DTSTART;TZID=Europe/Berlin:20200926T100000
DTEND;TZID=Europe/Berlin:20200926T120000
LOCATION:Sportovní hala Lužiny\, Bellušova 1877 Praha - Stodůlky
SUMMARY:EX-KTI-1E: Lvi-Ústí n. L.
END:VEVENT
BEGIN:VEVENT
UID:36643434-3932-4666-b536-306665366631
DTSTAMP:20260425T132958Z
DESCRIPTION:1/3 VK Ostrava - Ústí n. L. 3:1 (17\,20\,-21\,22)
DTSTART;TZID=Europe/Berlin:20200926T140000
DTEND;TZID=Europe/Berlin:20200926T160000
LOCATION:Sportovní hala Lužiny\, Bellušova 1877 Praha - Stodůlky
SUMMARY:EX-KTI-1E: VK Ostrava-Ústí n. L.
END:VEVENT
BEGIN:VEVENT
UID:36313666-3264-4930-b761-666662643635
DTSTAMP:20260425T132958Z
DESCRIPTION:2/8 Č. Budějovice - Ústí n. L. 3:0 (20\,17\,21)
DTSTART;TZID=Europe/Berlin:20200927T130000
DTEND;TZID=Europe/Berlin:20200927T150000
LOCATION:Sportovní hala Lužiny\, Bellušova 1877 Praha - Stodůlky
SUMMARY:EX-KTI-1E: Č. Budějovice-Ústí n. L.
END:VEVENT
END:VCALENDAR
