BEGIN:VCALENDAR
VERSION:2.0
PRODID:-//Tělocvičná jednota Sokol Frýdek - Místek B73961//NONSGML kigkonsult.se iCalcreator 2.41.80//
CALSCALE:GREGORIAN
UID:66366262-3663-4633-b861-373034366664
BEGIN:VEVENT
UID:38346562-6537-4232-b230-366364373232
DTSTAMP:20260421T125020Z
DESCRIPTION:1/1 Tělocvičná jednota Sokol Frýdek - Místek B - VKB Frýdlant n
 ad Ostravicí z.s. 1:2 (13\,-12\,-4)
DTSTART;TZID=Europe/Berlin:20201003T090000
DTEND;TZID=Europe/Berlin:20201003T110000
LOCATION:ZŠ Jiřího z Poděbrad Frýdek-Místek\, Jiřího z Poděbrad 3109 Frýdek
 -Místek - Frýdek
SUMMARY:MS-ZKYM-KB: Tělocvičná jednota Sokol Frýdek - Místek B-VKB Frýdlant
  nad Ostravicí z.s.
END:VEVENT
BEGIN:VEVENT
UID:62303637-3662-4331-b535-333934313262
DTSTAMP:20260421T125020Z
DESCRIPTION:4/8 Tělocvičná jednota Sokol Frýdek - Místek B - TJ Ostrava A 0
 :2 (-9\,-11)
DTSTART;TZID=Europe/Berlin:20201003T120000
DTEND;TZID=Europe/Berlin:20201003T140000
LOCATION:ZŠ Jiřího z Poděbrad Frýdek-Místek\, Jiřího z Poděbrad 3109 Frýdek
 -Místek - Frýdek
SUMMARY:MS-ZKYM-KB: Tělocvičná jednota Sokol Frýdek - Místek B-TJ Ostrava A
END:VEVENT
BEGIN:VEVENT
UID:65356337-3131-4236-b030-396664396638
DTSTAMP:20260421T125020Z
DESCRIPTION:2/4 Klub volejbalu Kopřivnice\, z.s. - Tělocvičná jednota Sokol
  Frýdek - Místek B 2:0 (12\,12)
DTSTART;TZID=Europe/Berlin:20201003T100000
DTEND;TZID=Europe/Berlin:20201003T120000
LOCATION:Tělocvičny ZŠ 17.listopadu Kopřivnice\, 17. listopadu 1225 Kopřivn
 ice
SUMMARY:MS-ZKYM-KB: Klub volejbalu Kopřivnice\, z.s.-Tělocvičná jednota Sok
 ol Frýdek - Místek B
END:VEVENT
BEGIN:VEVENT
UID:61373765-3837-4165-a231-626439663163
DTSTAMP:20260421T125020Z
DESCRIPTION:5/9 VK Karviná\, z.s. - Tělocvičná jednota Sokol Frýdek - Míste
 k B 2:1 (12\,-24\,7)
DTSTART;TZID=Europe/Berlin:20201003T130000
DTEND;TZID=Europe/Berlin:20201003T150000
LOCATION:Tělocvična ZŠ Mendelova\, Einsteinova 2871 Karviná - Hranice
SUMMARY:MS-ZKYM-KB: VK Karviná\, z.s.-Tělocvičná jednota Sokol Frýdek - Mís
 tek B
END:VEVENT
END:VCALENDAR
