BEGIN:VCALENDAR
VERSION:2.0
PRODID:-//Happy Sport Opava, z.s.73964//NONSGML kigkonsult.se iCalcreator 2.41.80//
CALSCALE:GREGORIAN
UID:63383333-3134-4962-a365-343134366335
BEGIN:VEVENT
UID:62386564-3231-4435-b739-356464353031
DTSTAMP:20260421T125054Z
DESCRIPTION:1/1 Happy Sport Opava\, z.s. - VK Raškovice 1:2 (-18\,16\,-6)
DTSTART;TZID=Europe/Berlin:20201003T090000
DTEND;TZID=Europe/Berlin:20201003T110000
LOCATION:Sportovní hala\, Heleny Salichové 1275 Ostrava - Polanka nad Odrou
SUMMARY:MS-ZKYM-KA: Happy Sport Opava\, z.s.-VK Raškovice
END:VEVENT
BEGIN:VEVENT
UID:30623335-3063-4364-b961-303532626265
DTSTAMP:20260421T125054Z
DESCRIPTION:4/8 Happy Sport Opava\, z.s. - TJ Frenštát pod Radhoštěm\, spol
 ek A 2:0 (20\,8)
DTSTART;TZID=Europe/Berlin:20201003T120000
DTEND;TZID=Europe/Berlin:20201003T140000
LOCATION:Sportovní hala\, Heleny Salichové 1275 Ostrava - Polanka nad Odrou
SUMMARY:MS-ZKYM-KA: Happy Sport Opava\, z.s.-TJ Frenštát pod Radhoštěm\, sp
 olek A
END:VEVENT
BEGIN:VEVENT
UID:30663065-6561-4632-b830-373863393136
DTSTAMP:20260421T125054Z
DESCRIPTION:2/4 Tělovýchovná jednota Nový Jičín\, z.s. - Happy Sport Opava\
 , z.s. 0:2 (-7\,-5)
DTSTART;TZID=Europe/Berlin:20201003T100000
DTEND;TZID=Europe/Berlin:20201003T120000
LOCATION:Sportovní hala\, Heleny Salichové 1275 Ostrava - Polanka nad Odrou
SUMMARY:MS-ZKYM-KA: Tělovýchovná jednota Nový Jičín\, z.s.-Happy Sport Opav
 a\, z.s.
END:VEVENT
BEGIN:VEVENT
UID:35326264-6435-4965-b539-303932323232
DTSTAMP:20260421T125054Z
DESCRIPTION:5/9 VK Polanka nad Odrou\, z.s. - Happy Sport Opava\, z.s. 0:2 
 (-12\,-4)
DTSTART;TZID=Europe/Berlin:20201003T130000
DTEND;TZID=Europe/Berlin:20201003T150000
LOCATION:Sportovní hala\, Heleny Salichové 1275 Ostrava - Polanka nad Odrou
SUMMARY:MS-ZKYM-KA: VK Polanka nad Odrou\, z.s.-Happy Sport Opava\, z.s.
END:VEVENT
END:VCALENDAR
