BEGIN:VCALENDAR
VERSION:2.0
PRODID:-//TJ Slovácká Slavia Uherské Hradiště B, z.s.74004//NONSGML kigkonsult.se iCalcreator 2.41.80//
CALSCALE:GREGORIAN
UID:62633464-3032-4464-b165-396365663337
BEGIN:VEVENT
UID:61613632-3736-4265-a231-623337313235
DTSTAMP:20260422T211449Z
DESCRIPTION:2/2 TJ Slovácká Slavia Uherské Hradiště B - VC KM 'A' 1:2 (-21\
 ,20\,-4)
DTSTART;TZID=Europe/Berlin:20200913T100000
DTEND;TZID=Europe/Berlin:20200913T120000
LOCATION:Městská sportovní hala\, Stonky 860 Uherské Hradiště
SUMMARY:PKVS-ZKY-B2: TJ Slovácká Slavia Uherské Hradiště B-VC KM 'A'
END:VEVENT
BEGIN:VEVENT
UID:33626461-6131-4033-b536-613862633530
DTSTAMP:20260422T211449Z
DESCRIPTION:6/6 TJ Slovácká Slavia Uherské Hradiště B - VSC Zlín B 0:2 (-14
 \,-13)
DTSTART;TZID=Europe/Berlin:20200913T140000
DTEND;TZID=Europe/Berlin:20200913T160000
LOCATION:Městská sportovní hala\, Stonky 860 Uherské Hradiště
SUMMARY:PKVS-ZKY-B2: TJ Slovácká Slavia Uherské Hradiště B-VSC Zlín B
END:VEVENT
BEGIN:VEVENT
UID:37383632-3231-4766-b938-626534373635
DTSTAMP:20260422T211449Z
DESCRIPTION:4/4 VOLEJBALOVÝ KLUB NAPAJEDLA\, z.s. - TJ Slovácká Slavia Uher
 ské Hradiště B 2:1 (-25\,19\,16)
DTSTART;TZID=Europe/Berlin:20200913T120000
DTEND;TZID=Europe/Berlin:20200913T140000
LOCATION:2.ZŠ Napajedla\, Komenského 298 Napajedla
SUMMARY:PKVS-ZKY-B2: VOLEJBALOVÝ KLUB NAPAJEDLA\, z.s.-TJ Slovácká Slavia U
 herské Hradiště B
END:VEVENT
BEGIN:VEVENT
UID:38616565-3334-4663-b661-353237383961
DTSTAMP:20260422T211449Z
DESCRIPTION:1/2 TJ Slovácká Slavia Uherské Hradiště A\, z.s. - TJ Slovácká 
 Slavia Uherské Hradiště B
DTSTART;TZID=Europe/Berlin:20200913T140000
DTEND;TZID=Europe/Berlin:20200913T160000
LOCATION:Městská sportovní hala\, Stonky 860 Uherské Hradiště
SUMMARY:PKVS-ZKY-B4: TJ Slovácká Slavia Uherské Hradiště A\, z.s.-TJ Slovác
 ká Slavia Uherské Hradiště B
END:VEVENT
BEGIN:VEVENT
UID:32643133-6434-4137-b532-306334303532
DTSTAMP:20260422T211449Z
DESCRIPTION:2/4 VOLEJBALOVÝ KLUB NAPAJEDLA\, z.s. - TJ Slovácká Slavia Uher
 ské Hradiště B
DTSTART;TZID=Europe/Berlin:20200913T150000
DTEND;TZID=Europe/Berlin:20200913T170000
LOCATION:2.ZŠ Napajedla\, Komenského 298 Napajedla
SUMMARY:PKVS-ZKY-B4: VOLEJBALOVÝ KLUB NAPAJEDLA\, z.s.-TJ Slovácká Slavia U
 herské Hradiště B
END:VEVENT
BEGIN:VEVENT
UID:65663064-3735-4237-b565-313137623737
DTSTAMP:20260422T211449Z
DESCRIPTION:3/6 TJ Slovácká Slavia Uherské Hradiště B - TĚLOVÝCHOVNÁ JEDNOT
 A NIVNICE z.s. 0:2 (-17\,-21)
DTSTART;TZID=Europe/Berlin:20201011T110000
DTEND;TZID=Europe/Berlin:20201011T130000
LOCATION:Městská sportovní hala\, Stonky 860 Uherské Hradiště
SUMMARY:ZLK-ZKY-1C: TJ Slovácká Slavia Uherské Hradiště B-TĚLOVÝCHOVNÁ JEDN
 OTA NIVNICE z.s.
END:VEVENT
BEGIN:VEVENT
UID:30613064-3030-4562-b639-353135343130
DTSTAMP:20260422T211449Z
DESCRIPTION:1/2 Komunitní škola Traplice\, z.s. - TJ Slovácká Slavia Uhersk
 é Hradiště B 2:1 (12\,-23\,6)
DTSTART;TZID=Europe/Berlin:20201011T090000
DTEND;TZID=Europe/Berlin:20201011T110000
LOCATION:Tělocvična\,  Traplice375
SUMMARY:ZLK-ZKY-1C: Komunitní škola Traplice\, z.s.-TJ Slovácká Slavia Uher
 ské Hradiště B
END:VEVENT
BEGIN:VEVENT
UID:31613661-3636-4334-a139-613163376336
DTSTAMP:20260422T211449Z
DESCRIPTION:2/3 VOLLEYBALL CLUB VESELÍ z.s. - TJ Slovácká Slavia Uherské Hr
 adiště B 2:0 (10\,9)
DTSTART;TZID=Europe/Berlin:20201011T100000
DTEND;TZID=Europe/Berlin:20201011T120000
LOCATION:Městská sportovní hala\, Kollárova 1660 Veselí nad Moravou
SUMMARY:ZLK-ZKY-1C: VOLLEYBALL CLUB VESELÍ z.s.-TJ Slovácká Slavia Uherské 
 Hradiště B
END:VEVENT
END:VCALENDAR
