BEGIN:VCALENDAR
VERSION:2.0
PRODID:-//TJ Frenštát pod Radhoštěm, spolek A74012//NONSGML kigkonsult.se iCalcreator 2.41.80//
CALSCALE:GREGORIAN
UID:66626264-6132-4432-b131-373662346365
BEGIN:VEVENT
UID:38663464-3435-4638-a537-663365366238
DTSTAMP:20260421T125026Z
DESCRIPTION:1/2 TJ Frenštát pod Radhoštěm\, spolek A - VK Polanka nad Odrou
 \, z.s. 2:0 (18\,15)
DTSTART;TZID=Europe/Berlin:20201003T090000
DTEND;TZID=Europe/Berlin:20201003T110000
LOCATION:Sportovní hala\, Heleny Salichové 1275 Ostrava - Polanka nad Odrou
SUMMARY:MS-ZKYM-KA: TJ Frenštát pod Radhoštěm\, spolek A-VK Polanka nad Odr
 ou\, z.s.
END:VEVENT
BEGIN:VEVENT
UID:64313236-3863-4434-b137-323632663563
DTSTAMP:20260421T125026Z
DESCRIPTION:3/5 TJ Frenštát pod Radhoštěm\, spolek A - Tělovýchovná jednota
  Nový Jičín\, z.s. 2:0 (22\,14)
DTSTART;TZID=Europe/Berlin:20201003T110000
DTEND;TZID=Europe/Berlin:20201003T130000
LOCATION:Sportovní hala\, Heleny Salichové 1275 Ostrava - Polanka nad Odrou
SUMMARY:MS-ZKYM-KA: TJ Frenštát pod Radhoštěm\, spolek A-Tělovýchovná jedno
 ta Nový Jičín\, z.s.
END:VEVENT
BEGIN:VEVENT
UID:33623834-3039-4639-b630-316432636661
DTSTAMP:20260421T125026Z
DESCRIPTION:2/3 VK Raškovice - TJ Frenštát pod Radhoštěm\, spolek A 2:0 (13
 \,9)
DTSTART;TZID=Europe/Berlin:20201003T100000
DTEND;TZID=Europe/Berlin:20201003T120000
LOCATION:Sportovní hala\, Heleny Salichové 1275 Ostrava - Polanka nad Odrou
SUMMARY:MS-ZKYM-KA: VK Raškovice-TJ Frenštát pod Radhoštěm\, spolek A
END:VEVENT
BEGIN:VEVENT
UID:62366632-6261-4533-b662-393132646233
DTSTAMP:20260421T125026Z
DESCRIPTION:4/8 Happy Sport Opava\, z.s. - TJ Frenštát pod Radhoštěm\, spol
 ek A 2:0 (20\,8)
DTSTART;TZID=Europe/Berlin:20201003T120000
DTEND;TZID=Europe/Berlin:20201003T140000
LOCATION:Sportovní hala\, Heleny Salichové 1275 Ostrava - Polanka nad Odrou
SUMMARY:MS-ZKYM-KA: Happy Sport Opava\, z.s.-TJ Frenštát pod Radhoštěm\, sp
 olek A
END:VEVENT
END:VCALENDAR
