BEGIN:VCALENDAR
VERSION:2.0
PRODID:-//Tělocvičná jednota Sokol Geodézie Česká Třebová74099//NONSGML kigkonsult.se iCalcreator 2.41.80//
CALSCALE:GREGORIAN
UID:36636132-3335-4862-b839-653430346666
BEGIN:VEVENT
UID:32646637-6466-4434-a562-663838376333
DTSTAMP:20260422T014833Z
DESCRIPTION:1/1 Sokol Č. Třebová - Spartak Polička B 2:0 (23\,20)
DTSTART;TZID=Europe/Berlin:20200913T090000
DTEND;TZID=Europe/Berlin:20200913T110000
LOCATION:Základní škola Česká Třebová Habrmanova\, Na Skále\, Na Skále 566 
 Česká Třebová
SUMMARY:PA-ZKY-KVALIF-A: Sokol Č. Třebová-Spartak Polička B
END:VEVENT
BEGIN:VEVENT
UID:61613062-6435-4534-b564-653964663932
DTSTAMP:20260422T014833Z
DESCRIPTION:1/6 Sokol Č. Třebová - Lanškroun 1:1 (-22\,20)
DTSTART;TZID=Europe/Berlin:20200913T090000
DTEND;TZID=Europe/Berlin:20200913T110000
LOCATION:Základní škola Česká Třebová Habrmanova\, Na Skále\, Na Skále 566 
 Česká Třebová
SUMMARY:PA-ZKY-KVALIF-A: Sokol Č. Třebová-Lanškroun
END:VEVENT
BEGIN:VEVENT
UID:35613263-3936-4331-b137-343435373331
DTSTAMP:20260422T014833Z
DESCRIPTION:1/11 Sokol Č. Třebová - TJ Svitavy C 2:0 (11\,14)
DTSTART;TZID=Europe/Berlin:20200913T090000
DTEND;TZID=Europe/Berlin:20200913T110000
LOCATION:Základní škola Česká Třebová Habrmanova\, Na Skále\, Na Skále 566 
 Česká Třebová
SUMMARY:PA-ZKY-KVALIF-A: Sokol Č. Třebová-TJ Svitavy C
END:VEVENT
BEGIN:VEVENT
UID:35656265-3335-4661-b539-323161336165
DTSTAMP:20260422T014833Z
DESCRIPTION:1/8 Svitavy - Sokol Č. Třebová 2:0 (18\,20)
DTSTART;TZID=Europe/Berlin:20200913T090000
DTEND;TZID=Europe/Berlin:20200913T110000
LOCATION:Sportovní hala Na Střelnici\, Pražská 2162 Svitavy - Předměstí
SUMMARY:PA-ZKY-KVALIF-A: Svitavy-Sokol Č. Třebová
END:VEVENT
BEGIN:VEVENT
UID:31663265-3432-4136-b036-623033653638
DTSTAMP:20260422T014833Z
DESCRIPTION:1/15 Pardubice - Sokol Č. Třebová 0:2 (-12\,-18)
DTSTART;TZID=Europe/Berlin:20200913T090000
DTEND;TZID=Europe/Berlin:20200913T110000
LOCATION:Sokolovna\, Jiráskova 29 Pardubice - Zelené Předměstí
SUMMARY:PA-ZKY-KVALIF-A: Pardubice-Sokol Č. Třebová
END:VEVENT
BEGIN:VEVENT
UID:62663932-3731-4561-a536-363032303137
DTSTAMP:20260422T014833Z
DESCRIPTION:4/8 Sokol Č. Třebová - Demlova 2:0 (18\,8)
DTSTART;TZID=Europe/Berlin:20200919T133000
DTEND;TZID=Europe/Berlin:20200919T153000
LOCATION:Základní škola Česká Třebová Habrmanova\, Na Skále\, Na Skále 566 
 Česká Třebová
SUMMARY:CP-ZKY-V1D: Sokol Č. Třebová-Demlova
END:VEVENT
BEGIN:VEVENT
UID:65346535-3836-4762-a639-333133663338
DTSTAMP:20260422T014833Z
DESCRIPTION:5/10 Sokol Č. Třebová - Chlumec n.C. 2:0 (10\,13)
DTSTART;TZID=Europe/Berlin:20200919T150000
DTEND;TZID=Europe/Berlin:20200919T170000
LOCATION:Základní škola Česká Třebová Habrmanova\, Na Skále\, Na Skále 566 
 Česká Třebová
SUMMARY:CP-ZKY-V1D: Sokol Č. Třebová-Chlumec n.C.
END:VEVENT
BEGIN:VEVENT
UID:64623962-6238-4331-a461-646432623432
DTSTAMP:20260422T014833Z
DESCRIPTION:7/13 Sokol Č. Třebová - H.Králové A 2:1 (-17\,9\,7)
DTSTART;TZID=Europe/Berlin:20200919T173000
DTEND;TZID=Europe/Berlin:20200919T193000
LOCATION:Základní škola Česká Třebová Habrmanova\, Na Skále\, Na Skále 566 
 Česká Třebová
SUMMARY:CP-ZKY-V1D: Sokol Č. Třebová-H.Králové A
END:VEVENT
BEGIN:VEVENT
UID:66313661-3064-4237-b866-646565643038
DTSTAMP:20260422T014833Z
DESCRIPTION:1/1 F. - Místek - Sokol Č. Třebová 2:0 (14\,8)
DTSTART;TZID=Europe/Berlin:20200919T090000
DTEND;TZID=Europe/Berlin:20200919T110000
LOCATION:ZŠ Jiřího z Poděbrad Frýdek-Místek\, Jiřího z Poděbrad 3109 Frýdek
 -Místek - Frýdek
SUMMARY:CP-ZKY-V1D: F. - Místek-Sokol Č. Třebová
END:VEVENT
BEGIN:VEVENT
UID:63653631-3039-4433-b034-386137623963
DTSTAMP:20260422T014833Z
DESCRIPTION:8/15 Pardubice - Sokol Č. Třebová 0:2 (-15\,-5)
DTSTART;TZID=Europe/Berlin:20200920T083000
DTEND;TZID=Europe/Berlin:20200920T103000
LOCATION:Sokolovna\, Jiráskova 29 Pardubice - Zelené Předměstí
SUMMARY:CP-ZKY-V1D: Pardubice-Sokol Č. Třebová
END:VEVENT
BEGIN:VEVENT
UID:34666565-6336-4536-b832-396239616561
DTSTAMP:20260422T014833Z
DESCRIPTION:9/17 Lanškroun B - Sokol Č. Třebová 0:2 (-12\,-12)
DTSTART;TZID=Europe/Berlin:20200920T100000
DTEND;TZID=Europe/Berlin:20200920T120000
LOCATION:SOŠ a SOU Lanškroun\, Sokolská 288 Lanškroun - Ostrovské Předměstí
SUMMARY:CP-ZKY-V1D: Lanškroun B-Sokol Č. Třebová
END:VEVENT
BEGIN:VEVENT
UID:61646530-3462-4639-b633-623762323435
DTSTAMP:20260422T014833Z
DESCRIPTION:2/4 Sokol Č. Třebová - Polička
DTSTART;TZID=Europe/Berlin:20201011T120000
DTEND;TZID=Europe/Berlin:20201011T140000
LOCATION:Hala VDA Skalka\, Skalka 1162 Česká Třebová
SUMMARY:PA-ZKY-1KOLO-A: Sokol Č. Třebová-Polička
END:VEVENT
BEGIN:VEVENT
UID:64313463-3435-4033-a138-386662376334
DTSTAMP:20260422T014833Z
DESCRIPTION:2/6 Sokol Č. Třebová - Svitavy
DTSTART;TZID=Europe/Berlin:20201011T140000
DTEND;TZID=Europe/Berlin:20201011T160000
LOCATION:Hala VDA Skalka\, Skalka 1162 Česká Třebová
SUMMARY:PA-ZKY-1KOLO-A: Sokol Č. Třebová-Svitavy
END:VEVENT
BEGIN:VEVENT
UID:63393736-6138-4562-b437-303038393537
DTSTAMP:20260422T014833Z
DESCRIPTION:2/1 Žichlínek - Sokol Č. Třebová
DTSTART;TZID=Europe/Berlin:20201011T090000
DTEND;TZID=Europe/Berlin:20201011T110000
LOCATION:Hala VDA Skalka\, Skalka 1162 Česká Třebová
SUMMARY:PA-ZKY-1KOLO-A: Žichlínek-Sokol Č. Třebová
END:VEVENT
END:VCALENDAR
