BEGIN:VCALENDAR
VERSION:2.0
PRODID:-//TJ Spartak Polička, z.s. B74120//NONSGML kigkonsult.se iCalcreator 2.41.80//
CALSCALE:GREGORIAN
UID:65376631-6265-4966-b765-353038646562
BEGIN:VEVENT
UID:63623364-3633-4339-b165-393231663739
DTSTAMP:20260422T034534Z
DESCRIPTION:1/4 Spartak Polička B - TJ Svitavy C 2:0 (22\,24)
DTSTART;TZID=Europe/Berlin:20200913T090000
DTEND;TZID=Europe/Berlin:20200913T110000
LOCATION:TJ Spartak Polička\, z.s. \, nábř. Svobody 447 Polička - Horní Pře
 dměstí
SUMMARY:PA-ZKY-KVALIF-A: Spartak Polička B-TJ Svitavy C
END:VEVENT
BEGIN:VEVENT
UID:35393563-6466-4239-a533-323631356362
DTSTAMP:20260422T034534Z
DESCRIPTION:1/10 Spartak Polička B - Pardubice 2:0 (15\,21)
DTSTART;TZID=Europe/Berlin:20200913T090000
DTEND;TZID=Europe/Berlin:20200913T110000
LOCATION:TJ Spartak Polička\, z.s. \, nábř. Svobody 447 Polička - Horní Pře
 dměstí
SUMMARY:PA-ZKY-KVALIF-A: Spartak Polička B-Pardubice
END:VEVENT
BEGIN:VEVENT
UID:38346637-3163-4433-b732-666531373939
DTSTAMP:20260422T034534Z
DESCRIPTION:1/1 Sokol Č. Třebová - Spartak Polička B 2:0 (23\,20)
DTSTART;TZID=Europe/Berlin:20200913T090000
DTEND;TZID=Europe/Berlin:20200913T110000
LOCATION:Základní škola Česká Třebová Habrmanova\, Na Skále\, Na Skále 566 
 Česká Třebová
SUMMARY:PA-ZKY-KVALIF-A: Sokol Č. Třebová-Spartak Polička B
END:VEVENT
BEGIN:VEVENT
UID:35636136-3136-4537-b366-346666363864
DTSTAMP:20260422T034534Z
DESCRIPTION:1/7 Lanškroun - Spartak Polička B 2:0 (12\,7)
DTSTART;TZID=Europe/Berlin:20200913T090000
DTEND;TZID=Europe/Berlin:20200913T110000
LOCATION:SOŠ a SOU Lanškroun\, Sokolská 288 Lanškroun - Ostrovské Předměstí
SUMMARY:PA-ZKY-KVALIF-A: Lanškroun-Spartak Polička B
END:VEVENT
BEGIN:VEVENT
UID:37363933-3032-4532-b263-366633306365
DTSTAMP:20260422T034534Z
DESCRIPTION:1/13 Svitavy - Spartak Polička B 2:0 (12\,20)
DTSTART;TZID=Europe/Berlin:20200913T090000
DTEND;TZID=Europe/Berlin:20200913T110000
LOCATION:Sportovní hala Na Střelnici\, Pražská 2162 Svitavy - Předměstí
SUMMARY:PA-ZKY-KVALIF-A: Svitavy-Spartak Polička B
END:VEVENT
BEGIN:VEVENT
UID:64373633-6132-4531-a234-343065396136
DTSTAMP:20260422T034534Z
DESCRIPTION:1/2 Spartak Polička B - Lanškroun 0:2 (-17\,-11)
DTSTART;TZID=Europe/Berlin:20201011T090000
DTEND;TZID=Europe/Berlin:20201011T110000
LOCATION:Sportovní hala Na Střelnici\, Pražská 2162 Svitavy - Předměstí
SUMMARY:PA-ZKY-1KOLO-B: Spartak Polička B-Lanškroun
END:VEVENT
BEGIN:VEVENT
UID:31303731-3936-4661-a537-333231383533
DTSTAMP:20260422T034534Z
DESCRIPTION:1/4 Pardubice - Spartak Polička B 2:0 (15\,11)
DTSTART;TZID=Europe/Berlin:20201011T100000
DTEND;TZID=Europe/Berlin:20201011T120000
LOCATION:Sportovní hala Na Střelnici\, Pražská 2162 Svitavy - Předměstí
SUMMARY:PA-ZKY-1KOLO-B: Pardubice-Spartak Polička B
END:VEVENT
BEGIN:VEVENT
UID:61336130-3435-4363-b364-323238356631
DTSTAMP:20260422T034534Z
DESCRIPTION:1/5 VK Choceň - Spartak Polička B 2:1 (13\,-21\,14)
DTSTART;TZID=Europe/Berlin:20201011T110000
DTEND;TZID=Europe/Berlin:20201011T130000
LOCATION:Sportovní hala Na Střelnici\, Pražská 2162 Svitavy - Předměstí
SUMMARY:PA-ZKY-1KOLO-B: VK Choceň-Spartak Polička B
END:VEVENT
BEGIN:VEVENT
UID:33613837-3336-4735-a363-373862613335
DTSTAMP:20260422T034534Z
DESCRIPTION:1/7 TJ Svitavy B - Spartak Polička B 0:2 (-19\,-21)
DTSTART;TZID=Europe/Berlin:20201011T120000
DTEND;TZID=Europe/Berlin:20201011T140000
LOCATION:Sportovní hala Na Střelnici\, Pražská 2162 Svitavy - Předměstí
SUMMARY:PA-ZKY-1KOLO-B: TJ Svitavy B-Spartak Polička B
END:VEVENT
END:VCALENDAR
