BEGIN:VCALENDAR
VERSION:2.0
PRODID:-//TJ Svitavy, z.s.74126//NONSGML kigkonsult.se iCalcreator 2.41.80//
CALSCALE:GREGORIAN
UID:39383663-6439-4564-a466-613564353037
BEGIN:VEVENT
UID:32613030-3264-4337-b866-363039333165
DTSTAMP:20260421T210126Z
DESCRIPTION:1/6 TJ Svitavy A - Sokol Česká Třebová 2:0 (14\,10)
DTSTART;TZID=Europe/Berlin:20200919T090000
DTEND;TZID=Europe/Berlin:20200919T110000
LOCATION:Sportovní hala Na Střelnici\, Pražská 2162 Svitavy - Předměstí
SUMMARY:PA-ZCIM: TJ Svitavy A-Sokol Česká Třebová
END:VEVENT
BEGIN:VEVENT
UID:36316332-6334-4461-a465-303835643234
DTSTAMP:20260421T210126Z
DESCRIPTION:2/13 TJ Svitavy A - Sokol Česká Třebová 2:0 (14\,14)
DTSTART;TZID=Europe/Berlin:20210528T150000
DTEND;TZID=Europe/Berlin:20210528T170000
LOCATION:Sportovní hala Na Střelnici\, Pražská 2162 Svitavy - Předměstí
SUMMARY:PA-ZCIM: TJ Svitavy A-Sokol Česká Třebová
END:VEVENT
BEGIN:VEVENT
UID:35383533-3361-4838-b963-363337653462
DTSTAMP:20260421T210126Z
DESCRIPTION:2/20 TJ Svitavy A - TJ Svitavy B 2:0 (23\,5)\nve Svitavách
DTSTART;TZID=Europe/Berlin:20210517T163000
DTEND;TZID=Europe/Berlin:20210517T183000
LOCATION:Sportovní hala Na Střelnici\, Pražská 2162 Svitavy - Předměstí
SUMMARY:PA-ZCIM: TJ Svitavy A-TJ Svitavy B
END:VEVENT
BEGIN:VEVENT
UID:62663731-3162-4336-b038-643664323537
DTSTAMP:20260421T210126Z
DESCRIPTION:3/21 TJ Svitavy A - Sokol Česká Třebová 2:0 (24\,16)\npořadatel
  Svitavy
DTSTART;TZID=Europe/Berlin:20210605T090000
DTEND;TZID=Europe/Berlin:20210605T110000
LOCATION:Sportovní hala Na Střelnici\, Pražská 2162 Svitavy - Předměstí
SUMMARY:PA-ZCIM: TJ Svitavy A-Sokol Česká Třebová
END:VEVENT
BEGIN:VEVENT
UID:66383764-3138-4164-a131-376233356336
DTSTAMP:20260421T210126Z
DESCRIPTION:3/24 TJ Svitavy A - Orel Letohrad 2:0 (9\,17)
DTSTART;TZID=Europe/Berlin:20210605T100000
DTEND;TZID=Europe/Berlin:20210605T120000
LOCATION:Sportovní hala Na Střelnici\, Pražská 2162 Svitavy - Předměstí
SUMMARY:PA-ZCIM: TJ Svitavy A-Orel Letohrad
END:VEVENT
BEGIN:VEVENT
UID:34366136-6233-4631-a161-323330333932
DTSTAMP:20260421T210126Z
DESCRIPTION:1/2 Orel Letohrad - TJ Svitavy A 0:2 (-9\,-12)\nantuka
DTSTART;TZID=Europe/Berlin:20200919T090000
DTEND;TZID=Europe/Berlin:20200919T110000
LOCATION:TJ Spartak Letohrad\, Jilemnického 341 Letohrad
SUMMARY:PA-ZCIM: Orel Letohrad-TJ Svitavy A
END:VEVENT
BEGIN:VEVENT
UID:36623532-6338-4330-b637-326139623762
DTSTAMP:20260421T210126Z
DESCRIPTION:1/3 TJ Svitavy B - TJ Svitavy A 0:2 (-16\,-17)
DTSTART;TZID=Europe/Berlin:20200919T090000
DTEND;TZID=Europe/Berlin:20200919T110000
LOCATION:Sportovní hala Na Střelnici\, Pražská 2162 Svitavy - Předměstí
SUMMARY:PA-ZCIM: TJ Svitavy B-TJ Svitavy A
END:VEVENT
BEGIN:VEVENT
UID:32656330-6635-4165-b435-646364303632
DTSTAMP:20260421T210126Z
DESCRIPTION:1/8 Slavia Hradec Králové - TJ Svitavy A 0:2 (-23\,-24)\nv Hrad
 ci Králové
DTSTART;TZID=Europe/Berlin:20210531T183000
DTEND;TZID=Europe/Berlin:20210531T203000
SUMMARY:PA-ZCIM: Slavia Hradec Králové-TJ Svitavy A
END:VEVENT
BEGIN:VEVENT
UID:63616363-3861-4737-b366-373938386463
DTSTAMP:20260421T210126Z
DESCRIPTION:2/17 Slavia Hradec Králové - TJ Svitavy A 2:1 (-21\,16\,7)
DTSTART;TZID=Europe/Berlin:20210531T193000
DTEND;TZID=Europe/Berlin:20210531T213000
SUMMARY:PA-ZCIM: Slavia Hradec Králové-TJ Svitavy A
END:VEVENT
BEGIN:VEVENT
UID:37656631-3666-4064-a531-326139393731
DTSTAMP:20260421T210126Z
DESCRIPTION:2/19 Orel Letohrad - TJ Svitavy A 0:2 (-18\,-19)
DTSTART;TZID=Europe/Berlin:20210528T160000
DTEND;TZID=Europe/Berlin:20210528T180000
LOCATION:TJ Spartak Letohrad\, Jilemnického 341 Letohrad
SUMMARY:PA-ZCIM: Orel Letohrad-TJ Svitavy A
END:VEVENT
BEGIN:VEVENT
UID:35333730-3061-4036-b932-346661356234
DTSTAMP:20260421T210126Z
DESCRIPTION:3/25 Slavia Hradec Králové - TJ Svitavy A 0:2 (-13\,-9)
DTSTART;TZID=Europe/Berlin:20210605T110000
DTEND;TZID=Europe/Berlin:20210605T130000
SUMMARY:PA-ZCIM: Slavia Hradec Králové-TJ Svitavy A
END:VEVENT
BEGIN:VEVENT
UID:66306631-3863-4362-b231-363038326361
DTSTAMP:20260421T210126Z
DESCRIPTION:3/30 TJ Svitavy B - TJ Svitavy A 0:2 (-13\,-21)\nve Svitavách
DTSTART;TZID=Europe/Berlin:20210524T163000
DTEND;TZID=Europe/Berlin:20210524T183000
LOCATION:Sportovní hala Na Střelnici\, Pražská 2162 Svitavy - Předměstí
SUMMARY:PA-ZCIM: TJ Svitavy B-TJ Svitavy A
END:VEVENT
END:VCALENDAR
