BEGIN:VCALENDAR
VERSION:2.0
PRODID:-//VAM Havířov74218//NONSGML kigkonsult.se iCalcreator 2.41.80//
CALSCALE:GREGORIAN
UID:31663066-3731-4238-b765-363036666262
BEGIN:VEVENT
UID:38346163-3730-4232-b164-383462336262
DTSTAMP:20260421T192713Z
DESCRIPTION:2/3 VAM Havířov - TJ Krnov 0:2 (-11\,-9)
DTSTART;TZID=Europe/Berlin:20201004T103000
DTEND;TZID=Europe/Berlin:20201004T123000
LOCATION:Sportovní hala\, Heleny Salichové 1275 Ostrava - Polanka nad Odrou
SUMMARY:MS-ZKY-KA1: VAM Havířov-TJ Krnov
END:VEVENT
BEGIN:VEVENT
UID:30613339-3533-4462-b431-343436366538
DTSTAMP:20260421T192713Z
DESCRIPTION:1/1 F. - Místek - VAM Havířov 2:0 (4\,2)
DTSTART;TZID=Europe/Berlin:20201004T090000
DTEND;TZID=Europe/Berlin:20201004T110000
LOCATION:Sportovní hala\, Heleny Salichové 1275 Ostrava - Polanka nad Odrou
SUMMARY:MS-ZKY-KA1: F. - Místek-VAM Havířov
END:VEVENT
BEGIN:VEVENT
UID:36313031-6264-4434-b066-316432653362
DTSTAMP:20260421T192713Z
DESCRIPTION:3/5 SVK Nový Jičín C - VAM Havířov 2:0 (7\,9)
DTSTART;TZID=Europe/Berlin:20201004T120000
DTEND;TZID=Europe/Berlin:20201004T140000
LOCATION:Sportovní hala\, Heleny Salichové 1275 Ostrava - Polanka nad Odrou
SUMMARY:MS-ZKY-KA1: SVK Nový Jičín C-VAM Havířov
END:VEVENT
BEGIN:VEVENT
UID:30313837-6238-4037-a630-343266303439
DTSTAMP:20260421T192713Z
DESCRIPTION:2/2 VK Polanka n/O - VAM Havířov 2:1 (10\,-10\,11)
DTSTART;TZID=Europe/Berlin:20201004T150000
DTEND;TZID=Europe/Berlin:20201004T170000
LOCATION:Sportovní hala\, Heleny Salichové 1275 Ostrava - Polanka nad Odrou
SUMMARY:MS-ZKY-KAU: VK Polanka n/O-VAM Havířov
END:VEVENT
END:VCALENDAR
