BEGIN:VCALENDAR
VERSION:2.0
PRODID:-//AERO Odolena Voda74288//NONSGML kigkonsult.se iCalcreator 2.41.80//
CALSCALE:GREGORIAN
UID:31303235-3366-4962-b337-613036373432
BEGIN:VEVENT
UID:36373435-3931-4861-a661-643736363332
DTSTAMP:20260423T050011Z
DESCRIPTION:1/4 Odolena Voda - Nymburk 0:3 (-16\,-16\,-14)
DTSTART;TZID=Europe/Berlin:20200905T100000
DTEND;TZID=Europe/Berlin:20200905T120000
LOCATION:Sportovní hala\, Ke Stadionu 375 Odolena Voda
SUMMARY:ST-KTI: Odolena Voda-Nymburk
END:VEVENT
BEGIN:VEVENT
UID:33366336-6637-4339-a232-383862376431
DTSTAMP:20260423T050011Z
DESCRIPTION:2/13 Odolena Voda - Příbram 2:3 (-23\,15\,-22\,25\,-7)\nPořadat
 el: AERO Odolena Voda
DTSTART;TZID=Europe/Berlin:20200920T100000
DTEND;TZID=Europe/Berlin:20200920T120000
LOCATION:Sportovní hala\, Ke Stadionu 375 Odolena Voda
SUMMARY:ST-KTI: Odolena Voda-Příbram
END:VEVENT
BEGIN:VEVENT
UID:64636465-6164-4633-a364-316134636138
DTSTAMP:20260423T050011Z
DESCRIPTION:3/24 Odolena Voda - Říčany 3:0 (11\,3\,16)
DTSTART;TZID=Europe/Berlin:20201004T100000
DTEND;TZID=Europe/Berlin:20201004T120000
LOCATION:Sportovní hala\, Ke Stadionu 375 Odolena Voda
SUMMARY:ST-KTI: Odolena Voda-Říčany
END:VEVENT
BEGIN:VEVENT
UID:36396437-3366-4034-b961-616239623230
DTSTAMP:20260423T050011Z
DESCRIPTION:4/26 Odolena Voda - Nymburk\nPořadatel: 1 hřiště
DTSTART;TZID=Europe/Berlin:20210110T100000
DTEND;TZID=Europe/Berlin:20210110T120000
LOCATION:Sportovní hala\, Ke Stadionu 375 Odolena Voda
SUMMARY:ST-KTI: Odolena Voda-Nymburk
END:VEVENT
BEGIN:VEVENT
UID:34356334-3962-4737-b935-363632646361
DTSTAMP:20260423T050011Z
DESCRIPTION:5/36 Odolena Voda - Mělník
DTSTART;TZID=Europe/Berlin:20210123T100000
DTEND;TZID=Europe/Berlin:20210123T120000
LOCATION:Sportovní hala\, Ke Stadionu 375 Odolena Voda
SUMMARY:ST-KTI: Odolena Voda-Mělník
END:VEVENT
BEGIN:VEVENT
UID:34333631-3565-4837-a631-656339326266
DTSTAMP:20260423T050011Z
DESCRIPTION:6/45 Odolena Voda - Komárov\nPořadatel: AERO Odolena Voda
DTSTART;TZID=Europe/Berlin:20210228T100000
DTEND;TZID=Europe/Berlin:20210228T120000
LOCATION:Sportovní hala\, Ke Stadionu 375 Odolena Voda
SUMMARY:ST-KTI: Odolena Voda-Komárov
END:VEVENT
BEGIN:VEVENT
UID:63306334-3362-4163-a639-303634643963
DTSTAMP:20260423T050011Z
DESCRIPTION:7/55 Odolena Voda - Říčany
DTSTART;TZID=Europe/Berlin:20210320T100000
DTEND;TZID=Europe/Berlin:20210320T120000
LOCATION:Sportovní hala\, Ke Stadionu 375 Odolena Voda
SUMMARY:ST-KTI: Odolena Voda-Říčany
END:VEVENT
BEGIN:VEVENT
UID:66613662-3132-4138-b730-363862666539
DTSTAMP:20260423T050011Z
DESCRIPTION:1/2 Benátky nad Jizerou - Odolena Voda 0:3 (-21\,-12\,-14)
DTSTART;TZID=Europe/Berlin:20200905T100000
DTEND;TZID=Europe/Berlin:20200905T120000
LOCATION:Nibe aréna\, městská sportovní hala\, 5. května 746 Benátky nad Ji
 zerou - Benátky nad Jizerou II
SUMMARY:ST-KTI: Benátky nad Jizerou-Odolena Voda
END:VEVENT
BEGIN:VEVENT
UID:35386537-6133-4338-b834-366131363533
DTSTAMP:20260423T050011Z
DESCRIPTION:2/16 Komárov - Odolena Voda 0:3 (-17\,-12\,-12)
DTSTART;TZID=Europe/Berlin:20200920T100000
DTEND;TZID=Europe/Berlin:20200920T120000
LOCATION:Sokolovna Komárov\, Sokolská 230 Komárov
SUMMARY:ST-KTI: Komárov-Odolena Voda
END:VEVENT
BEGIN:VEVENT
UID:36383063-3165-4231-a463-373336366161
DTSTAMP:20260423T050011Z
DESCRIPTION:3/22 Králův Dvůr - Odolena Voda 0:3 (-14\,-8\,-16)
DTSTART;TZID=Europe/Berlin:20201004T100000
DTEND;TZID=Europe/Berlin:20201004T120000
LOCATION:TJ LOKOMOTIVA BEROUN\, Tyršova 85 Beroun - Beroun-Město
SUMMARY:ST-KTI: Králův Dvůr-Odolena Voda
END:VEVENT
BEGIN:VEVENT
UID:33623131-3865-4232-b661-396565623331
DTSTAMP:20260423T050011Z
DESCRIPTION:4/27 Benátky nad Jizerou - Odolena Voda
DTSTART;TZID=Europe/Berlin:20210110T100000
DTEND;TZID=Europe/Berlin:20210110T120000
LOCATION:Nibe aréna\, městská sportovní hala\, 5. května 746 Benátky nad Ji
 zerou - Benátky nad Jizerou II
SUMMARY:ST-KTI: Benátky nad Jizerou-Odolena Voda
END:VEVENT
BEGIN:VEVENT
UID:66666366-3862-4837-b533-646463626431
DTSTAMP:20260423T050011Z
DESCRIPTION:5/35 Mělník - Odolena Voda\nPořadatel: TJ EMĚ Mělník
DTSTART;TZID=Europe/Berlin:20210123T100000
DTEND;TZID=Europe/Berlin:20210123T120000
LOCATION:Hala SPŠS - Koktánek\, Pražská 416 Mělník
SUMMARY:ST-KTI: Mělník-Odolena Voda
END:VEVENT
BEGIN:VEVENT
UID:32646633-3864-4834-b663-316662626164
DTSTAMP:20260423T050011Z
DESCRIPTION:6/48 Příbram - Odolena Voda
DTSTART;TZID=Europe/Berlin:20210228T100000
DTEND;TZID=Europe/Berlin:20210228T120000
LOCATION:Tělocvična ZŠ Balbínova\, Balbínova 328 Příbram - Příbram II
SUMMARY:ST-KTI: Příbram-Odolena Voda
END:VEVENT
BEGIN:VEVENT
UID:36626236-6434-4663-b937-313331323237
DTSTAMP:20260423T050011Z
DESCRIPTION:7/53 Králův Dvůr - Odolena Voda\nPořadatel: TJ Sokol Králův Dvů
 r
DTSTART;TZID=Europe/Berlin:20210320T100000
DTEND;TZID=Europe/Berlin:20210320T120000
LOCATION:TJ LOKOMOTIVA BEROUN\, Tyršova 85 Beroun - Beroun-Město
SUMMARY:ST-KTI: Králův Dvůr-Odolena Voda
END:VEVENT
END:VCALENDAR
