BEGIN:VCALENDAR
VERSION:2.0
PRODID:-//TJ Neratovice74310//NONSGML kigkonsult.se iCalcreator 2.41.80//
CALSCALE:GREGORIAN
UID:36633761-6439-4139-b363-356465366461
BEGIN:VEVENT
UID:62366532-6663-4535-b834-646435656463
DTSTAMP:20260422T061816Z
DESCRIPTION:1/1 Neratovice - Říčany 3:0 (20\,17\,19)\nPořadatel: TJ Neratov
 ice
DTSTART;TZID=Europe/Berlin:20200920T100000
DTEND;TZID=Europe/Berlin:20200920T120000
LOCATION:sportovní hala TJ Neratovice \, Kpt. Jaroše 233 Neratovice
SUMMARY:ST-JKY: Neratovice-Říčany
END:VEVENT
BEGIN:VEVENT
UID:36666430-3834-4935-b561-356463323464
DTSTAMP:20260422T061816Z
DESCRIPTION:2/16 Neratovice - Benátky nad Jizerou 1:3 (24\,-15\,-20\,-23)
DTSTART;TZID=Europe/Berlin:20200927T100000
DTEND;TZID=Europe/Berlin:20200927T120000
LOCATION:sportovní hala TJ Neratovice \, Kpt. Jaroše 233 Neratovice
SUMMARY:ST-JKY: Neratovice-Benátky nad Jizerou
END:VEVENT
BEGIN:VEVENT
UID:62346663-3630-4366-a131-666231376534
DTSTAMP:20260422T061816Z
DESCRIPTION:4/28 Neratovice - Hořovice\nPořadatel: TJ Neratovice
DTSTART;TZID=Europe/Berlin:20210123T100000
DTEND;TZID=Europe/Berlin:20210123T120000
LOCATION:sportovní hala TJ Neratovice \, Kpt. Jaroše 233 Neratovice
SUMMARY:ST-JKY: Neratovice-Hořovice
END:VEVENT
BEGIN:VEVENT
UID:31636261-6339-4335-b832-313966616132
DTSTAMP:20260422T061816Z
DESCRIPTION:5/44 Neratovice - Mělník
DTSTART;TZID=Europe/Berlin:20210228T100000
DTEND;TZID=Europe/Berlin:20210228T120000
LOCATION:sportovní hala TJ Neratovice \, Kpt. Jaroše 233 Neratovice
SUMMARY:ST-JKY: Neratovice-Mělník
END:VEVENT
BEGIN:VEVENT
UID:30353765-6133-4733-a466-333636346238
DTSTAMP:20260422T061816Z
DESCRIPTION:1/4 Kunice - Neratovice 3:1 (22\,14\,-19\,21)
DTSTART;TZID=Europe/Berlin:20200920T100000
DTEND;TZID=Europe/Berlin:20200920T120000
LOCATION:ZŠ Kunice\, Na Návsi 60 Kunice
SUMMARY:ST-JKY: Kunice-Neratovice
END:VEVENT
BEGIN:VEVENT
UID:37666564-3562-4265-b232-646232363732
DTSTAMP:20260422T061816Z
DESCRIPTION:2/14 Mladá Boleslav - Neratovice 1:3 (21\,-22\,-23\,-11)
DTSTART;TZID=Europe/Berlin:20200927T100000
DTEND;TZID=Europe/Berlin:20200927T120000
LOCATION:Městská Sportovní hala\, U stadionu 1322 Mladá Boleslav - Mladá Bo
 leslav II
SUMMARY:ST-JKY: Mladá Boleslav-Neratovice
END:VEVENT
BEGIN:VEVENT
UID:63623531-6330-4461-b261-666263653162
DTSTAMP:20260422T061816Z
DESCRIPTION:3/27 Čelákovice - Neratovice 0:3 (-16\,-14\,-23)\nPořadatel: VS
 C Čelákovice
DTSTART;TZID=Europe/Berlin:20201011T100000
DTEND;TZID=Europe/Berlin:20201011T120000
LOCATION:Sportovní hala Vikomt\, U Učiliště 1683 Čelákovice
SUMMARY:ST-JKY: Čelákovice-Neratovice
END:VEVENT
BEGIN:VEVENT
UID:61303830-3739-4164-b730-303834636233
DTSTAMP:20260422T061816Z
DESCRIPTION:4/31 Komárov - Neratovice
DTSTART;TZID=Europe/Berlin:20210123T100000
DTEND;TZID=Europe/Berlin:20210123T120000
LOCATION:Sokolovna Komárov\, Sokolská 230 Komárov
SUMMARY:ST-JKY: Komárov-Neratovice
END:VEVENT
BEGIN:VEVENT
UID:37393930-3638-4536-b737-623666356439
DTSTAMP:20260422T061816Z
DESCRIPTION:5/42 Rakovník - Neratovice\nPořadatel: 2 hřiště
DTSTART;TZID=Europe/Berlin:20210228T100000
DTEND;TZID=Europe/Berlin:20210228T120000
LOCATION:, Čermákovy sady 2079 Rakovník - Rakovník II
SUMMARY:ST-JKY: Rakovník-Neratovice
END:VEVENT
BEGIN:VEVENT
UID:39373663-6237-4239-b834-633165633663
DTSTAMP:20260422T061816Z
DESCRIPTION:1/2 Neratovice - Mělník 0:2 (-8\,-11)
DTSTART;TZID=Europe/Berlin:20210606T100000
DTEND;TZID=Europe/Berlin:20210606T120000
LOCATION:sportovní hala TJ Neratovice \, Kpt. Jaroše 233 Neratovice
SUMMARY:ST-JKY-JA: Neratovice-Mělník
END:VEVENT
BEGIN:VEVENT
UID:33643534-6436-4738-b862-653135396536
DTSTAMP:20260422T061816Z
DESCRIPTION:1/5 Neratovice - Benátky nad Jizerou 0:2 (-23\,-23)
DTSTART;TZID=Europe/Berlin:20210606T100000
DTEND;TZID=Europe/Berlin:20210606T120000
LOCATION:sportovní hala TJ Neratovice \, Kpt. Jaroše 233 Neratovice
SUMMARY:ST-JKY-JA: Neratovice-Benátky nad Jizerou
END:VEVENT
BEGIN:VEVENT
UID:65396462-3133-4533-a331-383637626566
DTSTAMP:20260422T061816Z
DESCRIPTION:1/4 Nymburk - Neratovice 2:0 (23\,18)
DTSTART;TZID=Europe/Berlin:20210606T100000
DTEND;TZID=Europe/Berlin:20210606T120000
LOCATION:Zimní stadion\, U Stadionu 12 Nymburk
SUMMARY:ST-JKY-JA: Nymburk-Neratovice
END:VEVENT
BEGIN:VEVENT
UID:62393362-3063-4431-a166-623733666134
DTSTAMP:20260422T061816Z
DESCRIPTION:1/3 Neratovice - Rakovník 2:0 (7\,22)
DTSTART;TZID=Europe/Berlin:20210620T100000
DTEND;TZID=Europe/Berlin:20210620T120000
LOCATION:sportovní hala TJ Neratovice \, Kpt. Jaroše 233 Neratovice
SUMMARY:ST-JKY-J2: Neratovice-Rakovník
END:VEVENT
BEGIN:VEVENT
UID:39663861-6464-4131-b664-363035343836
DTSTAMP:20260422T061816Z
DESCRIPTION:1/1 Benátky nad Jizerou - Neratovice 2:0 (18\,12)\nPořadatel: V
 K Benátky nad Jizerou
DTSTART;TZID=Europe/Berlin:20210620T100000
DTEND;TZID=Europe/Berlin:20210620T120000
LOCATION:Nibe aréna\, městská sportovní hala\, 5. května 746 Benátky nad Ji
 zerou - Benátky nad Jizerou II
SUMMARY:ST-JKY-J2: Benátky nad Jizerou-Neratovice
END:VEVENT
BEGIN:VEVENT
UID:31366233-6364-4331-b537-666239373730
DTSTAMP:20260422T061816Z
DESCRIPTION:1/5 Říčany - Neratovice 0:2 (-13\,-4)
DTSTART;TZID=Europe/Berlin:20210620T100000
DTEND;TZID=Europe/Berlin:20210620T120000
LOCATION:ZŠ Bezručova\, Bezručova 94 Říčany - Radošovice
SUMMARY:ST-JKY-J2: Říčany-Neratovice
END:VEVENT
END:VCALENDAR
