BEGIN:VCALENDAR
VERSION:2.0
PRODID:-//TJ EMĚ Mělník A74340//NONSGML kigkonsult.se iCalcreator 2.41.80//
CALSCALE:GREGORIAN
UID:32353562-6331-4766-b735-613461666161
BEGIN:VEVENT
UID:61626439-6636-4563-a563-316339633162
DTSTAMP:20260422T235812Z
DESCRIPTION:1/1 Mělník A - Kunice 3:0 (18\,21\,16)\nPořadatel: TJ EMĚ Mělní
 k
DTSTART;TZID=Europe/Berlin:20200906T100000
DTEND;TZID=Europe/Berlin:20200906T120000
LOCATION:Tělocvična ZŠ J. Matiegky\, Pražská 2817 Mělník
SUMMARY:ST-KKY-B: Mělník A-Kunice
END:VEVENT
BEGIN:VEVENT
UID:66616566-6437-4337-a337-666462613837
DTSTAMP:20260422T235812Z
DESCRIPTION:2/11 Mělník A - Hořovice 3:1 (19\,15\,-20\,14)
DTSTART;TZID=Europe/Berlin:20200912T100000
DTEND;TZID=Europe/Berlin:20200912T120000
LOCATION:Tělocvična ZŠ J. Matiegky\, Pražská 2817 Mělník
SUMMARY:ST-KKY-B: Mělník A-Hořovice
END:VEVENT
BEGIN:VEVENT
UID:63373034-6134-4462-b031-656662326432
DTSTAMP:20260422T235812Z
DESCRIPTION:3/18 Mělník A - Roztoky 3:2 (20\,-23\,-22\,16\,8)\nPořadatel: 2
  hřiště
DTSTART;TZID=Europe/Berlin:20201004T100000
DTEND;TZID=Europe/Berlin:20201004T120000
LOCATION:Tělocvična ZŠ J. Matiegky\, Pražská 2817 Mělník
SUMMARY:ST-KKY-B: Mělník A-Roztoky
END:VEVENT
BEGIN:VEVENT
UID:36623032-3233-4264-b335-323664323535
DTSTAMP:20260422T235812Z
DESCRIPTION:4/26 Mělník A - Mělník B\nPořadatel: odloženo
DTSTART;TZID=Europe/Berlin:20201015T170000
DTEND;TZID=Europe/Berlin:20201015T190000
LOCATION:Tělocvična ZŠ J. Matiegky\, Pražská 2817 Mělník
SUMMARY:ST-KKY-B: Mělník A-Mělník B
END:VEVENT
BEGIN:VEVENT
UID:37323161-3632-4564-b563-383433343339
DTSTAMP:20260422T235812Z
DESCRIPTION:5/33 Mělník A - Komárov\nPořadatel: TJ EMĚ Mělník\, ZŠ J. Matie
 gky\,
DTSTART;TZID=Europe/Berlin:20201108T100000
DTEND;TZID=Europe/Berlin:20201108T120000
LOCATION:Tělocvična ZŠ J. Matiegky\, Pražská 2817 Mělník
SUMMARY:ST-KKY-B: Mělník A-Komárov
END:VEVENT
BEGIN:VEVENT
UID:34373664-3162-4431-a532-383134346133
DTSTAMP:20260422T235812Z
DESCRIPTION:6/43 Mělník A - VK Benešovská
DTSTART;TZID=Europe/Berlin:20201129T100000
DTEND;TZID=Europe/Berlin:20201129T120000
LOCATION:Tělocvična ZŠ J. Matiegky\, Pražská 2817 Mělník
SUMMARY:ST-KKY-B: Mělník A-VK Benešovská
END:VEVENT
BEGIN:VEVENT
UID:35653636-3664-4334-a661-383436303733
DTSTAMP:20260422T235812Z
DESCRIPTION:7/52 Mělník A - Rakovník
DTSTART;TZID=Europe/Berlin:20201212T100000
DTEND;TZID=Europe/Berlin:20201212T120000
LOCATION:Tělocvična ZŠ J. Matiegky\, Pražská 2817 Mělník
SUMMARY:ST-KKY-B: Mělník A-Rakovník
END:VEVENT
BEGIN:VEVENT
UID:66323239-6232-4236-b830-353562636430
DTSTAMP:20260422T235812Z
DESCRIPTION:1/4 VK Benešovská - Mělník A 0:3 (-15\,-15\,-16)
DTSTART;TZID=Europe/Berlin:20200906T100000
DTEND;TZID=Europe/Berlin:20200906T120000
LOCATION:ZŠ Jiráskova\, Jiráskova 888 Benešov
SUMMARY:ST-KKY-B: VK Benešovská-Mělník A
END:VEVENT
BEGIN:VEVENT
UID:66653966-6362-4662-a536-386231663533
DTSTAMP:20260422T235812Z
DESCRIPTION:2/9 Komárov - Mělník A 2:3 (17\,9\,-23\,-22\,-11)\nPořadatel: T
 J Sokol Komárov
DTSTART;TZID=Europe/Berlin:20200912T100000
DTEND;TZID=Europe/Berlin:20200912T120000
LOCATION:Sokolovna Komárov\, Sokolská 230 Komárov
SUMMARY:ST-KKY-B: Komárov-Mělník A
END:VEVENT
BEGIN:VEVENT
UID:39653265-3230-4130-a134-383532306266
DTSTAMP:20260422T235812Z
DESCRIPTION:3/19 Rakovník - Mělník A 0:3 (-11\,-17\,-15)
DTSTART;TZID=Europe/Berlin:20201004T100000
DTEND;TZID=Europe/Berlin:20201004T120000
LOCATION:, Čermákovy sady 2079 Rakovník - Rakovník II
SUMMARY:ST-KKY-B: Rakovník-Mělník A
END:VEVENT
BEGIN:VEVENT
UID:39306631-6635-4138-a333-313934333766
DTSTAMP:20260422T235812Z
DESCRIPTION:4/25 Mělník B - Mělník A\nPořadatel: TJ EMĚ Mělník - odloženo
DTSTART;TZID=Europe/Berlin:20201013T170000
DTEND;TZID=Europe/Berlin:20201013T190000
LOCATION:Tělocvična ZŠ J. Matiegky\, Pražská 2817 Mělník
SUMMARY:ST-KKY-B: Mělník B-Mělník A
END:VEVENT
BEGIN:VEVENT
UID:64623330-3633-4861-b161-626464656366
DTSTAMP:20260422T235812Z
DESCRIPTION:5/36 Hořovice - Mělník A
DTSTART;TZID=Europe/Berlin:20201108T100000
DTEND;TZID=Europe/Berlin:20201108T120000
LOCATION:Sportovní hala\, Ke Stadionu 1385 Hořovice
SUMMARY:ST-KKY-B: Hořovice-Mělník A
END:VEVENT
BEGIN:VEVENT
UID:37323731-6233-4836-b539-636430613864
DTSTAMP:20260422T235812Z
DESCRIPTION:6/41 Kunice - Mělník A\nPořadatel: TJ Kunice
DTSTART;TZID=Europe/Berlin:20201129T100000
DTEND;TZID=Europe/Berlin:20201129T120000
LOCATION:ZŠ Kunice\, Na Návsi 60 Kunice
SUMMARY:ST-KKY-B: Kunice-Mělník A
END:VEVENT
BEGIN:VEVENT
UID:38346431-3531-4238-a162-613639373639
DTSTAMP:20260422T235812Z
DESCRIPTION:7/50 Roztoky - Mělník A\nPořadatel: 2 hřiště
DTSTART;TZID=Europe/Berlin:20201212T100000
DTEND;TZID=Europe/Berlin:20201212T120000
LOCATION:TJ Sokol Roztoky u Prahy\, Tyršovo nám. 480 Roztoky
SUMMARY:ST-KKY-B: Roztoky-Mělník A
END:VEVENT
BEGIN:VEVENT
UID:65313335-6166-4961-a134-353638393936
DTSTAMP:20260422T235812Z
DESCRIPTION:1/8 Mělník A - Kunice 3:0 (18\,21\,16)\nPořadatel: TJ EMĚ Mělní
 k
DTSTART;TZID=Europe/Berlin:20200906T100000
DTEND;TZID=Europe/Berlin:20200906T120000
LOCATION:Tělocvična ZŠ J. Matiegky\, Pražská 2817 Mělník
SUMMARY:ST-KKY: Mělník A-Kunice
END:VEVENT
BEGIN:VEVENT
UID:63613364-3661-4533-b336-323437616664
DTSTAMP:20260422T235812Z
DESCRIPTION:2/25 Mělník A - Hořovice 3:1 (19\,15\,-20\,14)
DTSTART;TZID=Europe/Berlin:20200912T100000
DTEND;TZID=Europe/Berlin:20200912T120000
LOCATION:Tělocvična ZŠ J. Matiegky\, Pražská 2817 Mělník
SUMMARY:ST-KKY: Mělník A-Hořovice
END:VEVENT
BEGIN:VEVENT
UID:34663966-3738-4139-b736-326563326532
DTSTAMP:20260422T235812Z
DESCRIPTION:3/39 Mělník A - Roztoky 3:2 (20\,-23\,-22\,16\,8)
DTSTART;TZID=Europe/Berlin:20201004T100000
DTEND;TZID=Europe/Berlin:20201004T120000
LOCATION:Tělocvična ZŠ J. Matiegky\, Pražská 2817 Mělník
SUMMARY:ST-KKY: Mělník A-Roztoky
END:VEVENT
BEGIN:VEVENT
UID:36643663-3934-4839-a636-393864323935
DTSTAMP:20260422T235812Z
DESCRIPTION:4/51 Mělník A - Benátky nad Jizerou\nPořadatel: 2 hřiště
DTSTART;TZID=Europe/Berlin:20210124T100000
DTEND;TZID=Europe/Berlin:20210124T120000
LOCATION:Tělocvična ZŠ J. Matiegky\, Pražská 2817 Mělník
SUMMARY:ST-KKY: Mělník A-Benátky nad Jizerou
END:VEVENT
BEGIN:VEVENT
UID:66326465-3737-4465-a436-623562643735
DTSTAMP:20260422T235812Z
DESCRIPTION:5/75 Mělník A - Kostomlaty nad Labem
DTSTART;TZID=Europe/Berlin:20210207T100000
DTEND;TZID=Europe/Berlin:20210207T120000
LOCATION:Tělocvična ZŠ J. Matiegky\, Pražská 2817 Mělník
SUMMARY:ST-KKY: Mělník A-Kostomlaty nad Labem
END:VEVENT
BEGIN:VEVENT
UID:62366235-6436-4466-a364-316532346130
DTSTAMP:20260422T235812Z
DESCRIPTION:6/84 Mělník A - Brandýs nad Labem\nPořadatel: TJ EMĚ Mělník
DTSTART;TZID=Europe/Berlin:20210307T100000
DTEND;TZID=Europe/Berlin:20210307T120000
LOCATION:Tělocvična ZŠ J. Matiegky\, Pražská 2817 Mělník
SUMMARY:ST-KKY: Mělník A-Brandýs nad Labem
END:VEVENT
BEGIN:VEVENT
UID:66303934-6330-4734-a136-306333313732
DTSTAMP:20260422T235812Z
DESCRIPTION:7/93 Mělník A - Nymburk
DTSTART;TZID=Europe/Berlin:20210327T100000
DTEND;TZID=Europe/Berlin:20210327T120000
LOCATION:Tělocvična ZŠ J. Matiegky\, Pražská 2817 Mělník
SUMMARY:ST-KKY: Mělník A-Nymburk
END:VEVENT
BEGIN:VEVENT
UID:34653539-6161-4937-b664-353766373365
DTSTAMP:20260422T235812Z
DESCRIPTION:1/11 VK Benešovská - Mělník A 0:3 (-15\,-15\,-16)
DTSTART;TZID=Europe/Berlin:20200906T100000
DTEND;TZID=Europe/Berlin:20200906T120000
LOCATION:ZŠ Jiráskova\, Jiráskova 888 Benešov
SUMMARY:ST-KKY: VK Benešovská-Mělník A
END:VEVENT
BEGIN:VEVENT
UID:34346364-3464-4131-b339-333134663062
DTSTAMP:20260422T235812Z
DESCRIPTION:2/23 Komárov - Mělník A 2:3 (17\,9\,-23\,-22\,-11)\nPořadatel: 
 TJ Sokol Komárov
DTSTART;TZID=Europe/Berlin:20200912T100000
DTEND;TZID=Europe/Berlin:20200912T120000
LOCATION:Sokolovna Komárov\, Sokolská 230 Komárov
SUMMARY:ST-KKY: Komárov-Mělník A
END:VEVENT
BEGIN:VEVENT
UID:66653739-3038-4437-b366-316232373537
DTSTAMP:20260422T235812Z
DESCRIPTION:3/40 Rakovník - Mělník A 0:3 (-11\,-17\,-15)
DTSTART;TZID=Europe/Berlin:20201004T100000
DTEND;TZID=Europe/Berlin:20201004T120000
LOCATION:, Čermákovy sady 2079 Rakovník - Rakovník II
SUMMARY:ST-KKY: Rakovník-Mělník A
END:VEVENT
BEGIN:VEVENT
UID:64386663-3162-4433-b530-353764356632
DTSTAMP:20260422T235812Z
DESCRIPTION:4/52 Mladá Boleslav - Mělník A
DTSTART;TZID=Europe/Berlin:20210124T100000
DTEND;TZID=Europe/Berlin:20210124T120000
LOCATION:7. Základní škola\, Václavkova 1082 Mladá Boleslav - Mladá Bolesla
 v II
SUMMARY:ST-KKY: Mladá Boleslav-Mělník A
END:VEVENT
BEGIN:VEVENT
UID:62366238-3233-4563-b666-353435643234
DTSTAMP:20260422T235812Z
DESCRIPTION:5/74 Mělník B - Mělník A\nPořadatel: 1 hřiště
DTSTART;TZID=Europe/Berlin:20210207T100000
DTEND;TZID=Europe/Berlin:20210207T120000
LOCATION:Tělocvična ZŠ J. Matiegky\, Pražská 2817 Mělník
SUMMARY:ST-KKY: Mělník B-Mělník A
END:VEVENT
BEGIN:VEVENT
UID:62336463-3737-4666-b638-303038383032
DTSTAMP:20260422T235812Z
DESCRIPTION:6/87 Neratovice - Mělník A
DTSTART;TZID=Europe/Berlin:20210307T100000
DTEND;TZID=Europe/Berlin:20210307T120000
LOCATION:sportovní hala TJ Neratovice \, Kpt. Jaroše 233 Neratovice
SUMMARY:ST-KKY: Neratovice-Mělník A
END:VEVENT
BEGIN:VEVENT
UID:33396430-3362-4933-b831-373162333231
DTSTAMP:20260422T235812Z
DESCRIPTION:7/91 Kutná Hora - Mělník A\nPořadatel: TJ Sparta Kutná Hora
DTSTART;TZID=Europe/Berlin:20210327T100000
DTEND;TZID=Europe/Berlin:20210327T120000
LOCATION:Klimeška\, Čáslavská 274 Kutná Hora - Karlov
SUMMARY:ST-KKY: Kutná Hora-Mělník A
END:VEVENT
BEGIN:VEVENT
UID:65623064-6333-4131-b135-366537303866
DTSTAMP:20260422T235812Z
DESCRIPTION:1/6 Mělník A - Neratovice 2:0 (12\,14)
DTSTART;TZID=Europe/Berlin:20210605T100000
DTEND;TZID=Europe/Berlin:20210605T120000
LOCATION:Tělocvična ZŠ J. Matiegky\, Pražská 2817 Mělník
SUMMARY:ST-KKY-JB: Mělník A-Neratovice
END:VEVENT
BEGIN:VEVENT
UID:39313932-6161-4934-b361-396235353066
DTSTAMP:20260422T235812Z
DESCRIPTION:1/2 Mělník B - Mělník A 0:2 (-16\,-10)
DTSTART;TZID=Europe/Berlin:20210605T100000
DTEND;TZID=Europe/Berlin:20210605T120000
LOCATION:Tělocvična ZŠ J. Matiegky\, Pražská 2817 Mělník
SUMMARY:ST-KKY-JB: Mělník B-Mělník A
END:VEVENT
BEGIN:VEVENT
UID:34343862-3938-4738-b039-386433653261
DTSTAMP:20260422T235812Z
DESCRIPTION:1/3 Kunice - Mělník A 0:2 (-10\,-19)
DTSTART;TZID=Europe/Berlin:20210605T100000
DTEND;TZID=Europe/Berlin:20210605T120000
LOCATION:ZŠ Kunice\, Na Návsi 60 Kunice
SUMMARY:ST-KKY-JB: Kunice-Mělník A
END:VEVENT
BEGIN:VEVENT
UID:36346131-3330-4365-b931-623462633262
DTSTAMP:20260422T235812Z
DESCRIPTION:1/6 Mělník A - Hořovice 1:2 (-14\,21\,-10)
DTSTART;TZID=Europe/Berlin:20210619T100000
DTEND;TZID=Europe/Berlin:20210619T120000
LOCATION:Tělocvična ZŠ J. Matiegky\, Pražská 2817 Mělník
SUMMARY:ST-KKY-J1: Mělník A-Hořovice
END:VEVENT
BEGIN:VEVENT
UID:31663438-6132-4439-a364-313133616532
DTSTAMP:20260422T235812Z
DESCRIPTION:1/2 Benátky nad Jizerou - Mělník A 2:0 (22\,22)
DTSTART;TZID=Europe/Berlin:20210619T100000
DTEND;TZID=Europe/Berlin:20210619T120000
LOCATION:Nibe aréna\, městská sportovní hala\, 5. května 746 Benátky nad Ji
 zerou - Benátky nad Jizerou II
SUMMARY:ST-KKY-J1: Benátky nad Jizerou-Mělník A
END:VEVENT
BEGIN:VEVENT
UID:38376130-3462-4739-b165-623636393136
DTSTAMP:20260422T235812Z
DESCRIPTION:1/3 Brandýs nad Labem - Mělník A 0:2 (-19\,-25)
DTSTART;TZID=Europe/Berlin:20210619T100000
DTEND;TZID=Europe/Berlin:20210619T120000
LOCATION:Sokolovna\, Zápská 329 Brandýs nad Labem-Stará Boleslav - Brandýs 
 nad Labem
SUMMARY:ST-KKY-J1: Brandýs nad Labem-Mělník A
END:VEVENT
END:VCALENDAR
