BEGIN:VCALENDAR
VERSION:2.0
PRODID:-//Volleyball Nymburk74432//NONSGML kigkonsult.se iCalcreator 2.41.80//
CALSCALE:GREGORIAN
UID:32316264-3130-4065-b366-613531353833
BEGIN:VEVENT
UID:34613333-3365-4465-a662-623062363639
DTSTAMP:20260422T154801Z
DESCRIPTION:1/12 Nymburk - Odolena Voda A 0:2 (-11\,-13)
DTSTART;TZID=Europe/Berlin:20201011T090000
DTEND;TZID=Europe/Berlin:20201011T110000
LOCATION:Zimní stadion\, U Stadionu 12 Nymburk
SUMMARY:ST-ZCIM-21D: Nymburk-Odolena Voda A
END:VEVENT
BEGIN:VEVENT
UID:64613563-3038-4437-b436-343465376237
DTSTAMP:20260422T154801Z
DESCRIPTION:1/9 Roztoky - Nymburk 2:0 (20\,11)
DTSTART;TZID=Europe/Berlin:20201011T090000
DTEND;TZID=Europe/Berlin:20201011T110000
LOCATION:Tělocvična ZŠ Roztoky\, Školní nám. 470 Roztoky
SUMMARY:ST-ZCIM-21D: Roztoky-Nymburk
END:VEVENT
BEGIN:VEVENT
UID:34373137-6330-4461-a337-653135373138
DTSTAMP:20260422T154801Z
DESCRIPTION:1/21 Odolena Voda E - Nymburk X:2
DTSTART;TZID=Europe/Berlin:20201011T090000
DTEND;TZID=Europe/Berlin:20201011T110000
LOCATION:Sportovní hala\, Ke Stadionu 375 Odolena Voda
SUMMARY:ST-ZCIM-21P2: Odolena Voda E-Nymburk
END:VEVENT
BEGIN:VEVENT
UID:61613262-3731-4561-a239-323261663438
DTSTAMP:20260422T154801Z
DESCRIPTION:1/28 Nymburk - Benátky nad Jizerou 0:2 (-27\,-17)
DTSTART;TZID=Europe/Berlin:20201011T090000
DTEND;TZID=Europe/Berlin:20201011T110000
LOCATION:Zimní stadion\, U Stadionu 12 Nymburk
SUMMARY:ST-ZCIM-21P3: Nymburk-Benátky nad Jizerou
END:VEVENT
END:VCALENDAR
