BEGIN:VCALENDAR
VERSION:2.0
PRODID:-//Kladno volejbal cz A74442//NONSGML kigkonsult.se iCalcreator 2.41.80//
CALSCALE:GREGORIAN
UID:66653262-3031-4461-a532-323134623431
BEGIN:VEVENT
UID:35353539-6363-4438-b331-363336396338
DTSTAMP:20260423T162019Z
DESCRIPTION:1/1 Kladno A - Odolena Voda D 2:0 (13\,15)
DTSTART;TZID=Europe/Berlin:20201011T090000
DTEND;TZID=Europe/Berlin:20201011T110000
LOCATION:Kladenská sportovní hala\, Sportovců 817 Kladno - Rozdělov
SUMMARY:ST-ZCIM-21A: Kladno A-Odolena Voda D
END:VEVENT
BEGIN:VEVENT
UID:31343131-3164-4135-a261-393466333930
DTSTAMP:20260423T162019Z
DESCRIPTION:1/7 Kladno A - Brandýs nad Labem 2:X
DTSTART;TZID=Europe/Berlin:20201011T090000
DTEND;TZID=Europe/Berlin:20201011T110000
LOCATION:Kladenská sportovní hala\, Sportovců 817 Kladno - Rozdělov
SUMMARY:ST-ZCIM-21A: Kladno A-Brandýs nad Labem
END:VEVENT
BEGIN:VEVENT
UID:32303366-3263-4664-a533-306130363936
DTSTAMP:20260423T162019Z
DESCRIPTION:1/15 Odolena Voda E - Kladno A X:2
DTSTART;TZID=Europe/Berlin:20201011T090000
DTEND;TZID=Europe/Berlin:20201011T110000
LOCATION:Sportovní hala\, Ke Stadionu 375 Odolena Voda
SUMMARY:ST-ZCIM-21A: Odolena Voda E-Kladno A
END:VEVENT
BEGIN:VEVENT
UID:62336466-6130-4934-b638-306335303432
DTSTAMP:20260423T162019Z
DESCRIPTION:1/19 Kladno A - Kladno C 2:0 (10\,9)
DTSTART;TZID=Europe/Berlin:20201011T090000
DTEND;TZID=Europe/Berlin:20201011T110000
LOCATION:Kladenská sportovní hala\, Sportovců 817 Kladno - Rozdělov
SUMMARY:ST-ZCIM-21P1: Kladno A-Kladno C
END:VEVENT
BEGIN:VEVENT
UID:34663331-3335-4439-a661-323232323639
DTSTAMP:20260423T162019Z
DESCRIPTION:1/25 Kladno A - Odolena Voda A 0:2 (-23\,-23)
DTSTART;TZID=Europe/Berlin:20201011T090000
DTEND;TZID=Europe/Berlin:20201011T110000
LOCATION:Kladenská sportovní hala\, Sportovců 817 Kladno - Rozdělov
SUMMARY:ST-ZCIM-21P2: Kladno A-Odolena Voda A
END:VEVENT
BEGIN:VEVENT
UID:39346334-3163-4164-b065-323839643231
DTSTAMP:20260423T162019Z
DESCRIPTION:1/31 Kladno A - Odolena Voda B 2:1 (18\,-18\,12)
DTSTART;TZID=Europe/Berlin:20201011T090000
DTEND;TZID=Europe/Berlin:20201011T110000
LOCATION:Kladenská sportovní hala\, Sportovců 817 Kladno - Rozdělov
SUMMARY:ST-ZCIM-21P3: Kladno A-Odolena Voda B
END:VEVENT
END:VCALENDAR
