BEGIN:VCALENDAR
VERSION:2.0
PRODID:-//Kladno volejbal cz B74443//NONSGML kigkonsult.se iCalcreator 2.41.80//
CALSCALE:GREGORIAN
UID:61333434-6566-4138-b563-623131333363
BEGIN:VEVENT
UID:64376164-3632-4633-b161-326462656637
DTSTAMP:20260422T213404Z
DESCRIPTION:1/3 Kladno B - Odolena Voda C 2:0 (18\,11)
DTSTART;TZID=Europe/Berlin:20201011T090000
DTEND;TZID=Europe/Berlin:20201011T110000
LOCATION:Kladenská sportovní hala\, Sportovců 817 Kladno - Rozdělov
SUMMARY:ST-ZCIM-21C: Kladno B-Odolena Voda C
END:VEVENT
BEGIN:VEVENT
UID:37613336-3038-4766-b032-393530396239
DTSTAMP:20260422T213404Z
DESCRIPTION:1/11 Kralupy - Kladno B 1:2 (24\,-16\,-10)
DTSTART;TZID=Europe/Berlin:20201011T090000
DTEND;TZID=Europe/Berlin:20201011T110000
LOCATION:TJ KRALUPY\, z.s.\, Gen. Klapálka 1029 Kralupy nad Vltavou
SUMMARY:ST-ZCIM-21C: Kralupy-Kladno B
END:VEVENT
BEGIN:VEVENT
UID:64326338-3936-4161-b436-343730393866
DTSTAMP:20260422T213404Z
DESCRIPTION:1/18 Kladno B - Roztoky 2:0 (19\,20)
DTSTART;TZID=Europe/Berlin:20201011T090000
DTEND;TZID=Europe/Berlin:20201011T110000
LOCATION:Kladenská sportovní hala\, Sportovců 817 Kladno - Rozdělov
SUMMARY:ST-ZCIM-21P1: Kladno B-Roztoky
END:VEVENT
BEGIN:VEVENT
UID:32316662-3461-4437-a631-666637386364
DTSTAMP:20260422T213404Z
DESCRIPTION:1/26 Kladno B - Odolena Voda B 2:0 (10\,8)
DTSTART;TZID=Europe/Berlin:20201011T090000
DTEND;TZID=Europe/Berlin:20201011T110000
LOCATION:Kladenská sportovní hala\, Sportovců 817 Kladno - Rozdělov
SUMMARY:ST-ZCIM-21P2: Kladno B-Odolena Voda B
END:VEVENT
BEGIN:VEVENT
UID:64386163-3132-4563-b465-376339643062
DTSTAMP:20260422T213404Z
DESCRIPTION:1/32 Odolena Voda A - Kladno B 2:0 (22\,20)
DTSTART;TZID=Europe/Berlin:20201011T090000
DTEND;TZID=Europe/Berlin:20201011T110000
LOCATION:Sportovní hala\, Ke Stadionu 375 Odolena Voda
SUMMARY:ST-ZCIM-21P3: Odolena Voda A-Kladno B
END:VEVENT
END:VCALENDAR
