BEGIN:VCALENDAR
VERSION:2.0
PRODID:-//TJ Sokol Bohuňovice75054//NONSGML kigkonsult.se iCalcreator 2.41.80//
CALSCALE:GREGORIAN
UID:38643763-6266-4638-b231-306137383966
BEGIN:VEVENT
UID:61336664-3439-4733-b062-633739623364
DTSTAMP:20260422T014959Z
DESCRIPTION:1/6 Bohuňovice - Prostějov A 0:2 (-8\,-7)\nkurt 3
DTSTART;TZID=Europe/Berlin:20201004T153000
DTEND;TZID=Europe/Berlin:20201004T173000
LOCATION:Městská sportovní hala\, Petřivalského 2884 Přerov - Přerov I-Měst
 o
SUMMARY:OLK-ZKY-KC: Bohuňovice-Prostějov A
END:VEVENT
BEGIN:VEVENT
UID:33316563-3835-4830-a132-633836376261
DTSTAMP:20260422T014959Z
DESCRIPTION:1/2 VK UP Olomouc A - Bohuňovice 2:0 (3\,10)\nkurt 3
DTSTART;TZID=Europe/Berlin:20201004T093000
DTEND;TZID=Europe/Berlin:20201004T113000
LOCATION:Městská sportovní hala\, Petřivalského 2884 Přerov - Přerov I-Měst
 o
SUMMARY:OLK-ZKY-KC: VK UP Olomouc A-Bohuňovice
END:VEVENT
BEGIN:VEVENT
UID:37316562-6361-4564-b037-626336633232
DTSTAMP:20260422T014959Z
DESCRIPTION:1/3 Přerov C - Bohuňovice 1:2 (24\,-21\,-12)\nkurt 3
DTSTART;TZID=Europe/Berlin:20201004T103000
DTEND;TZID=Europe/Berlin:20201004T123000
LOCATION:Městská sportovní hala\, Petřivalského 2884 Přerov - Přerov I-Měst
 o
SUMMARY:OLK-ZKY-KC: Přerov C-Bohuňovice
END:VEVENT
BEGIN:VEVENT
UID:64386462-3337-4366-b337-656136383433
DTSTAMP:20260422T014959Z
DESCRIPTION:1/1 VAM Olomouc A - Bohuňovice 2:0 (17\,22)\nkurt 2
DTSTART;TZID=Europe/Berlin:20201004T163000
DTEND;TZID=Europe/Berlin:20201004T183000
LOCATION:Městská sportovní hala\, Petřivalského 2884 Přerov - Přerov I-Měst
 o
SUMMARY:OLK-ZKY-FB: VAM Olomouc A-Bohuňovice
END:VEVENT
END:VCALENDAR
