BEGIN:VCALENDAR
VERSION:2.0
PRODID:-//SVČ Pohořelice75443//NONSGML kigkonsult.se iCalcreator 2.41.80//
CALSCALE:GREGORIAN
UID:65323838-3338-4765-b035-663534316562
BEGIN:VEVENT
UID:39303762-6665-4165-b866-633430383932
DTSTAMP:20260422T202140Z
DESCRIPTION:2/3 SVČ Pohořelice - Tělovýchovná jednota Sokol Újezd u Brna 0:
 2 (-0\,-0)\nKurt 1
DTSTART;TZID=Europe/Berlin:20200912T103000
DTEND;TZID=Europe/Berlin:20200912T123000
LOCATION:sportovní hala\, Dlouhá 39 Pohořelice
SUMMARY:JM-ZKY-KVE: SVČ Pohořelice-Tělovýchovná jednota Sokol Újezd u Brna
END:VEVENT
BEGIN:VEVENT
UID:32383931-3863-4630-b666-613462393033
DTSTAMP:20260422T202140Z
DESCRIPTION:1/1 TJ Agrotec Hustopeče z.s. - SVČ Pohořelice 2:0 (0\,0)\nKurt
  1
DTSTART;TZID=Europe/Berlin:20200912T090000
DTEND;TZID=Europe/Berlin:20200912T110000
LOCATION:Městská sportovní hala\, Šafaříkova 1016 Hustopeče
SUMMARY:JM-ZKY-KVE: TJ Agrotec Hustopeče z.s.-SVČ Pohořelice
END:VEVENT
BEGIN:VEVENT
UID:33333264-6333-4236-b466-323230656161
DTSTAMP:20260422T202140Z
DESCRIPTION:3/5 Znojmo - SVČ Pohořelice 2:0 (0\,0)\nKurt 1
DTSTART;TZID=Europe/Berlin:20200912T114500
DTEND;TZID=Europe/Berlin:20200912T134500
LOCATION:Tělocvična ZŠ Prokopa Diviše a MŠ\, Ke Škole 569 Znojmo - Přímětic
 e
SUMMARY:JM-ZKY-KVE: Znojmo-SVČ Pohořelice
END:VEVENT
BEGIN:VEVENT
UID:37366265-3330-4366-b262-343738663162
DTSTAMP:20260422T202140Z
DESCRIPTION:2/3 SVČ Pohořelice - VOLEJBAL VYŠKOV\, z.s. B X:2
DTSTART;TZID=Europe/Berlin:20200926T103000
DTEND;TZID=Europe/Berlin:20200926T123000
LOCATION:sportovní hala\, Dlouhá 39 Pohořelice
SUMMARY:JM-ZKY-IG: SVČ Pohořelice-VOLEJBAL VYŠKOV\, z.s. B
END:VEVENT
BEGIN:VEVENT
UID:35366236-6561-4465-a436-653435666461
DTSTAMP:20260422T202140Z
DESCRIPTION:1/1 TJ SOKOL LETOVICE\, z.s. - SVČ Pohořelice 2:X
DTSTART;TZID=Europe/Berlin:20200926T090000
DTEND;TZID=Europe/Berlin:20200926T110000
LOCATION:Sportovní hala Letovice\, V zahradách 831 Letovice
SUMMARY:JM-ZKY-IG: TJ SOKOL LETOVICE\, z.s.-SVČ Pohořelice
END:VEVENT
BEGIN:VEVENT
UID:31313431-3564-4631-a633-323231386436
DTSTAMP:20260422T202140Z
DESCRIPTION:3/5 TJ Slovan Ivančice\, z.s. - SVČ Pohořelice 2:X
DTSTART;TZID=Europe/Berlin:20200926T114500
DTEND;TZID=Europe/Berlin:20200926T134500
LOCATION:sokolovna Ivančice\, Rybářská 1052 Ivančice
SUMMARY:JM-ZKY-IG: TJ Slovan Ivančice\, z.s.-SVČ Pohořelice
END:VEVENT
END:VCALENDAR
