BEGIN:VCALENDAR
VERSION:2.0
PRODID:-//TJ Slovan J. Hradec75736//NONSGML kigkonsult.se iCalcreator 2.41.80//
CALSCALE:GREGORIAN
UID:61653136-6335-4233-a534-343632643432
BEGIN:VEVENT
UID:32616662-3163-4133-b731-353939643630
DTSTAMP:20260423T042826Z
DESCRIPTION:1/2 TJ Slovan J. Hradec - TJ ČZ Strakonice 1:2 (-21\,16\,-13)
DTSTART;TZID=Europe/Berlin:20210926T100000
DTEND;TZID=Europe/Berlin:20210926T120000
LOCATION:ZŠ Oskara Nedbala České Budějovice\, O. Nedbala 882 České Budějovi
 ce - České Budějovice 2
SUMMARY:JC-JKY-1A: TJ Slovan J. Hradec-TJ ČZ Strakonice
END:VEVENT
BEGIN:VEVENT
UID:31303630-6132-4636-b639-646439393535
DTSTAMP:20260423T042826Z
DESCRIPTION:1/6 TJ Slovan J. Hradec - SK Třebín C 2:1 (-15\,9\,11)
DTSTART;TZID=Europe/Berlin:20210926T100000
DTEND;TZID=Europe/Berlin:20210926T120000
LOCATION:ZŠ Oskara Nedbala České Budějovice\, O. Nedbala 882 České Budějovi
 ce - České Budějovice 2
SUMMARY:JC-JKY-1A: TJ Slovan J. Hradec-SK Třebín C
END:VEVENT
BEGIN:VEVENT
UID:37643964-3834-4334-a139-303932353561
DTSTAMP:20260423T042826Z
DESCRIPTION:1/3 České Budějovice C - TJ Slovan J. Hradec 2:0 (20\,18)
DTSTART;TZID=Europe/Berlin:20210926T100000
DTEND;TZID=Europe/Berlin:20210926T120000
LOCATION:ZŠ Oskara Nedbala České Budějovice\, O. Nedbala 882 České Budějovi
 ce - České Budějovice 2
SUMMARY:JC-JKY-1A: České Budějovice C-TJ Slovan J. Hradec
END:VEVENT
BEGIN:VEVENT
UID:64366235-3236-4537-b063-383365383935
DTSTAMP:20260423T042826Z
DESCRIPTION:1/4 TJ Slovan J. Hradec - VSK ČK B 2:0 (0\,0)
DTSTART;TZID=Europe/Berlin:20211205T100000
DTEND;TZID=Europe/Berlin:20211205T120000
LOCATION:TĚLOVÝCHOVNÁ JEDNOTA LOKOMOTIVA z. s.\, Třebízského 1044 České Bud
 ějovice - České Budějovice 5
SUMMARY:JC-JKY-2B: TJ Slovan J. Hradec-VSK ČK B
END:VEVENT
BEGIN:VEVENT
UID:32616230-3763-4432-a463-343530396434
DTSTAMP:20260423T042826Z
DESCRIPTION:1/7 TJ Slovan J. Hradec - VSK ČK A 2:1 (-13\,18\,5)
DTSTART;TZID=Europe/Berlin:20211205T110000
DTEND;TZID=Europe/Berlin:20211205T130000
LOCATION:TĚLOVÝCHOVNÁ JEDNOTA LOKOMOTIVA z. s.\, Třebízského 1044 České Bud
 ějovice - České Budějovice 5
SUMMARY:JC-JKY-2B: TJ Slovan J. Hradec-VSK ČK A
END:VEVENT
BEGIN:VEVENT
UID:30303863-3664-4363-b530-306365613032
DTSTAMP:20260423T042826Z
DESCRIPTION:1/13 TJ Slovan J. Hradec - VSK Slavia ČB 2:0 (20\,17)
DTSTART;TZID=Europe/Berlin:20211205T130000
DTEND;TZID=Europe/Berlin:20211205T150000
LOCATION:TĚLOVÝCHOVNÁ JEDNOTA LOKOMOTIVA z. s.\, Třebízského 1044 České Bud
 ějovice - České Budějovice 5
SUMMARY:JC-JKY-2B: TJ Slovan J. Hradec-VSK Slavia ČB
END:VEVENT
BEGIN:VEVENT
UID:32333039-6537-4136-b131-376362623664
DTSTAMP:20260423T042826Z
DESCRIPTION:1/1 SK Třebín C - TJ Slovan J. Hradec 0:2 (-18\,-25)
DTSTART;TZID=Europe/Berlin:20211205T090000
DTEND;TZID=Europe/Berlin:20211205T110000
LOCATION:TĚLOVÝCHOVNÁ JEDNOTA LOKOMOTIVA z. s.\, Třebízského 1044 České Bud
 ějovice - České Budějovice 5
SUMMARY:JC-JKY-2B: SK Třebín C-TJ Slovan J. Hradec
END:VEVENT
BEGIN:VEVENT
UID:65666331-6135-4766-b066-356532623935
DTSTAMP:20260423T042826Z
DESCRIPTION:1/11 VK Madeta ČB B - TJ Slovan J. Hradec 0:2 (-22\,-26)
DTSTART;TZID=Europe/Berlin:20211205T120000
DTEND;TZID=Europe/Berlin:20211205T140000
LOCATION:TĚLOVÝCHOVNÁ JEDNOTA LOKOMOTIVA z. s.\, Třebízského 1044 České Bud
 ějovice - České Budějovice 5
SUMMARY:JC-JKY-2B: VK Madeta ČB B-TJ Slovan J. Hradec
END:VEVENT
BEGIN:VEVENT
UID:34313832-6166-4664-b763-306334343837
DTSTAMP:20260423T042826Z
DESCRIPTION:1/3 TJ Slovan J. Hradec - VSK Slavia ČB 2:0 (15\,7)
DTSTART;TZID=Europe/Berlin:20220130T090000
DTEND;TZID=Europe/Berlin:20220130T110000
LOCATION:Sportovní hala J. Hradec\, U Stadionu 1137 Jindřichův Hradec - Jin
 dřichův Hradec II
SUMMARY:JC-JKY-3A: TJ Slovan J. Hradec-VSK Slavia ČB
END:VEVENT
BEGIN:VEVENT
UID:38613535-3664-4438-b763-366162323830
DTSTAMP:20260423T042826Z
DESCRIPTION:1/5 TJ Slovan J. Hradec - SK Hlincovka 0:2 (-15\,-21)
DTSTART;TZID=Europe/Berlin:20220130T100000
DTEND;TZID=Europe/Berlin:20220130T120000
LOCATION:Sportovní hala J. Hradec\, U Stadionu 1137 Jindřichův Hradec - Jin
 dřichův Hradec II
SUMMARY:JC-JKY-3A: TJ Slovan J. Hradec-SK Hlincovka
END:VEVENT
BEGIN:VEVENT
UID:34333334-6133-4964-b238-636133313733
DTSTAMP:20260423T042826Z
DESCRIPTION:1/12 TJ Slovan J. Hradec - SK Třebín B 2:1 (21\,-21\,10)
DTSTART;TZID=Europe/Berlin:20220130T120000
DTEND;TZID=Europe/Berlin:20220130T140000
LOCATION:Sportovní hala J. Hradec\, U Stadionu 1137 Jindřichův Hradec - Jin
 dřichův Hradec II
SUMMARY:JC-JKY-3A: TJ Slovan J. Hradec-SK Třebín B
END:VEVENT
BEGIN:VEVENT
UID:39616539-3438-4732-a561-393462633062
DTSTAMP:20260423T042826Z
DESCRIPTION:1/7 České Budějovice C - TJ Slovan J. Hradec 2:0 (18\,16)
DTSTART;TZID=Europe/Berlin:20220130T110000
DTEND;TZID=Europe/Berlin:20220130T130000
LOCATION:Sportovní hala\, Stromovka 1216 České Budějovice - České Budějovic
 e 2
SUMMARY:JC-JKY-3A: České Budějovice C-TJ Slovan J. Hradec
END:VEVENT
BEGIN:VEVENT
UID:31313861-3265-4366-b433-616564333864
DTSTAMP:20260423T042826Z
DESCRIPTION:1/14 SK Třebín A - TJ Slovan J. Hradec 2:0 (11\,24)
DTSTART;TZID=Europe/Berlin:20220130T130000
DTEND;TZID=Europe/Berlin:20220130T150000
LOCATION:ZŠ Máj I\, M. Chlajna 1319 České Budějovice - České Budějovice 2
SUMMARY:JC-JKY-3A: SK Třebín A-TJ Slovan J. Hradec
END:VEVENT
BEGIN:VEVENT
UID:63383035-3464-4333-b131-646164633362
DTSTAMP:20260423T042826Z
DESCRIPTION:1/3 TJ Slovan J. Hradec - VSK Slavia ČB 2:0 (14\,19)
DTSTART;TZID=Europe/Berlin:20220410T090000
DTEND;TZID=Europe/Berlin:20220410T110000
LOCATION:Sportovní hala J. Hradec\, U Stadionu 1137 Jindřichův Hradec - Jin
 dřichův Hradec II
SUMMARY:JC-JKY-4B: TJ Slovan J. Hradec-VSK Slavia ČB
END:VEVENT
BEGIN:VEVENT
UID:35393638-3866-4035-b761-666363383736
DTSTAMP:20260423T042826Z
DESCRIPTION:1/8 TJ Slovan J. Hradec - VK Madeta ČB B 2:0 (18\,10)
DTSTART;TZID=Europe/Berlin:20220410T130000
DTEND;TZID=Europe/Berlin:20220410T150000
LOCATION:Sportovní hala J. Hradec\, U Stadionu 1137 Jindřichův Hradec - Jin
 dřichův Hradec II
SUMMARY:JC-JKY-4B: TJ Slovan J. Hradec-VK Madeta ČB B
END:VEVENT
BEGIN:VEVENT
UID:62316262-3830-4461-b363-656334333861
DTSTAMP:20260423T042826Z
DESCRIPTION:1/10 TJ Slovan J. Hradec - VSK ČK A 0:2 (-25\,-24)
DTSTART;TZID=Europe/Berlin:20220410T140000
DTEND;TZID=Europe/Berlin:20220410T160000
LOCATION:Sportovní hala J. Hradec\, U Stadionu 1137 Jindřichův Hradec - Jin
 dřichův Hradec II
SUMMARY:JC-JKY-4B: TJ Slovan J. Hradec-VSK ČK A
END:VEVENT
BEGIN:VEVENT
UID:38376162-3665-4337-b233-313662326464
DTSTAMP:20260423T042826Z
DESCRIPTION:1/13 TJ Slovan J. Hradec - TJ ČZ Strakonice 0:2 (-21\,-21)
DTSTART;TZID=Europe/Berlin:20220410T160000
DTEND;TZID=Europe/Berlin:20220410T180000
LOCATION:Sportovní hala J. Hradec\, U Stadionu 1137 Jindřichův Hradec - Jin
 dřichův Hradec II
SUMMARY:JC-JKY-4B: TJ Slovan J. Hradec-TJ ČZ Strakonice
END:VEVENT
BEGIN:VEVENT
UID:33316633-3834-4339-b865-633038383930
DTSTAMP:20260423T042826Z
DESCRIPTION:1/1 Volejbal Tábor - TJ Slovan J. Hradec 0:2 (-19\,-14)
DTSTART;TZID=Europe/Berlin:20220410T080000
DTEND;TZID=Europe/Berlin:20220410T100000
LOCATION:Tělocvična ZŠ Husova\, Husova 1570 Tábor
SUMMARY:JC-JKY-4B: Volejbal Tábor-TJ Slovan J. Hradec
END:VEVENT
END:VCALENDAR
