BEGIN:VCALENDAR
VERSION:2.0
PRODID:-//TJ Slovan J. Hradec75738//NONSGML kigkonsult.se iCalcreator 2.41.80//
CALSCALE:GREGORIAN
UID:62323766-6537-4631-a432-646434653663
BEGIN:VEVENT
UID:32623533-3563-4035-a531-333539663635
DTSTAMP:20260422T034537Z
DESCRIPTION:1/3 TJ Slovan J. Hradec - SK Hlincovka B 2:0 (19\,13)
DTSTART;TZID=Europe/Berlin:20210912T103000
DTEND;TZID=Europe/Berlin:20210912T123000
LOCATION:Sportovní hala J. Hradec\, U Stadionu 1137 Jindřichův Hradec - Jin
 dřichův Hradec II
SUMMARY:JC-ZKY-1B: TJ Slovan J. Hradec-SK Hlincovka B
END:VEVENT
BEGIN:VEVENT
UID:35343264-6336-4733-b063-333634343665
DTSTAMP:20260422T034537Z
DESCRIPTION:1/5 TJ Slovan J. Hradec - Volejbal Tábor B 2:0 (14\,9)
DTSTART;TZID=Europe/Berlin:20210912T103000
DTEND;TZID=Europe/Berlin:20210912T123000
LOCATION:Sportovní hala J. Hradec\, U Stadionu 1137 Jindřichův Hradec - Jin
 dřichův Hradec II
SUMMARY:JC-ZKY-1B: TJ Slovan J. Hradec-Volejbal Tábor B
END:VEVENT
BEGIN:VEVENT
UID:61646633-6235-4664-b833-383438316538
DTSTAMP:20260422T034537Z
DESCRIPTION:1/7 VK Madeta ČB B - TJ Slovan J. Hradec 0:2 (-7\,-12)
DTSTART;TZID=Europe/Berlin:20210912T103000
DTEND;TZID=Europe/Berlin:20210912T123000
LOCATION:Sportovní hala\, Stromovka 1216 České Budějovice - České Budějovic
 e 2
SUMMARY:JC-ZKY-1B: VK Madeta ČB B-TJ Slovan J. Hradec
END:VEVENT
BEGIN:VEVENT
UID:38613963-3666-4666-b434-653961383535
DTSTAMP:20260422T034537Z
DESCRIPTION:1/9 VSK ČK B - TJ Slovan J. Hradec 0:2 (-18\,-10)
DTSTART;TZID=Europe/Berlin:20210912T103000
DTEND;TZID=Europe/Berlin:20210912T123000
LOCATION:ZŠ Za Nádražím Český Krumlov\, Za Nádražím 222 Český Krumlov - Nád
 ražní Předměstí
SUMMARY:JC-ZKY-1B: VSK ČK B-TJ Slovan J. Hradec
END:VEVENT
BEGIN:VEVENT
UID:32343134-6263-4331-b064-323437313933
DTSTAMP:20260422T034537Z
DESCRIPTION:1/1 TJ Slovan J. Hradec - Hlincovka 0:2 (-2\,-17)
DTSTART;TZID=Europe/Berlin:20211024T083000
DTEND;TZID=Europe/Berlin:20211024T103000
LOCATION:Sportovní hala J. Hradec\, U Stadionu 1137 Jindřichův Hradec - Jin
 dřichův Hradec II
SUMMARY:JC-ZKY-2A: TJ Slovan J. Hradec-Hlincovka
END:VEVENT
BEGIN:VEVENT
UID:32393461-3230-4164-b135-316137393761
DTSTAMP:20260422T034537Z
DESCRIPTION:1/6 TJ Slovan J. Hradec - Tábor 0:2 (-11\,-13)
DTSTART;TZID=Europe/Berlin:20211024T113000
DTEND;TZID=Europe/Berlin:20211024T133000
LOCATION:Sportovní hala J. Hradec\, U Stadionu 1137 Jindřichův Hradec - Jin
 dřichův Hradec II
SUMMARY:JC-ZKY-2A: TJ Slovan J. Hradec-Tábor
END:VEVENT
BEGIN:VEVENT
UID:38656331-3263-4362-a165-353164303132
DTSTAMP:20260422T034537Z
DESCRIPTION:1/3 SK Hlincovka B - TJ Slovan J. Hradec 0:2 (-11\,-18)
DTSTART;TZID=Europe/Berlin:20211024T093000
DTEND;TZID=Europe/Berlin:20211024T113000
LOCATION:Sportovní hala Rudolfov\, Adamovská 511 Rudolfov
SUMMARY:JC-ZKY-2A: SK Hlincovka B-TJ Slovan J. Hradec
END:VEVENT
BEGIN:VEVENT
UID:34356132-3735-4564-a661-356433343330
DTSTAMP:20260422T034537Z
DESCRIPTION:1/8 Český Krumlov - TJ Slovan J. Hradec 2:0 (12\,8)
DTSTART;TZID=Europe/Berlin:20211024T133000
DTEND;TZID=Europe/Berlin:20211024T153000
LOCATION:ZŠ Za Nádražím Český Krumlov\, Za Nádražím 222 Český Krumlov - Nád
 ražní Předměstí
SUMMARY:JC-ZKY-2A: Český Krumlov-TJ Slovan J. Hradec
END:VEVENT
BEGIN:VEVENT
UID:36333663-3936-4361-b330-646266356463
DTSTAMP:20260422T034537Z
DESCRIPTION:1/4 TJ Slovan J. Hradec - VK Madeta ČB B 2:0 (14\,19)
DTSTART;TZID=Europe/Berlin:20220109T103000
DTEND;TZID=Europe/Berlin:20220109T123000
LOCATION:Sportovní hala J. Hradec\, U Stadionu 1137 Jindřichův Hradec - Jin
 dřichův Hradec II
SUMMARY:JC-ZKY-3B: TJ Slovan J. Hradec-VK Madeta ČB B
END:VEVENT
BEGIN:VEVENT
UID:33353634-3238-4035-a334-656232303437
DTSTAMP:20260422T034537Z
DESCRIPTION:1/7 TJ Slovan J. Hradec - Volejbal Tábor B 2:1 (-12\,23\,5)
DTSTART;TZID=Europe/Berlin:20220109T123000
DTEND;TZID=Europe/Berlin:20220109T143000
LOCATION:Sportovní hala J. Hradec\, U Stadionu 1137 Jindřichův Hradec - Jin
 dřichův Hradec II
SUMMARY:JC-ZKY-3B: TJ Slovan J. Hradec-Volejbal Tábor B
END:VEVENT
BEGIN:VEVENT
UID:65613361-3833-4665-a533-383165356463
DTSTAMP:20260422T034537Z
DESCRIPTION:1/1 SK Hlincovka B - TJ Slovan J. Hradec 2:1 (21\,-22\,11)
DTSTART;TZID=Europe/Berlin:20220109T083000
DTEND;TZID=Europe/Berlin:20220109T103000
LOCATION:Sportovní hala J. Hradec\, U Stadionu 1137 Jindřichův Hradec - Jin
 dřichův Hradec II
SUMMARY:JC-ZKY-3B: SK Hlincovka B-TJ Slovan J. Hradec
END:VEVENT
BEGIN:VEVENT
UID:33626462-3234-4163-b162-613931363731
DTSTAMP:20260422T034537Z
DESCRIPTION:1/10 TJ ČZ Strakonice - TJ Slovan J. Hradec 0:2 (-0\,-0)
DTSTART;TZID=Europe/Berlin:20220109T143000
DTEND;TZID=Europe/Berlin:20220109T163000
LOCATION:Sportovní hala J. Hradec\, U Stadionu 1137 Jindřichův Hradec - Jin
 dřichův Hradec II
SUMMARY:JC-ZKY-3B: TJ ČZ Strakonice-TJ Slovan J. Hradec
END:VEVENT
BEGIN:VEVENT
UID:63363337-3364-4131-b930-356139303864
DTSTAMP:20260422T034537Z
DESCRIPTION:1/3 TJ Slovan J. Hradec - Hlincovka 0:2 (-10\,-7)
DTSTART;TZID=Europe/Berlin:20220313T093000
DTEND;TZID=Europe/Berlin:20220313T113000
LOCATION:TĚLOVÝCHOVNÁ JEDNOTA LOKOMOTIVA z. s.\, Třebízského 1044 České Bud
 ějovice - České Budějovice 5
SUMMARY:JC-ZKY-4A: TJ Slovan J. Hradec-Hlincovka
END:VEVENT
BEGIN:VEVENT
UID:35333930-3961-4438-b262-363138336335
DTSTAMP:20260422T034537Z
DESCRIPTION:1/5 TJ Slovan J. Hradec - Český Krumlov 0:2 (-7\,-15)
DTSTART;TZID=Europe/Berlin:20220313T103000
DTEND;TZID=Europe/Berlin:20220313T123000
LOCATION:TĚLOVÝCHOVNÁ JEDNOTA LOKOMOTIVA z. s.\, Třebízského 1044 České Bud
 ějovice - České Budějovice 5
SUMMARY:JC-ZKY-4A: TJ Slovan J. Hradec-Český Krumlov
END:VEVENT
BEGIN:VEVENT
UID:64386166-3238-4937-a663-353162386164
DTSTAMP:20260422T034537Z
DESCRIPTION:1/7 České Budějovice - TJ Slovan J. Hradec 2:0 (10\,13)
DTSTART;TZID=Europe/Berlin:20220313T123000
DTEND;TZID=Europe/Berlin:20220313T143000
LOCATION:TĚLOVÝCHOVNÁ JEDNOTA LOKOMOTIVA z. s.\, Třebízského 1044 České Bud
 ějovice - České Budějovice 5
SUMMARY:JC-ZKY-4A: České Budějovice-TJ Slovan J. Hradec
END:VEVENT
BEGIN:VEVENT
UID:65613466-3836-4463-b462-306563646332
DTSTAMP:20260422T034537Z
DESCRIPTION:1/9 SK Hlincovka B - TJ Slovan J. Hradec 2:0 (17\,22)
DTSTART;TZID=Europe/Berlin:20220313T133000
DTEND;TZID=Europe/Berlin:20220313T153000
LOCATION:TĚLOVÝCHOVNÁ JEDNOTA LOKOMOTIVA z. s.\, Třebízského 1044 České Bud
 ějovice - České Budějovice 5
SUMMARY:JC-ZKY-4A: SK Hlincovka B-TJ Slovan J. Hradec
END:VEVENT
BEGIN:VEVENT
UID:66303834-3334-4234-a537-613463363963
DTSTAMP:20260422T034537Z
DESCRIPTION:1/1 TJ Slovan J. Hradec - SK Hlincovka B 0:2 (-24\,-14)
DTSTART;TZID=Europe/Berlin:20220403T083000
DTEND;TZID=Europe/Berlin:20220403T103000
LOCATION:Sportovní hala J. Hradec\, U Stadionu 1137 Jindřichův Hradec - Jin
 dřichův Hradec II
SUMMARY:JC-ZKY-5B: TJ Slovan J. Hradec-SK Hlincovka B
END:VEVENT
BEGIN:VEVENT
UID:34333435-3030-4161-a638-376666396138
DTSTAMP:20260422T034537Z
DESCRIPTION:1/6 TJ Slovan J. Hradec - TJ Sokol Křemže 2:0 (23\,18)
DTSTART;TZID=Europe/Berlin:20220403T113000
DTEND;TZID=Europe/Berlin:20220403T133000
LOCATION:Sportovní hala J. Hradec\, U Stadionu 1137 Jindřichův Hradec - Jin
 dřichův Hradec II
SUMMARY:JC-ZKY-5B: TJ Slovan J. Hradec-TJ Sokol Křemže
END:VEVENT
BEGIN:VEVENT
UID:36623066-6334-4230-b730-663837656663
DTSTAMP:20260422T034537Z
DESCRIPTION:1/3 TJ ČZ Strakonice - TJ Slovan J. Hradec 2:0 (20\,24)
DTSTART;TZID=Europe/Berlin:20220403T093000
DTEND;TZID=Europe/Berlin:20220403T113000
LOCATION:Hala TJ ČZ Strakonice\, Máchova 108 Strakonice - Strakonice I
SUMMARY:JC-ZKY-5B: TJ ČZ Strakonice-TJ Slovan J. Hradec
END:VEVENT
BEGIN:VEVENT
UID:30306530-6263-4236-b136-343261626336
DTSTAMP:20260422T034537Z
DESCRIPTION:1/8 VSK ČK B - TJ Slovan J. Hradec 2:0 (21\,23)
DTSTART;TZID=Europe/Berlin:20220403T133000
DTEND;TZID=Europe/Berlin:20220403T153000
LOCATION:ZŠ Za Nádražím Český Krumlov\, Za Nádražím 222 Český Krumlov - Nád
 ražní Předměstí
SUMMARY:JC-ZKY-5B: VSK ČK B-TJ Slovan J. Hradec
END:VEVENT
END:VCALENDAR
