BEGIN:VCALENDAR
VERSION:2.0
PRODID:-//TJ Slovan J. Hradec75740//NONSGML kigkonsult.se iCalcreator 2.41.80//
CALSCALE:GREGORIAN
UID:34616264-3636-4438-b737-383864613063
BEGIN:VEVENT
UID:66366137-3233-4135-a532-386661623639
DTSTAMP:20260422T034537Z
DESCRIPTION:1/3 TJ Slovan J. Hradec - VSK Český Krumlov 2:0 (8\,14)
DTSTART;TZID=Europe/Berlin:20210925T110000
DTEND;TZID=Europe/Berlin:20210925T130000
LOCATION:ZŠ Oskara Nedbala České Budějovice\, O. Nedbala 882 České Budějovi
 ce - České Budějovice 2
SUMMARY:JC-ZCI1: TJ Slovan J. Hradec-VSK Český Krumlov
END:VEVENT
BEGIN:VEVENT
UID:65653361-3636-4133-b636-633665623731
DTSTAMP:20260422T034537Z
DESCRIPTION:1/6 TJ Slovan J. Hradec - České Budějovice B 2:0 (18\,17)
DTSTART;TZID=Europe/Berlin:20210925T123000
DTEND;TZID=Europe/Berlin:20210925T143000
LOCATION:ZŠ Oskara Nedbala České Budějovice\, O. Nedbala 882 České Budějovi
 ce - České Budějovice 2
SUMMARY:JC-ZCI1: TJ Slovan J. Hradec-České Budějovice B
END:VEVENT
BEGIN:VEVENT
UID:65356265-6266-4861-b332-653962343036
DTSTAMP:20260422T034537Z
DESCRIPTION:1/1 České Budějovice A - TJ Slovan J. Hradec 2:0 (14\,18)
DTSTART;TZID=Europe/Berlin:20210925T093000
DTEND;TZID=Europe/Berlin:20210925T113000
LOCATION:ZŠ Oskara Nedbala České Budějovice\, O. Nedbala 882 České Budějovi
 ce - České Budějovice 2
SUMMARY:JC-ZCI1: České Budějovice A-TJ Slovan J. Hradec
END:VEVENT
BEGIN:VEVENT
UID:66316133-6636-4635-b131-363730313866
DTSTAMP:20260422T034537Z
DESCRIPTION:1/2 TJ Slovan J. Hradec - České Budějovice B 2:0 (15\,23)\nO. N
 edbala 30\, České Budějovice 37005
DTSTART;TZID=Europe/Berlin:20220326T090000
DTEND;TZID=Europe/Berlin:20220326T110000
LOCATION:Sportovní hala J. Hradec\, U Stadionu 1137 Jindřichův Hradec - Jin
 dřichův Hradec II
SUMMARY:JC-ZCI3: TJ Slovan J. Hradec-České Budějovice B
END:VEVENT
BEGIN:VEVENT
UID:65346533-6633-4334-b431-366433353535
DTSTAMP:20260422T034537Z
DESCRIPTION:1/4 TJ Slovan J. Hradec - VK Jihostroj C 2:0 (4\,10)\nO. Nedbal
 a 30\, České Budějovice 37005
DTSTART;TZID=Europe/Berlin:20220326T100000
DTEND;TZID=Europe/Berlin:20220326T120000
LOCATION:Sportovní hala J. Hradec\, U Stadionu 1137 Jindřichův Hradec - Jin
 dřichův Hradec II
SUMMARY:JC-ZCI3: TJ Slovan J. Hradec-VK Jihostroj C
END:VEVENT
BEGIN:VEVENT
UID:38626434-6134-4438-b162-643764323634
DTSTAMP:20260422T034537Z
DESCRIPTION:1/5 TJ Slovan J. Hradec - VSK Český Krumlov 2:0 (12\,21)\nO. Ne
 dbala 30\, České Budějovice 37005
DTSTART;TZID=Europe/Berlin:20220326T110000
DTEND;TZID=Europe/Berlin:20220326T130000
LOCATION:Sportovní hala J. Hradec\, U Stadionu 1137 Jindřichův Hradec - Jin
 dřichův Hradec II
SUMMARY:JC-ZCI3: TJ Slovan J. Hradec-VSK Český Krumlov
END:VEVENT
BEGIN:VEVENT
UID:64356161-3563-4463-b134-303536306661
DTSTAMP:20260422T034537Z
DESCRIPTION:2/7 TJ Slovan J. Hradec - České Budějovice A 0:2 (-21\,-19)\nO.
  Nedbala 30\, České Budějovice 37005
DTSTART;TZID=Europe/Berlin:20220326T120000
DTEND;TZID=Europe/Berlin:20220326T140000
LOCATION:Sportovní hala J. Hradec\, U Stadionu 1137 Jindřichův Hradec - Jin
 dřichův Hradec II
SUMMARY:JC-ZCI3: TJ Slovan J. Hradec-České Budějovice A
END:VEVENT
BEGIN:VEVENT
UID:62376662-3637-4338-a135-316465343435
DTSTAMP:20260422T034537Z
DESCRIPTION:1/3 TJ Slovan J. Hradec - VSK Český Krumlov 2:0 (10\,21)\nO. Ne
 dbala 30\, České Budějovice 37005
DTSTART;TZID=Europe/Berlin:20211211T103000
DTEND;TZID=Europe/Berlin:20211211T123000
LOCATION:Sportovní hala J. Hradec\, U Stadionu 1137 Jindřichův Hradec - Jin
 dřichův Hradec II
SUMMARY:JC-ZCI2: TJ Slovan J. Hradec-VSK Český Krumlov
END:VEVENT
BEGIN:VEVENT
UID:39323334-3461-4337-a630-353836306236
DTSTAMP:20260422T034537Z
DESCRIPTION:1/1 České Budějovice A - TJ Slovan J. Hradec 2:0 (21\,23)\nO. N
 edbala 30\, České Budějovice 37005
DTSTART;TZID=Europe/Berlin:20211211T090000
DTEND;TZID=Europe/Berlin:20211211T110000
LOCATION:ZŠ Oskara Nedbala České Budějovice\, O. Nedbala 882 České Budějovi
 ce - České Budějovice 2
SUMMARY:JC-ZCI2: České Budějovice A-TJ Slovan J. Hradec
END:VEVENT
BEGIN:VEVENT
UID:39646364-6239-4234-a162-383739313834
DTSTAMP:20260422T034537Z
DESCRIPTION:1/6 České Budějovice B - TJ Slovan J. Hradec 0:2 (-15\,-22)\nO.
  Nedbala 30\, České Budějovice 37005
DTSTART;TZID=Europe/Berlin:20211211T120000
DTEND;TZID=Europe/Berlin:20211211T140000
LOCATION:ZŠ Oskara Nedbala České Budějovice\, O. Nedbala 882 České Budějovi
 ce - České Budějovice 2
SUMMARY:JC-ZCI2: České Budějovice B-TJ Slovan J. Hradec
END:VEVENT
BEGIN:VEVENT
UID:64373235-3062-4331-b834-353334666363
DTSTAMP:20260422T034537Z
DESCRIPTION:1/4 TJ Slovan J. Hradec - České Budějovice B 2:1 (27\,-26\,13)
DTSTART;TZID=Europe/Berlin:20220108T103000
DTEND;TZID=Europe/Berlin:20220108T123000
LOCATION:Sportovní hala J. Hradec\, U Stadionu 1137 Jindřichův Hradec - Jin
 dřichův Hradec II
SUMMARY:JC-ZCI4: TJ Slovan J. Hradec-České Budějovice B
END:VEVENT
BEGIN:VEVENT
UID:37393035-3232-4438-b137-653664376261
DTSTAMP:20260422T034537Z
DESCRIPTION:2/7 TJ Slovan J. Hradec - VK Jihostroj C 2:0 (8\,9)
DTSTART;TZID=Europe/Berlin:20220108T133000
DTEND;TZID=Europe/Berlin:20220108T153000
LOCATION:Sportovní hala J. Hradec\, U Stadionu 1137 Jindřichův Hradec - Jin
 dřichův Hradec II
SUMMARY:JC-ZCI4: TJ Slovan J. Hradec-VK Jihostroj C
END:VEVENT
BEGIN:VEVENT
UID:63626231-3032-4430-b736-323537393430
DTSTAMP:20260422T034537Z
DESCRIPTION:1/1 VSK Český Krumlov - TJ Slovan J. Hradec 0:2 (-18\,-13)
DTSTART;TZID=Europe/Berlin:20220108T090000
DTEND;TZID=Europe/Berlin:20220108T110000
LOCATION:ZŠ Za Nádražím Český Krumlov\, Za Nádražím 222 Český Krumlov - Nád
 ražní Předměstí
SUMMARY:JC-ZCI4: VSK Český Krumlov-TJ Slovan J. Hradec
END:VEVENT
BEGIN:VEVENT
UID:33363734-3065-4139-a363-306330636434
DTSTAMP:20260422T034537Z
DESCRIPTION:2/10 České Budějovice A - TJ Slovan J. Hradec 2:0 (18\,11)
DTSTART;TZID=Europe/Berlin:20220108T150000
DTEND;TZID=Europe/Berlin:20220108T170000
LOCATION:ZŠ Oskara Nedbala České Budějovice\, O. Nedbala 882 České Budějovi
 ce - České Budějovice 2
SUMMARY:JC-ZCI4: České Budějovice A-TJ Slovan J. Hradec
END:VEVENT
BEGIN:VEVENT
UID:65623365-6238-4163-b733-636231646132
DTSTAMP:20260422T034537Z
DESCRIPTION:2/8 TJ Slovan J. Hradec - České Budějovice B 2:0 (19\,19)
DTSTART;TZID=Europe/Berlin:20220320T110000
DTEND;TZID=Europe/Berlin:20220320T130000
LOCATION:Sportovní hala J. Hradec\, U Stadionu 1137 Jindřichův Hradec - Jin
 dřichův Hradec II
SUMMARY:JC-ZCI5: TJ Slovan J. Hradec-České Budějovice B
END:VEVENT
BEGIN:VEVENT
UID:36376537-6137-4530-b662-396236386665
DTSTAMP:20260422T034537Z
DESCRIPTION:2/10 TJ Slovan J. Hradec - České Budějovice A 0:2 (-16\,-17)
DTSTART;TZID=Europe/Berlin:20220320T140000
DTEND;TZID=Europe/Berlin:20220320T160000
LOCATION:Sportovní hala J. Hradec\, U Stadionu 1137 Jindřichův Hradec - Jin
 dřichův Hradec II
SUMMARY:JC-ZCI5: TJ Slovan J. Hradec-České Budějovice A
END:VEVENT
BEGIN:VEVENT
UID:32383864-3065-4464-b032-656166326433
DTSTAMP:20260422T034537Z
DESCRIPTION:1/2 VSK Český Krumlov - TJ Slovan J. Hradec 0:2 (-13\,-11)
DTSTART;TZID=Europe/Berlin:20220320T100000
DTEND;TZID=Europe/Berlin:20220320T120000
LOCATION:ZŠ Za Nádražím Český Krumlov\, Za Nádražím 222 Český Krumlov - Nád
 ražní Předměstí
SUMMARY:JC-ZCI5: VSK Český Krumlov-TJ Slovan J. Hradec
END:VEVENT
BEGIN:VEVENT
UID:61343562-3632-4966-a566-393832343931
DTSTAMP:20260422T034537Z
DESCRIPTION:1/5 VK Jihostroj C - TJ Slovan J. Hradec 0:2 (-24\,-11)
DTSTART;TZID=Europe/Berlin:20220320T120000
DTEND;TZID=Europe/Berlin:20220320T140000
SUMMARY:JC-ZCI5: VK Jihostroj C-TJ Slovan J. Hradec
END:VEVENT
END:VCALENDAR
