BEGIN:VCALENDAR
VERSION:2.0
PRODID:-//VK AUSTIN Vsetín z.s.75767//NONSGML kigkonsult.se iCalcreator 2.41.80//
CALSCALE:GREGORIAN
UID:65363138-3937-4734-b461-616365396135
BEGIN:VEVENT
UID:34363632-6366-4132-b966-653339326663
DTSTAMP:20260422T203337Z
DESCRIPTION:1/2 VK AUSTIN Vsetín - TJ Vlčnov 3:1 (7\,-16\,16\,20)
DTSTART;TZID=Europe/Berlin:20211003T090000
DTEND;TZID=Europe/Berlin:20211003T110000
LOCATION:Sportovní hala Na Lapači\, Na Lapači 247 Vsetín - Rokytnice
SUMMARY:ZLK-JKY: VK AUSTIN Vsetín-TJ Vlčnov
END:VEVENT
BEGIN:VEVENT
UID:35373735-6466-4565-b036-613734303466
DTSTAMP:20260422T203337Z
DESCRIPTION:2/7 VK AUSTIN Vsetín - TJ Vlčnov 3:0 (24\,24\,0)
DTSTART;TZID=Europe/Berlin:20211003T120000
DTEND;TZID=Europe/Berlin:20211003T140000
LOCATION:Sportovní hala Na Lapači\, Na Lapači 247 Vsetín - Rokytnice
SUMMARY:ZLK-JKY: VK AUSTIN Vsetín-TJ Vlčnov
END:VEVENT
BEGIN:VEVENT
UID:32373439-3632-4666-a530-343466353730
DTSTAMP:20260422T203337Z
DESCRIPTION:7/35 VK AUSTIN Vsetín - Valašské Meziříčí 0:3 (-10\,-20\,-23)
DTSTART;TZID=Europe/Berlin:20211024T150000
DTEND;TZID=Europe/Berlin:20211024T170000
LOCATION:Sportovní hala Na Lapači\, Na Lapači 247 Vsetín - Rokytnice
SUMMARY:ZLK-JKY: VK AUSTIN Vsetín-Valašské Meziříčí
END:VEVENT
BEGIN:VEVENT
UID:31396430-3439-4939-a262-396239393866
DTSTAMP:20260422T203337Z
DESCRIPTION:8/40 VK AUSTIN Vsetín - Valašské Meziříčí 2:3 (16\,-21\,-17\,23
 \,-13)
DTSTART;TZID=Europe/Berlin:20211024T180000
DTEND;TZID=Europe/Berlin:20211024T200000
LOCATION:Sportovní hala Na Lapači\, Na Lapači 247 Vsetín - Rokytnice
SUMMARY:ZLK-JKY: VK AUSTIN Vsetín-Valašské Meziříčí
END:VEVENT
BEGIN:VEVENT
UID:30363131-3135-4232-b634-616665623037
DTSTAMP:20260422T203337Z
DESCRIPTION:11/54 VK AUSTIN Vsetín - TJ Rožnov p R 3:0 (7\,9\,13)
DTSTART;TZID=Europe/Berlin:20211114T100000
DTEND;TZID=Europe/Berlin:20211114T120000
LOCATION:Sportovní hala Na Lapači\, Na Lapači 247 Vsetín - Rokytnice
SUMMARY:ZLK-JKY: VK AUSTIN Vsetín-TJ Rožnov p R
END:VEVENT
BEGIN:VEVENT
UID:63323365-3736-4535-b230-303364633062
DTSTAMP:20260422T203337Z
DESCRIPTION:12/59 VK AUSTIN Vsetín - TJ Rožnov p R 3:0 (11\,10\,13)
DTSTART;TZID=Europe/Berlin:20211114T130000
DTEND;TZID=Europe/Berlin:20211114T150000
LOCATION:Sportovní hala Na Lapači\, Na Lapači 247 Vsetín - Rokytnice
SUMMARY:ZLK-JKY: VK AUSTIN Vsetín-TJ Rožnov p R
END:VEVENT
BEGIN:VEVENT
UID:34386636-6231-4266-a530-313664613364
DTSTAMP:20260422T203337Z
DESCRIPTION:21/105 VK AUSTIN Vsetín - TJ Uherský Brod 3:0 (18\,14\,16)
DTSTART;TZID=Europe/Berlin:20220403T160000
DTEND;TZID=Europe/Berlin:20220403T180000
LOCATION:Sportovní hala Na Lapači\, Na Lapači 247 Vsetín - Rokytnice
SUMMARY:ZLK-JKY: VK AUSTIN Vsetín-TJ Uherský Brod
END:VEVENT
BEGIN:VEVENT
UID:65366531-3536-4639-a438-376438656562
DTSTAMP:20260422T203337Z
DESCRIPTION:22/110 VK AUSTIN Vsetín - TJ Uherský Brod 0:3 (-20\,-17\,-11)
DTSTART;TZID=Europe/Berlin:20220403T180000
DTEND;TZID=Europe/Berlin:20220403T200000
LOCATION:Sportovní hala Na Lapači\, Na Lapači 247 Vsetín - Rokytnice
SUMMARY:ZLK-JKY: VK AUSTIN Vsetín-TJ Uherský Brod
END:VEVENT
BEGIN:VEVENT
UID:31656266-6261-4362-b864-343039356630
DTSTAMP:20260422T203337Z
DESCRIPTION:27/132 VK AUSTIN Vsetín - TJ Sokol Střítež 3:0 (7\,19\,12)
DTSTART;TZID=Europe/Berlin:20220224T170000
DTEND;TZID=Europe/Berlin:20220224T190000
LOCATION:Sportovní hala Na Lapači\, Na Lapači 247 Vsetín - Rokytnice
SUMMARY:ZLK-JKY: VK AUSTIN Vsetín-TJ Sokol Střítež
END:VEVENT
BEGIN:VEVENT
UID:65303663-6238-4566-a430-333234626631
DTSTAMP:20260422T203337Z
DESCRIPTION:28/137 VK AUSTIN Vsetín - TJ Sokol Střítež 3:0 (19\,13\,26)
DTSTART;TZID=Europe/Berlin:20220224T193000
DTEND;TZID=Europe/Berlin:20220224T213000
LOCATION:Sportovní hala Na Lapači\, Na Lapači 247 Vsetín - Rokytnice
SUMMARY:ZLK-JKY: VK AUSTIN Vsetín-TJ Sokol Střítež
END:VEVENT
BEGIN:VEVENT
UID:64366662-3438-4831-b366-326563653866
DTSTAMP:20260422T203337Z
DESCRIPTION:35/174 VK AUSTIN Vsetín - VSC Zlín B 0:3 (-23\,-17\,-15)
DTSTART;TZID=Europe/Berlin:20220320T100000
DTEND;TZID=Europe/Berlin:20220320T120000
LOCATION:Sportovní hala Na Lapači\, Na Lapači 247 Vsetín - Rokytnice
SUMMARY:ZLK-JKY: VK AUSTIN Vsetín-VSC Zlín B
END:VEVENT
BEGIN:VEVENT
UID:34333466-6434-4664-b736-613538376439
DTSTAMP:20260422T203337Z
DESCRIPTION:36/179 VK AUSTIN Vsetín - VSC Zlín B 0:3 (-24\,-15\,-20)
DTSTART;TZID=Europe/Berlin:20220320T130000
DTEND;TZID=Europe/Berlin:20220320T150000
LOCATION:Sportovní hala Na Lapači\, Na Lapači 247 Vsetín - Rokytnice
SUMMARY:ZLK-JKY: VK AUSTIN Vsetín-VSC Zlín B
END:VEVENT
BEGIN:VEVENT
UID:37373565-3435-4135-b263-653531636137
DTSTAMP:20260422T203337Z
DESCRIPTION:3/15 TJ Uherský Brod - VK AUSTIN Vsetín 3:0 (23\,23\,16)
DTSTART;TZID=Europe/Berlin:20210926T100000
DTEND;TZID=Europe/Berlin:20210926T120000
LOCATION:TJ SPARTAK UHERSKÝ BROD z.s.\, U Stadionu 2295 Uherský Brod
SUMMARY:ZLK-JKY: TJ Uherský Brod-VK AUSTIN Vsetín
END:VEVENT
BEGIN:VEVENT
UID:66616663-3936-4961-a132-333936303439
DTSTAMP:20260422T203337Z
DESCRIPTION:4/20 TJ Uherský Brod - VK AUSTIN Vsetín 3:0 (10\,15\,20)
DTSTART;TZID=Europe/Berlin:20210926T130000
DTEND;TZID=Europe/Berlin:20210926T150000
LOCATION:TJ SPARTAK UHERSKÝ BROD z.s.\, U Stadionu 2295 Uherský Brod
SUMMARY:ZLK-JKY: TJ Uherský Brod-VK AUSTIN Vsetín
END:VEVENT
BEGIN:VEVENT
UID:64366330-6533-4661-b735-626262656564
DTSTAMP:20260422T203337Z
DESCRIPTION:9/42 TJ Sokol Střítež - VK AUSTIN Vsetín 0:3 (-18\,-13\,-18)
DTSTART;TZID=Europe/Berlin:20211107T100000
DTEND;TZID=Europe/Berlin:20211107T120000
LOCATION:Sokolovna\,  Střítež nad Bečvou1
SUMMARY:ZLK-JKY: TJ Sokol Střítež-VK AUSTIN Vsetín
END:VEVENT
BEGIN:VEVENT
UID:39323535-3162-4434-b234-323933386337
DTSTAMP:20260422T203337Z
DESCRIPTION:10/47 TJ Sokol Střítež - VK AUSTIN Vsetín 0:3 (-15\,-19\,-10)
DTSTART;TZID=Europe/Berlin:20211107T130000
DTEND;TZID=Europe/Berlin:20211107T150000
LOCATION:Sokolovna\,  Střítež nad Bečvou1
SUMMARY:ZLK-JKY: TJ Sokol Střítež-VK AUSTIN Vsetín
END:VEVENT
BEGIN:VEVENT
UID:33663965-3931-4739-b532-633430643164
DTSTAMP:20260422T203337Z
DESCRIPTION:17/84 VSC Zlín B - VK AUSTIN Vsetín 1:3 (26\,-22\,-14\,-18)
DTSTART;TZID=Europe/Berlin:20211205T090000
DTEND;TZID=Europe/Berlin:20211205T110000
LOCATION:Sportovní hala Datart Zlín\, U Zimního stadionu 4286 Zlín
SUMMARY:ZLK-JKY: VSC Zlín B-VK AUSTIN Vsetín
END:VEVENT
BEGIN:VEVENT
UID:31353832-3665-4336-a139-663861643866
DTSTAMP:20260422T203337Z
DESCRIPTION:18/89 VSC Zlín B - VK AUSTIN Vsetín 0:3 (-20\,-18\,-15)
DTSTART;TZID=Europe/Berlin:20211205T120000
DTEND;TZID=Europe/Berlin:20211205T140000
LOCATION:Sportovní hala Datart Zlín\, U Zimního stadionu 4286 Zlín
SUMMARY:ZLK-JKY: VSC Zlín B-VK AUSTIN Vsetín
END:VEVENT
BEGIN:VEVENT
UID:30663563-3763-4631-b539-343366643865
DTSTAMP:20260422T203337Z
DESCRIPTION:19/92 TJ Vlčnov - VK AUSTIN Vsetín 2:3 (-9\,17\,25\,-11\,-7)
DTSTART;TZID=Europe/Berlin:20220109T090000
DTEND;TZID=Europe/Berlin:20220109T110000
LOCATION:Klub sportu a kultury\,  Vlčnov186
SUMMARY:ZLK-JKY: TJ Vlčnov-VK AUSTIN Vsetín
END:VEVENT
BEGIN:VEVENT
UID:61613264-6437-4839-a638-633965663939
DTSTAMP:20260422T203337Z
DESCRIPTION:20/97 TJ Vlčnov - VK AUSTIN Vsetín 2:3 (-19\,27\,13\,-19\,-12)
DTSTART;TZID=Europe/Berlin:20220109T120000
DTEND;TZID=Europe/Berlin:20220109T140000
LOCATION:Klub sportu a kultury\,  Vlčnov186
SUMMARY:ZLK-JKY: TJ Vlčnov-VK AUSTIN Vsetín
END:VEVENT
BEGIN:VEVENT
UID:65383965-3038-4465-b261-343334643439
DTSTAMP:20260422T203337Z
DESCRIPTION:25/125 Valašské Meziříčí - VK AUSTIN Vsetín 3:0 (13\,13\,13)
DTSTART;TZID=Europe/Berlin:20220130T100000
DTEND;TZID=Europe/Berlin:20220130T120000
LOCATION:ZŠ Šafaříkova\, Šafaříkova 726 Valašské Meziříčí
SUMMARY:ZLK-JKY: Valašské Meziříčí-VK AUSTIN Vsetín
END:VEVENT
BEGIN:VEVENT
UID:31636234-3331-4563-b134-613833306136
DTSTAMP:20260422T203337Z
DESCRIPTION:26/130 Valašské Meziříčí - VK AUSTIN Vsetín 3:0 (15\,15\,21)
DTSTART;TZID=Europe/Berlin:20220130T130000
DTEND;TZID=Europe/Berlin:20220130T150000
LOCATION:ZŠ Šafaříkova\, Šafaříkova 726 Valašské Meziříčí
SUMMARY:ZLK-JKY: Valašské Meziříčí-VK AUSTIN Vsetín
END:VEVENT
BEGIN:VEVENT
UID:62373936-3336-4661-b364-623534313538
DTSTAMP:20260422T203337Z
DESCRIPTION:29/144 TJ Rožnov p R - VK AUSTIN Vsetín 0:3 (-11\,-22\,-14)
DTSTART;TZID=Europe/Berlin:20220227T100000
DTEND;TZID=Europe/Berlin:20220227T120000
LOCATION:ZŠ POD SKALKOU\, Bezručova 293 Rožnov pod Radhoštěm
SUMMARY:ZLK-JKY: TJ Rožnov p R-VK AUSTIN Vsetín
END:VEVENT
BEGIN:VEVENT
UID:30643037-3436-4166-b334-613030363934
DTSTAMP:20260422T203338Z
DESCRIPTION:30/149 TJ Rožnov p R - VK AUSTIN Vsetín 0:3 (-12\,-17\,-5)
DTSTART;TZID=Europe/Berlin:20220227T130000
DTEND;TZID=Europe/Berlin:20220227T150000
LOCATION:ZŠ POD SKALKOU\, Bezručova 293 Rožnov pod Radhoštěm
SUMMARY:ZLK-JKY: TJ Rožnov p R-VK AUSTIN Vsetín
END:VEVENT
BEGIN:VEVENT
UID:63633961-6134-4934-b834-643065353262
DTSTAMP:20260422T203338Z
DESCRIPTION:1/1 VK AUSTIN Vsetín - TJ Vlčnov 2:0 (22\,11)
DTSTART;TZID=Europe/Berlin:20210919T090000
DTEND;TZID=Europe/Berlin:20210919T110000
LOCATION:Sportovní hala Na Lapači\, Na Lapači 247 Vsetín - Rokytnice
SUMMARY:PZLK-JKY: VK AUSTIN Vsetín-TJ Vlčnov
END:VEVENT
BEGIN:VEVENT
UID:32313939-6365-4435-b235-333363376439
DTSTAMP:20260422T203338Z
DESCRIPTION:2/6 VK AUSTIN Vsetín - TJ Uherský Brod 2:0 (19\,23)
DTSTART;TZID=Europe/Berlin:20210919T103000
DTEND;TZID=Europe/Berlin:20210919T123000
LOCATION:Sportovní hala Na Lapači\, Na Lapači 247 Vsetín - Rokytnice
SUMMARY:PZLK-JKY: VK AUSTIN Vsetín-TJ Uherský Brod
END:VEVENT
BEGIN:VEVENT
UID:35363436-3463-4239-a262-643662656631
DTSTAMP:20260422T203338Z
DESCRIPTION:4/11 VK AUSTIN Vsetín - TJ Sokol Střítež 2:0 (15\,15)
DTSTART;TZID=Europe/Berlin:20210919T133000
DTEND;TZID=Europe/Berlin:20210919T153000
LOCATION:Sportovní hala Na Lapači\, Na Lapači 247 Vsetín - Rokytnice
SUMMARY:PZLK-JKY: VK AUSTIN Vsetín-TJ Sokol Střítež
END:VEVENT
BEGIN:VEVENT
UID:65393462-3038-4236-b563-303866636630
DTSTAMP:20260422T203338Z
DESCRIPTION:6/16 VK AUSTIN Vsetín - TJ Vlčnov 2:0 (16\,18)
DTSTART;TZID=Europe/Berlin:20220402T090000
DTEND;TZID=Europe/Berlin:20220402T110000
LOCATION:Sportovní hala Na Lapači\, Na Lapači 247 Vsetín - Rokytnice
SUMMARY:PZLK-JKY: VK AUSTIN Vsetín-TJ Vlčnov
END:VEVENT
BEGIN:VEVENT
UID:32383932-3733-4538-b137-336262343537
DTSTAMP:20260422T203338Z
DESCRIPTION:7/21 VK AUSTIN Vsetín - TJ Uherský Brod 2:0 (16\,23)
DTSTART;TZID=Europe/Berlin:20220402T103000
DTEND;TZID=Europe/Berlin:20220402T123000
LOCATION:Sportovní hala Na Lapači\, Na Lapači 247 Vsetín - Rokytnice
SUMMARY:PZLK-JKY: VK AUSTIN Vsetín-TJ Uherský Brod
END:VEVENT
BEGIN:VEVENT
UID:39346235-6630-4361-b430-383161343437
DTSTAMP:20260422T203338Z
DESCRIPTION:9/26 VK AUSTIN Vsetín - TJ Sokol Střítež 2:0 (0\,0)
DTSTART;TZID=Europe/Berlin:20220402T133000
DTEND;TZID=Europe/Berlin:20220402T153000
LOCATION:Sportovní hala Na Lapači\, Na Lapači 247 Vsetín - Rokytnice
SUMMARY:PZLK-JKY: VK AUSTIN Vsetín-TJ Sokol Střítež
END:VEVENT
BEGIN:VEVENT
UID:34643432-3330-4863-b931-643061353330
DTSTAMP:20260422T203338Z
DESCRIPTION:3/8 Valašské Meziříčí - VK AUSTIN Vsetín 0:2 (-18\,-19)
DTSTART;TZID=Europe/Berlin:20210919T120000
DTEND;TZID=Europe/Berlin:20210919T140000
LOCATION:ZŠ Šafaříkova\, Šafaříkova 726 Valašské Meziříčí
SUMMARY:PZLK-JKY: Valašské Meziříčí-VK AUSTIN Vsetín
END:VEVENT
BEGIN:VEVENT
UID:61303831-3837-4434-a430-303365633137
DTSTAMP:20260422T203338Z
DESCRIPTION:5/15 TJ Rožnov p R - VK AUSTIN Vsetín 0:2 (-12\,-8)
DTSTART;TZID=Europe/Berlin:20210919T150000
DTEND;TZID=Europe/Berlin:20210919T170000
LOCATION:ZŠ POD SKALKOU\, Bezručova 293 Rožnov pod Radhoštěm
SUMMARY:PZLK-JKY: TJ Rožnov p R-VK AUSTIN Vsetín
END:VEVENT
BEGIN:VEVENT
UID:31313238-3735-4037-b461-333263666563
DTSTAMP:20260422T203338Z
DESCRIPTION:8/23 Valašské Meziříčí - VK AUSTIN Vsetín 1:2 (22\,-18\,-9)
DTSTART;TZID=Europe/Berlin:20220402T120000
DTEND;TZID=Europe/Berlin:20220402T140000
LOCATION:ZŠ Šafaříkova\, Šafaříkova 726 Valašské Meziříčí
SUMMARY:PZLK-JKY: Valašské Meziříčí-VK AUSTIN Vsetín
END:VEVENT
BEGIN:VEVENT
UID:61366336-3831-4138-b761-323031613434
DTSTAMP:20260422T203338Z
DESCRIPTION:10/30 TJ Rožnov p R - VK AUSTIN Vsetín 0:2 (-15\,-13)
DTSTART;TZID=Europe/Berlin:20220402T150000
DTEND;TZID=Europe/Berlin:20220402T170000
LOCATION:ZŠ POD SKALKOU\, Bezručova 293 Rožnov pod Radhoštěm
SUMMARY:PZLK-JKY: TJ Rožnov p R-VK AUSTIN Vsetín
END:VEVENT
END:VCALENDAR
