BEGIN:VCALENDAR
VERSION:2.0
PRODID:-//SK Ještědská Liberec75776//NONSGML kigkonsult.se iCalcreator 2.41.80//
CALSCALE:GREGORIAN
UID:34653131-6466-4732-b865-396564336562
BEGIN:VEVENT
UID:34376264-3936-4231-a265-633438366535
DTSTAMP:20260421T171408Z
DESCRIPTION:2/22 SK Ještědská Liberec - TJ Slovan Varnsdorf 2:0 (22\,14)
DTSTART;TZID=Europe/Berlin:20211003T120000
DTEND;TZID=Europe/Berlin:20211003T140000
LOCATION:ZŠ Ještědská\, Ještědská 354 Liberec - Liberec VIII-Dolní Hanychov
SUMMARY:LIB-ZKY: SK Ještědská Liberec-TJ Slovan Varnsdorf
END:VEVENT
BEGIN:VEVENT
UID:36373662-3038-4833-b034-353537616534
DTSTAMP:20260421T171408Z
DESCRIPTION:3/35 SK Ještědská Liberec - DUKLA Liberec 2:1 (-21\,14\,8)
DTSTART;TZID=Europe/Berlin:20211107T120000
DTEND;TZID=Europe/Berlin:20211107T140000
LOCATION:ZŠ Ještědská\, Ještědská 354 Liberec - Liberec VIII-Dolní Hanychov
SUMMARY:LIB-ZKY: SK Ještědská Liberec-DUKLA Liberec
END:VEVENT
BEGIN:VEVENT
UID:63396161-3633-4665-a566-306562666135
DTSTAMP:20260421T171408Z
DESCRIPTION:3/39 SK Ještědská Liberec - TJ Sokol Mnichovo Hradiště 2:1 (19\
 ,-21\,14)
DTSTART;TZID=Europe/Berlin:20211107T140000
DTEND;TZID=Europe/Berlin:20211107T160000
LOCATION:ZŠ Ještědská\, Ještědská 354 Liberec - Liberec VIII-Dolní Hanychov
SUMMARY:LIB-ZKY: SK Ještědská Liberec-TJ Sokol Mnichovo Hradiště
END:VEVENT
BEGIN:VEVENT
UID:34303765-3663-4465-b139-363435306165
DTSTAMP:20260421T171408Z
DESCRIPTION:5/53 SK Ještědská Liberec - TJ Turnov 'B' 2:0 (16\,14)
DTSTART;TZID=Europe/Berlin:20220109T090000
DTEND;TZID=Europe/Berlin:20220109T110000
LOCATION:ZŠ Ještědská\, Ještědská 354 Liberec - Liberec VIII-Dolní Hanychov
SUMMARY:LIB-ZKY: SK Ještědská Liberec-TJ Turnov 'B'
END:VEVENT
BEGIN:VEVENT
UID:32333535-6266-4439-b139-316562366234
DTSTAMP:20260421T171408Z
DESCRIPTION:5/61 SK Ještědská Liberec - TJ Jiskra Nový Bor 'B' 2:0 (17\,13)
DTSTART;TZID=Europe/Berlin:20220109T120000
DTEND;TZID=Europe/Berlin:20220109T140000
LOCATION:ZŠ Ještědská\, Ještědská 354 Liberec - Liberec VIII-Dolní Hanychov
SUMMARY:LIB-ZKY: SK Ještědská Liberec-TJ Jiskra Nový Bor 'B'
END:VEVENT
BEGIN:VEVENT
UID:31393233-6562-4863-b365-616331323566
DTSTAMP:20260421T171408Z
DESCRIPTION:5/69 SK Ještědská Liberec - Vrtule Frýdlant 2:0 (12\,22)
DTSTART;TZID=Europe/Berlin:20220109T140000
DTEND;TZID=Europe/Berlin:20220109T160000
LOCATION:ZŠ Ještědská\, Ještědská 354 Liberec - Liberec VIII-Dolní Hanychov
SUMMARY:LIB-ZKY: SK Ještědská Liberec-Vrtule Frýdlant
END:VEVENT
BEGIN:VEVENT
UID:66336239-6363-4933-b639-343265303930
DTSTAMP:20260421T171408Z
DESCRIPTION:7/85 SK Ještědská Liberec - TJ Bižuterie 'B' 2:0 (14\,18)
DTSTART;TZID=Europe/Berlin:20220306T100000
DTEND;TZID=Europe/Berlin:20220306T120000
LOCATION:ZŠ Ještědská\, Ještědská 354 Liberec - Liberec VIII-Dolní Hanychov
SUMMARY:LIB-ZKY: SK Ještědská Liberec-TJ Bižuterie 'B'
END:VEVENT
BEGIN:VEVENT
UID:62326363-6333-4566-b966-343838396461
DTSTAMP:20260421T171408Z
DESCRIPTION:8/101 SK Ještědská Liberec - Turnov 0:2 (-9\,-12)
DTSTART;TZID=Europe/Berlin:20220403T100000
DTEND;TZID=Europe/Berlin:20220403T120000
LOCATION:ZŠ Ještědská\, Ještědská 354 Liberec - Liberec VIII-Dolní Hanychov
SUMMARY:LIB-ZKY: SK Ještědská Liberec-Turnov
END:VEVENT
BEGIN:VEVENT
UID:30353561-3933-4664-b232-383966636265
DTSTAMP:20260421T171408Z
DESCRIPTION:8/107 SK Ještědská Liberec - Nový Bor 0:2 (-14\,-12)
DTSTART;TZID=Europe/Berlin:20220403T120000
DTEND;TZID=Europe/Berlin:20220403T140000
LOCATION:ZŠ Ještědská\, Ještědská 354 Liberec - Liberec VIII-Dolní Hanychov
SUMMARY:LIB-ZKY: SK Ještědská Liberec-Nový Bor
END:VEVENT
BEGIN:VEVENT
UID:62336465-6663-4337-b034-326363343035
DTSTAMP:20260421T171408Z
DESCRIPTION:8/108 SK Ještědská Liberec - TJ  Bižuterie 0:2 (-12\,-9)
DTSTART;TZID=Europe/Berlin:20220403T130000
DTEND;TZID=Europe/Berlin:20220403T150000
LOCATION:ZŠ Ještědská\, Ještědská 354 Liberec - Liberec VIII-Dolní Hanychov
SUMMARY:LIB-ZKY: SK Ještědská Liberec-TJ  Bižuterie
END:VEVENT
BEGIN:VEVENT
UID:39323538-6366-4565-b836-326263373630
DTSTAMP:20260421T171408Z
DESCRIPTION:1/1 TJ Jiskra Nový Bor 'B' - SK Ještědská Liberec 0:2 (-8\,-17)
DTSTART;TZID=Europe/Berlin:20210912T090000
DTEND;TZID=Europe/Berlin:20210912T110000
LOCATION:Sportovní hala Františka Arnošta Nový Bor\, U hřiště 1391 Nový Bor
SUMMARY:LIB-ZKY: TJ Jiskra Nový Bor 'B'-SK Ještědská Liberec
END:VEVENT
BEGIN:VEVENT
UID:65346535-3433-4261-a136-376165616136
DTSTAMP:20260421T171408Z
DESCRIPTION:1/7 TJ  Bižuterie - SK Ještědská Liberec 2:0 (23\,20)
DTSTART;TZID=Europe/Berlin:20210912T110000
DTEND;TZID=Europe/Berlin:20210912T130000
LOCATION:Městská sportovní hala\, U Přehrady 4747 Jablonec nad Nisou
SUMMARY:LIB-ZKY: TJ  Bižuterie-SK Ještědská Liberec
END:VEVENT
BEGIN:VEVENT
UID:34626165-6661-4665-a436-633335333233
DTSTAMP:20260421T171408Z
DESCRIPTION:1/12 TJ Turnov 'B' - SK Ještědská Liberec 0:2 (-15\,-9)
DTSTART;TZID=Europe/Berlin:20210912T120000
DTEND;TZID=Europe/Berlin:20210912T140000
LOCATION:TJ Turnov\, Skálova 207 Turnov
SUMMARY:LIB-ZKY: TJ Turnov 'B'-SK Ještědská Liberec
END:VEVENT
BEGIN:VEVENT
UID:36333064-3032-4139-b430-373161613231
DTSTAMP:20260421T171408Z
DESCRIPTION:2/18 Vrtule Frýdlant - SK Ještědská Liberec 2:0 (20\,21)
DTSTART;TZID=Europe/Berlin:20211003T100000
DTEND;TZID=Europe/Berlin:20211003T120000
LOCATION:Střední škola hospodářská a lesnická \, Bělíkova 1387 Frýdlant
SUMMARY:LIB-ZKY: Vrtule Frýdlant-SK Ještědská Liberec
END:VEVENT
BEGIN:VEVENT
UID:65633836-3462-4737-a664-653737346662
DTSTAMP:20260421T171408Z
DESCRIPTION:4/43 TJ Sokol Mnichovo Hradiště - SK Ještědská Liberec 0:2 (-14
 \,-24)
DTSTART;TZID=Europe/Berlin:20211205T090000
DTEND;TZID=Europe/Berlin:20211205T110000
LOCATION:Sokolovna\, Víta Nejedlého 596 Mnichovo Hradiště
SUMMARY:LIB-ZKY: TJ Sokol Mnichovo Hradiště-SK Ještědská Liberec
END:VEVENT
BEGIN:VEVENT
UID:36323064-3861-4839-a530-626463666138
DTSTAMP:20260421T171408Z
DESCRIPTION:4/46 TJ Slovan Varnsdorf - SK Ještědská Liberec 0:2 (-15\,-18)
DTSTART;TZID=Europe/Berlin:20211205T100000
DTEND;TZID=Europe/Berlin:20211205T120000
LOCATION:Sportovní hala Varnsdorf\, Západní 2984 Varnsdorf
SUMMARY:LIB-ZKY: TJ Slovan Varnsdorf-SK Ještědská Liberec
END:VEVENT
BEGIN:VEVENT
UID:36643166-6663-4030-b062-653962363139
DTSTAMP:20260421T171408Z
DESCRIPTION:4/48 DUKLA Liberec - SK Ještědská Liberec 1:2 (21\,-17\,-6)
DTSTART;TZID=Europe/Berlin:20211205T110000
DTEND;TZID=Europe/Berlin:20211205T130000
LOCATION:Dukla Liberec\, Jeronýmova 558 Liberec - Liberec VII-Horní Růžodol
SUMMARY:LIB-ZKY: DUKLA Liberec-SK Ještědská Liberec
END:VEVENT
BEGIN:VEVENT
UID:30363431-3434-4135-a339-613736336538
DTSTAMP:20260421T171408Z
DESCRIPTION:7/82 Turnov - SK Ještědská Liberec 2:0 (16\,12)
DTSTART;TZID=Europe/Berlin:20220306T090000
DTEND;TZID=Europe/Berlin:20220306T110000
LOCATION:TJ Turnov\, Skálova 207 Turnov
SUMMARY:LIB-ZKY: Turnov-SK Ještědská Liberec
END:VEVENT
BEGIN:VEVENT
UID:34303066-6261-4836-a563-336634663266
DTSTAMP:20260421T171408Z
DESCRIPTION:7/89 Nový Bor - SK Ještědská Liberec 2:0 (12\,15)
DTSTART;TZID=Europe/Berlin:20220306T120000
DTEND;TZID=Europe/Berlin:20220306T140000
LOCATION:Sportovní hala Františka Arnošta Nový Bor\, U hřiště 1391 Nový Bor
SUMMARY:LIB-ZKY: Nový Bor-SK Ještědská Liberec
END:VEVENT
BEGIN:VEVENT
UID:38643239-6230-4361-b038-643366613161
DTSTAMP:20260421T171408Z
DESCRIPTION:8/98 TJ Bižuterie 'B' - SK Ještědská Liberec 0:2 (-16\,-18)
DTSTART;TZID=Europe/Berlin:20220403T090000
DTEND;TZID=Europe/Berlin:20220403T110000
LOCATION:Městská sportovní hala\, U Přehrady 4747 Jablonec nad Nisou
SUMMARY:LIB-ZKY: TJ Bižuterie 'B'-SK Ještědská Liberec
END:VEVENT
BEGIN:VEVENT
UID:36306331-3562-4638-b663-653165343862
DTSTAMP:20260421T171408Z
DESCRIPTION:1/1 TJ Jiskra Nový Bor 'B' - SK Ještědská Liberec 0:2 (-8\,-17)
DTSTART;TZID=Europe/Berlin:20210912T090000
DTEND;TZID=Europe/Berlin:20210912T110000
LOCATION:Sportovní hala Františka Arnošta Nový Bor\, U hřiště 1391 Nový Bor
SUMMARY:LIB-ZKY-1: TJ Jiskra Nový Bor 'B'-SK Ještědská Liberec
END:VEVENT
BEGIN:VEVENT
UID:65643831-6431-4166-b963-643162353561
DTSTAMP:20260421T171408Z
DESCRIPTION:1/3 TJ  Bižuterie - SK Ještědská Liberec 2:0 (23\,20)
DTSTART;TZID=Europe/Berlin:20210912T090000
DTEND;TZID=Europe/Berlin:20210912T110000
LOCATION:Městská sportovní hala\, U Přehrady 4747 Jablonec nad Nisou
SUMMARY:LIB-ZKY-1: TJ  Bižuterie-SK Ještědská Liberec
END:VEVENT
BEGIN:VEVENT
UID:30393839-3439-4336-b434-306536383530
DTSTAMP:20260421T171408Z
DESCRIPTION:3/14 TJ Turnov 'B' - SK Ještědská Liberec 0:2 (-15\,-9)
DTSTART;TZID=Europe/Berlin:20210912T090000
DTEND;TZID=Europe/Berlin:20210912T110000
LOCATION:TJ Turnov\, Skálova 207 Turnov
SUMMARY:LIB-ZKY-1: TJ Turnov 'B'-SK Ještědská Liberec
END:VEVENT
BEGIN:VEVENT
UID:61366633-3663-4165-b333-376262353435
DTSTAMP:20260421T171408Z
DESCRIPTION:1/2 Vrtule Frýdlant - SK Ještědská Liberec 2:0 (20\,21)
DTSTART;TZID=Europe/Berlin:20211003T090000
DTEND;TZID=Europe/Berlin:20211003T110000
LOCATION:Střední škola hospodářská a lesnická \, Bělíkova 1387 Frýdlant
SUMMARY:LIB-ZKY-2: Vrtule Frýdlant-SK Ještědská Liberec
END:VEVENT
BEGIN:VEVENT
UID:64343266-3837-4065-b666-623237303731
DTSTAMP:20260421T171408Z
DESCRIPTION:1/4 TJ Slovan Varnsdorf - SK Ještědská Liberec 0:2 (-22\,-14)
DTSTART;TZID=Europe/Berlin:20211003T090000
DTEND;TZID=Europe/Berlin:20211003T110000
LOCATION:Sportovní hala Varnsdorf\, Západní 2984 Varnsdorf
SUMMARY:LIB-ZKY-2: TJ Slovan Varnsdorf-SK Ještědská Liberec
END:VEVENT
BEGIN:VEVENT
UID:63656562-3339-4531-a332-366436343162
DTSTAMP:20260421T171408Z
DESCRIPTION:1/5 TJ Sokol Mnichovo Hradiště - SK Ještědská Liberec 1:2 (-19\
 ,21\,-14)
DTSTART;TZID=Europe/Berlin:20211107T090000
DTEND;TZID=Europe/Berlin:20211107T110000
LOCATION:Sokolovna\, Víta Nejedlého 596 Mnichovo Hradiště
SUMMARY:LIB-ZKY-3: TJ Sokol Mnichovo Hradiště-SK Ještědská Liberec
END:VEVENT
BEGIN:VEVENT
UID:31326235-3564-4839-a336-373362643834
DTSTAMP:20260421T171408Z
DESCRIPTION:2/6 DUKLA Liberec - SK Ještědská Liberec 1:2 (21\,-14\,-8)
DTSTART;TZID=Europe/Berlin:20211107T100000
DTEND;TZID=Europe/Berlin:20211107T120000
LOCATION:Dukla Liberec\, Jeronýmova 558 Liberec - Liberec VII-Horní Růžodol
SUMMARY:LIB-ZKY-3: DUKLA Liberec-SK Ještědská Liberec
END:VEVENT
BEGIN:VEVENT
UID:64396237-3134-4831-b663-343534373534
DTSTAMP:20260421T171408Z
DESCRIPTION:4/43 TJ Sokol Mnichovo Hradiště - SK Ještědská Liberec 0:2 (-14
 \,-24)
DTSTART;TZID=Europe/Berlin:20211205T090000
DTEND;TZID=Europe/Berlin:20211205T110000
LOCATION:Sokolovna\, Víta Nejedlého 596 Mnichovo Hradiště
SUMMARY:LIB-ZKY-4: TJ Sokol Mnichovo Hradiště-SK Ještědská Liberec
END:VEVENT
BEGIN:VEVENT
UID:64323639-3236-4462-a531-643361326330
DTSTAMP:20260421T171408Z
DESCRIPTION:4/46 TJ Slovan Varnsdorf - SK Ještědská Liberec 0:2 (-15\,-18)
DTSTART;TZID=Europe/Berlin:20211205T100000
DTEND;TZID=Europe/Berlin:20211205T120000
LOCATION:Sportovní hala Varnsdorf\, Západní 2984 Varnsdorf
SUMMARY:LIB-ZKY-4: TJ Slovan Varnsdorf-SK Ještědská Liberec
END:VEVENT
BEGIN:VEVENT
UID:33343266-3335-4831-b062-653437616563
DTSTAMP:20260421T171408Z
DESCRIPTION:4/48 DUKLA Liberec - SK Ještědská Liberec 1:2 (21\,-17\,-6)
DTSTART;TZID=Europe/Berlin:20211205T110000
DTEND;TZID=Europe/Berlin:20211205T130000
LOCATION:Dukla Liberec\, Jeronýmova 558 Liberec - Liberec VII-Horní Růžodol
SUMMARY:LIB-ZKY-4: DUKLA Liberec-SK Ještědská Liberec
END:VEVENT
BEGIN:VEVENT
UID:64316432-3438-4030-a534-363735343363
DTSTAMP:20260421T171408Z
DESCRIPTION:5/53 SK Ještědská Liberec - TJ Turnov 'B' 2:0 (16\,14)
DTSTART;TZID=Europe/Berlin:20220109T090000
DTEND;TZID=Europe/Berlin:20220109T110000
LOCATION:ZŠ Ještědská\, Ještědská 354 Liberec - Liberec VIII-Dolní Hanychov
SUMMARY:LIB-ZKY-5: SK Ještědská Liberec-TJ Turnov 'B'
END:VEVENT
BEGIN:VEVENT
UID:62646139-6263-4065-b236-363531623231
DTSTAMP:20260421T171408Z
DESCRIPTION:5/61 SK Ještědská Liberec - TJ Jiskra Nový Bor 'B' 2:0 (17\,13)
DTSTART;TZID=Europe/Berlin:20220109T120000
DTEND;TZID=Europe/Berlin:20220109T140000
LOCATION:ZŠ Ještědská\, Ještědská 354 Liberec - Liberec VIII-Dolní Hanychov
SUMMARY:LIB-ZKY-5: SK Ještědská Liberec-TJ Jiskra Nový Bor 'B'
END:VEVENT
BEGIN:VEVENT
UID:61383665-3734-4630-a366-663930623338
DTSTAMP:20260421T171408Z
DESCRIPTION:5/69 SK Ještědská Liberec - Vrtule Frýdlant 2:0 (12\,22)
DTSTART;TZID=Europe/Berlin:20220109T140000
DTEND;TZID=Europe/Berlin:20220109T160000
LOCATION:ZŠ Ještědská\, Ještědská 354 Liberec - Liberec VIII-Dolní Hanychov
SUMMARY:LIB-ZKY-5: SK Ještědská Liberec-Vrtule Frýdlant
END:VEVENT
BEGIN:VEVENT
UID:34643262-3561-4565-b830-643432393035
DTSTAMP:20260421T171408Z
DESCRIPTION:1/3 Turnov - SK Ještědská Liberec 2:0 (16\,12)
DTSTART;TZID=Europe/Berlin:20220306T090000
DTEND;TZID=Europe/Berlin:20220306T110000
LOCATION:TJ Turnov\, Skálova 207 Turnov
SUMMARY:LIB-ZKY-7: Turnov-SK Ještědská Liberec
END:VEVENT
BEGIN:VEVENT
UID:39373132-6564-4461-b932-316536393335
DTSTAMP:20260421T171408Z
DESCRIPTION:2/6 TJ Bižuterie 'B' - SK Ještědská Liberec 0:2 (-14\,-18)
DTSTART;TZID=Europe/Berlin:20220306T100000
DTEND;TZID=Europe/Berlin:20220306T120000
LOCATION:Městská sportovní hala\, U Přehrady 4747 Jablonec nad Nisou
SUMMARY:LIB-ZKY-7: TJ Bižuterie 'B'-SK Ještědská Liberec
END:VEVENT
BEGIN:VEVENT
UID:32653564-3233-4830-a162-613232343839
DTSTAMP:20260421T171408Z
DESCRIPTION:4/10 Nový Bor - SK Ještědská Liberec 2:0 (12\,15)
DTSTART;TZID=Europe/Berlin:20220306T120000
DTEND;TZID=Europe/Berlin:20220306T140000
LOCATION:Sportovní hala Františka Arnošta Nový Bor\, U hřiště 1391 Nový Bor
SUMMARY:LIB-ZKY-7: Nový Bor-SK Ještědská Liberec
END:VEVENT
BEGIN:VEVENT
UID:63326562-3932-4666-b464-393639326537
DTSTAMP:20260421T171408Z
DESCRIPTION:1/3 TJ Bižuterie 'B' - SK Ještědská Liberec 0:2 (-16\,-18)
DTSTART;TZID=Europe/Berlin:20220403T090000
DTEND;TZID=Europe/Berlin:20220403T110000
LOCATION:Městská sportovní hala\, U Přehrady 4747 Jablonec nad Nisou
SUMMARY:LIB-ZKY-8: TJ Bižuterie 'B'-SK Ještědská Liberec
END:VEVENT
BEGIN:VEVENT
UID:38336331-6336-4164-b932-616566393739
DTSTAMP:20260421T171408Z
DESCRIPTION:2/6 Turnov - SK Ještědská Liberec 2:0 (9\,12)
DTSTART;TZID=Europe/Berlin:20220403T100000
DTEND;TZID=Europe/Berlin:20220403T120000
LOCATION:TJ Turnov\, Skálova 207 Turnov
SUMMARY:LIB-ZKY-8: Turnov-SK Ještědská Liberec
END:VEVENT
BEGIN:VEVENT
UID:65663963-6133-4537-b662-356434616463
DTSTAMP:20260421T171408Z
DESCRIPTION:4/12 Nový Bor - SK Ještědská Liberec 2:0 (14\,12)
DTSTART;TZID=Europe/Berlin:20220403T120000
DTEND;TZID=Europe/Berlin:20220403T140000
LOCATION:Sportovní hala Františka Arnošta Nový Bor\, U hřiště 1391 Nový Bor
SUMMARY:LIB-ZKY-8: Nový Bor-SK Ještědská Liberec
END:VEVENT
BEGIN:VEVENT
UID:39643138-6361-4136-a339-633361643235
DTSTAMP:20260421T171408Z
DESCRIPTION:5/13 TJ  Bižuterie - SK Ještědská Liberec 2:0 (12\,9)
DTSTART;TZID=Europe/Berlin:20220403T130000
DTEND;TZID=Europe/Berlin:20220403T150000
LOCATION:Městská sportovní hala\, U Přehrady 4747 Jablonec nad Nisou
SUMMARY:LIB-ZKY-8: TJ  Bižuterie-SK Ještědská Liberec
END:VEVENT
END:VCALENDAR
