BEGIN:VCALENDAR
VERSION:2.0
PRODID:-//VK Valašské Meziříčí75788//NONSGML kigkonsult.se iCalcreator 2.41.80//
CALSCALE:GREGORIAN
UID:31316136-3932-4735-a430-373336303161
BEGIN:VEVENT
UID:66316139-3963-4135-b236-623739393232
DTSTAMP:20260423T005412Z
DESCRIPTION:1/5 VK Valašské Meziříčí - TJ Bojkovice 3:0 (17\,22\,11)
DTSTART;TZID=Europe/Berlin:20211002T100000
DTEND;TZID=Europe/Berlin:20211002T120000
LOCATION:ZŠ Šafaříkova\, Šafaříkova 726 Valašské Meziříčí
SUMMARY:ZLK-KKY: VK Valašské Meziříčí-TJ Bojkovice
END:VEVENT
BEGIN:VEVENT
UID:61303265-3464-4664-a136-333166653334
DTSTAMP:20260423T005412Z
DESCRIPTION:2/10 VK Valašské Meziříčí - TJ Bojkovice 3:0 (12\,5\,16)
DTSTART;TZID=Europe/Berlin:20211002T130000
DTEND;TZID=Europe/Berlin:20211002T150000
LOCATION:ZŠ Šafaříkova\, Šafaříkova 726 Valašské Meziříčí
SUMMARY:ZLK-KKY: VK Valašské Meziříčí-TJ Bojkovice
END:VEVENT
BEGIN:VEVENT
UID:61663433-6338-4737-b439-353735626332
DTSTAMP:20260423T005412Z
DESCRIPTION:5/24 VK Valašské Meziříčí - VC Kroměříž  B 3:0 (4\,18\,15)
DTSTART;TZID=Europe/Berlin:20211016T090000
DTEND;TZID=Europe/Berlin:20211016T110000
LOCATION:ZŠ Šafaříkova\, Šafaříkova 726 Valašské Meziříčí
SUMMARY:ZLK-KKY: VK Valašské Meziříčí-VC Kroměříž  B
END:VEVENT
BEGIN:VEVENT
UID:34636235-6138-4234-a639-363762663531
DTSTAMP:20260423T005412Z
DESCRIPTION:6/29 VK Valašské Meziříčí - VC Kroměříž  B 3:0 (12\,15\,17)
DTSTART;TZID=Europe/Berlin:20211016T130000
DTEND;TZID=Europe/Berlin:20211016T150000
LOCATION:ZŠ Šafaříkova\, Šafaříkova 726 Valašské Meziříčí
SUMMARY:ZLK-KKY: VK Valašské Meziříčí-VC Kroměříž  B
END:VEVENT
BEGIN:VEVENT
UID:63306630-6438-4933-a538-316638313465
DTSTAMP:20260423T005412Z
DESCRIPTION:9/43 VK Valašské Meziříčí - Vsetín 2:3 (14\,-20\,-15\,22\,-5)
DTSTART;TZID=Europe/Berlin:20211106T100000
DTEND;TZID=Europe/Berlin:20211106T120000
LOCATION:ZŠ Šafaříkova\, Šafaříkova 726 Valašské Meziříčí
SUMMARY:ZLK-KKY: VK Valašské Meziříčí-Vsetín
END:VEVENT
BEGIN:VEVENT
UID:65646334-3635-4966-b130-363834643063
DTSTAMP:20260423T005412Z
DESCRIPTION:10/48 VK Valašské Meziříčí - Vsetín 3:1 (23\,-19\,23\,15)
DTSTART;TZID=Europe/Berlin:20211106T130000
DTEND;TZID=Europe/Berlin:20211106T150000
LOCATION:ZŠ Šafaříkova\, Šafaříkova 726 Valašské Meziříčí
SUMMARY:ZLK-KKY: VK Valašské Meziříčí-Vsetín
END:VEVENT
BEGIN:VEVENT
UID:34653961-3938-4331-a230-616664313465
DTSTAMP:20260423T005412Z
DESCRIPTION:13/62 VK Valašské Meziříčí - VK Napajedla A 3:0 (0\,0\,0)
DTSTART;TZID=Europe/Berlin:20211120T090000
DTEND;TZID=Europe/Berlin:20211120T110000
LOCATION:ZŠ Šafaříkova\, Šafaříkova 726 Valašské Meziříčí
SUMMARY:ZLK-KKY: VK Valašské Meziříčí-VK Napajedla A
END:VEVENT
BEGIN:VEVENT
UID:65336135-3331-4536-a338-653238623235
DTSTAMP:20260423T005412Z
DESCRIPTION:14/67 VK Valašské Meziříčí - VK Napajedla A 0:3 (-0\,-0\,-0)
DTSTART;TZID=Europe/Berlin:20211120T130000
DTEND;TZID=Europe/Berlin:20211120T150000
LOCATION:ZŠ Šafaříkova\, Šafaříkova 726 Valašské Meziříčí
SUMMARY:ZLK-KKY: VK Valašské Meziříčí-VK Napajedla A
END:VEVENT
BEGIN:VEVENT
UID:61663666-3133-4636-b630-633137623339
DTSTAMP:20260423T005412Z
DESCRIPTION:17/81 VK Valašské Meziříčí - SK Slavičín 3:0 (0\,0\,0)
DTSTART;TZID=Europe/Berlin:20211204T100000
DTEND;TZID=Europe/Berlin:20211204T120000
LOCATION:ZŠ Šafaříkova\, Šafaříkova 726 Valašské Meziříčí
SUMMARY:ZLK-KKY: VK Valašské Meziříčí-SK Slavičín
END:VEVENT
BEGIN:VEVENT
UID:30663837-3435-4936-b238-386465633539
DTSTAMP:20260423T005412Z
DESCRIPTION:18/86 VK Valašské Meziříčí - SK Slavičín 3:0 (0\,0\,0)
DTSTART;TZID=Europe/Berlin:20211204T130000
DTEND;TZID=Europe/Berlin:20211204T150000
LOCATION:ZŠ Šafaříkova\, Šafaříkova 726 Valašské Meziříčí
SUMMARY:ZLK-KKY: VK Valašské Meziříčí-SK Slavičín
END:VEVENT
BEGIN:VEVENT
UID:33313037-3436-4631-a630-626162363661
DTSTAMP:20260423T005412Z
DESCRIPTION:21/102 VK Valašské Meziříčí - TJ Slovácká Slavia UH B 3:0 (4\,2
 3\,11)
DTSTART;TZID=Europe/Berlin:20220115T090000
DTEND;TZID=Europe/Berlin:20220115T110000
LOCATION:ZŠ Šafaříkova\, Šafaříkova 726 Valašské Meziříčí
SUMMARY:ZLK-KKY: VK Valašské Meziříčí-TJ Slovácká Slavia UH B
END:VEVENT
BEGIN:VEVENT
UID:66393363-3530-4634-b531-633030623332
DTSTAMP:20260423T005412Z
DESCRIPTION:22/107 VK Valašské Meziříčí - TJ Slovácká Slavia UH B 3:0 (10\,
 17\,18)
DTSTART;TZID=Europe/Berlin:20220115T130000
DTEND;TZID=Europe/Berlin:20220115T150000
LOCATION:ZŠ Šafaříkova\, Šafaříkova 726 Valašské Meziříčí
SUMMARY:ZLK-KKY: VK Valašské Meziříčí-TJ Slovácká Slavia UH B
END:VEVENT
BEGIN:VEVENT
UID:37333066-3863-4833-b130-663465343335
DTSTAMP:20260423T005412Z
DESCRIPTION:25/123 VK Valašské Meziříčí - VC Kroměříž  C 3:0 (22\,22\,11)
DTSTART;TZID=Europe/Berlin:20220129T100000
DTEND;TZID=Europe/Berlin:20220129T120000
LOCATION:ZŠ Šafaříkova\, Šafaříkova 726 Valašské Meziříčí
SUMMARY:ZLK-KKY: VK Valašské Meziříčí-VC Kroměříž  C
END:VEVENT
BEGIN:VEVENT
UID:30396439-3433-4336-a662-383839366533
DTSTAMP:20260423T005412Z
DESCRIPTION:26/128 VK Valašské Meziříčí - VC Kroměříž  C 3:0 (21\,20\,12)
DTSTART;TZID=Europe/Berlin:20220129T130000
DTEND;TZID=Europe/Berlin:20220129T150000
LOCATION:ZŠ Šafaříkova\, Šafaříkova 726 Valašské Meziříčí
SUMMARY:ZLK-KKY: VK Valašské Meziříčí-VC Kroměříž  C
END:VEVENT
BEGIN:VEVENT
UID:64326131-3462-4437-a461-316562303566
DTSTAMP:20260423T005412Z
DESCRIPTION:29/144 VK Valašské Meziříčí - VK AUSTIN Vsetín B 3:0 (8\,21\,10
 )
DTSTART;TZID=Europe/Berlin:20220226T100000
DTEND;TZID=Europe/Berlin:20220226T120000
LOCATION:ZŠ Šafaříkova\, Šafaříkova 726 Valašské Meziříčí
SUMMARY:ZLK-KKY: VK Valašské Meziříčí-VK AUSTIN Vsetín B
END:VEVENT
BEGIN:VEVENT
UID:31323934-6235-4664-b634-666265653765
DTSTAMP:20260423T005412Z
DESCRIPTION:30/149 VK Valašské Meziříčí - VK AUSTIN Vsetín B 3:0 (22\,17\,1
 7)
DTSTART;TZID=Europe/Berlin:20220226T130000
DTEND;TZID=Europe/Berlin:20220226T150000
LOCATION:ZŠ Šafaříkova\, Šafaříkova 726 Valašské Meziříčí
SUMMARY:ZLK-KKY: VK Valašské Meziříčí-VK AUSTIN Vsetín B
END:VEVENT
BEGIN:VEVENT
UID:66373531-3835-4638-b862-613261383930
DTSTAMP:20260423T005412Z
DESCRIPTION:3/12 TJ Slovácká Slavia UH B - VK Valašské Meziříčí 0:3 (-10\,-
 10\,-8)
DTSTART;TZID=Europe/Berlin:20211009T110000
DTEND;TZID=Europe/Berlin:20211009T130000
LOCATION:Tělocvična ZŠ Jarošov\, Pivovarská 359 Uherské Hradiště - Jarošov
SUMMARY:ZLK-KKY: TJ Slovácká Slavia UH B-VK Valašské Meziříčí
END:VEVENT
BEGIN:VEVENT
UID:63613139-3630-4639-a632-376533613335
DTSTAMP:20260423T005412Z
DESCRIPTION:4/17 TJ Slovácká Slavia UH B - VK Valašské Meziříčí 0:3 (-10\,-
 6\,-8)
DTSTART;TZID=Europe/Berlin:20211009T140000
DTEND;TZID=Europe/Berlin:20211009T160000
LOCATION:Tělocvična ZŠ Jarošov\, Pivovarská 359 Uherské Hradiště - Jarošov
SUMMARY:ZLK-KKY: TJ Slovácká Slavia UH B-VK Valašské Meziříčí
END:VEVENT
BEGIN:VEVENT
UID:36316663-3862-4839-a531-306137353763
DTSTAMP:20260423T005412Z
DESCRIPTION:7/33 VC Kroměříž  C - VK Valašské Meziříčí 2:3 (13\,-20\,23\,-1
 3\,-6)
DTSTART;TZID=Europe/Berlin:20211023T090000
DTEND;TZID=Europe/Berlin:20211023T110000
LOCATION:ZŠ Slovan\, Zeyerova 3354 Kroměříž
SUMMARY:ZLK-KKY: VC Kroměříž  C-VK Valašské Meziříčí
END:VEVENT
BEGIN:VEVENT
UID:32303637-3532-4565-b664-363631636663
DTSTAMP:20260423T005412Z
DESCRIPTION:8/38 VC Kroměříž  C - VK Valašské Meziříčí 1:3 (21\,-20\,-10\,-
 19)
DTSTART;TZID=Europe/Berlin:20211023T120000
DTEND;TZID=Europe/Berlin:20211023T140000
LOCATION:ZŠ Slovan\, Zeyerova 3354 Kroměříž
SUMMARY:ZLK-KKY: VC Kroměříž  C-VK Valašské Meziříčí
END:VEVENT
BEGIN:VEVENT
UID:61363638-3234-4134-a537-313836633865
DTSTAMP:20260423T005412Z
DESCRIPTION:11/54 VK AUSTIN Vsetín B - VK Valašské Meziříčí 2:3 (21\,-20\,-
 17\,24\,-10)
DTSTART;TZID=Europe/Berlin:20211113T100000
DTEND;TZID=Europe/Berlin:20211113T120000
LOCATION:Sportovní hala Na Lapači\, Na Lapači 247 Vsetín - Rokytnice
SUMMARY:ZLK-KKY: VK AUSTIN Vsetín B-VK Valašské Meziříčí
END:VEVENT
BEGIN:VEVENT
UID:36333531-3330-4236-a162-353961653639
DTSTAMP:20260423T005412Z
DESCRIPTION:12/59 VK AUSTIN Vsetín B - VK Valašské Meziříčí 0:3 (-7\,-10\,-
 25)
DTSTART;TZID=Europe/Berlin:20211113T130000
DTEND;TZID=Europe/Berlin:20211113T150000
LOCATION:Sportovní hala Na Lapači\, Na Lapači 247 Vsetín - Rokytnice
SUMMARY:ZLK-KKY: VK AUSTIN Vsetín B-VK Valašské Meziříčí
END:VEVENT
BEGIN:VEVENT
UID:62373035-3931-4137-a131-353536393830
DTSTAMP:20260423T005412Z
DESCRIPTION:19/95 TJ Bojkovice - VK Valašské Meziříčí 0:3 (-15\,-15\,-14)
DTSTART;TZID=Europe/Berlin:20220108T090000
DTEND;TZID=Europe/Berlin:20220108T110000
LOCATION:ZŠ TGM Bojkovice\, Štefánikova 460 Bojkovice
SUMMARY:ZLK-KKY: TJ Bojkovice-VK Valašské Meziříčí
END:VEVENT
BEGIN:VEVENT
UID:64623531-6338-4239-a633-356364626436
DTSTAMP:20260423T005412Z
DESCRIPTION:20/100 TJ Bojkovice - VK Valašské Meziříčí 0:3 (-16\,-15\,-16)
DTSTART;TZID=Europe/Berlin:20220108T120000
DTEND;TZID=Europe/Berlin:20220108T140000
LOCATION:ZŠ TGM Bojkovice\, Štefánikova 460 Bojkovice
SUMMARY:ZLK-KKY: TJ Bojkovice-VK Valašské Meziříčí
END:VEVENT
BEGIN:VEVENT
UID:62316163-6138-4765-b539-646566313764
DTSTAMP:20260423T005412Z
DESCRIPTION:23/114 VC Kroměříž  B - VK Valašské Meziříčí 3:0 (0\,0\,0)
DTSTART;TZID=Europe/Berlin:20220122T090000
DTEND;TZID=Europe/Berlin:20220122T110000
LOCATION:ZŠ Zachar\, Albertova 4062 Kroměříž
SUMMARY:ZLK-KKY: VC Kroměříž  B-VK Valašské Meziříčí
END:VEVENT
BEGIN:VEVENT
UID:38346634-3739-4261-b865-613538376161
DTSTAMP:20260423T005412Z
DESCRIPTION:24/119 VC Kroměříž  B - VK Valašské Meziříčí 0:3 (-0\,-0\,-0)
DTSTART;TZID=Europe/Berlin:20220122T130000
DTEND;TZID=Europe/Berlin:20220122T150000
LOCATION:ZŠ Zachar\, Albertova 4062 Kroměříž
SUMMARY:ZLK-KKY: VC Kroměříž  B-VK Valašské Meziříčí
END:VEVENT
BEGIN:VEVENT
UID:33643135-3637-4236-a530-393165376432
DTSTAMP:20260423T005412Z
DESCRIPTION:27/133 Vsetín - VK Valašské Meziříčí 3:0 (22\,15\,16)
DTSTART;TZID=Europe/Berlin:20220219T090000
DTEND;TZID=Europe/Berlin:20220219T110000
LOCATION:Sportovní hala Na Lapači\, Na Lapači 247 Vsetín - Rokytnice
SUMMARY:ZLK-KKY: Vsetín-VK Valašské Meziříčí
END:VEVENT
BEGIN:VEVENT
UID:62333839-6264-4531-b536-326532623430
DTSTAMP:20260423T005412Z
DESCRIPTION:28/138 Vsetín - VK Valašské Meziříčí 3:0 (12\,18\,21)
DTSTART;TZID=Europe/Berlin:20220219T120000
DTEND;TZID=Europe/Berlin:20220219T140000
LOCATION:Sportovní hala Na Lapači\, Na Lapači 247 Vsetín - Rokytnice
SUMMARY:ZLK-KKY: Vsetín-VK Valašské Meziříčí
END:VEVENT
BEGIN:VEVENT
UID:63303566-6139-4632-a538-663261336234
DTSTAMP:20260423T005412Z
DESCRIPTION:31/152 VK Napajedla A - VK Valašské Meziříčí 0:3 (-19\,-18\,-23
 )
DTSTART;TZID=Europe/Berlin:20220305T100000
DTEND;TZID=Europe/Berlin:20220305T120000
LOCATION:2.ZŠ Napajedla\, Komenského 298 Napajedla
SUMMARY:ZLK-KKY: VK Napajedla A-VK Valašské Meziříčí
END:VEVENT
BEGIN:VEVENT
UID:31363332-3338-4931-a235-356433303835
DTSTAMP:20260423T005412Z
DESCRIPTION:32/157 VK Napajedla A - VK Valašské Meziříčí 0:3 (-19\,-17\,-8)
DTSTART;TZID=Europe/Berlin:20220305T130000
DTEND;TZID=Europe/Berlin:20220305T150000
LOCATION:2.ZŠ Napajedla\, Komenského 298 Napajedla
SUMMARY:ZLK-KKY: VK Napajedla A-VK Valašské Meziříčí
END:VEVENT
BEGIN:VEVENT
UID:36386233-6538-4163-b763-376138343862
DTSTAMP:20260423T005412Z
DESCRIPTION:35/171 SK Slavičín - VK Valašské Meziříčí 0:3 (-12\,-14\,-10)
DTSTART;TZID=Europe/Berlin:20220319T100000
DTEND;TZID=Europe/Berlin:20220319T120000
SUMMARY:ZLK-KKY: SK Slavičín-VK Valašské Meziříčí
END:VEVENT
BEGIN:VEVENT
UID:63363636-3363-4237-a163-376533383138
DTSTAMP:20260423T005412Z
DESCRIPTION:36/176 SK Slavičín - VK Valašské Meziříčí 0:3 (-12\,-14\,-22)
DTSTART;TZID=Europe/Berlin:20220319T130000
DTEND;TZID=Europe/Berlin:20220319T150000
SUMMARY:ZLK-KKY: SK Slavičín-VK Valašské Meziříčí
END:VEVENT
BEGIN:VEVENT
UID:31353631-6431-4261-b735-656161656564
DTSTAMP:20260423T005412Z
DESCRIPTION:3/8 VK Valašské Meziříčí - Vsetín 1:2 (20\,-20\,-12)
DTSTART;TZID=Europe/Berlin:20210911T120000
DTEND;TZID=Europe/Berlin:20210911T140000
LOCATION:ZŠ Šafaříkova\, Šafaříkova 726 Valašské Meziříčí
SUMMARY:PZLK-KKY-A: VK Valašské Meziříčí-Vsetín
END:VEVENT
BEGIN:VEVENT
UID:65613836-3533-4737-b333-353166656363
DTSTAMP:20260423T005412Z
DESCRIPTION:1/2 VK AUSTIN Vsetín B - VK Valašské Meziříčí 0:2 (-16\,-17)
DTSTART;TZID=Europe/Berlin:20210911T090000
DTEND;TZID=Europe/Berlin:20210911T110000
LOCATION:Sportovní hala Na Lapači\, Na Lapači 247 Vsetín - Rokytnice
SUMMARY:PZLK-KKY-A: VK AUSTIN Vsetín B-VK Valašské Meziříčí
END:VEVENT
BEGIN:VEVENT
UID:64393762-6139-4237-a462-376664346161
DTSTAMP:20260423T005412Z
DESCRIPTION:2/4 VC Kroměříž  B - VK Valašské Meziříčí 0:2 (-3\,-16)
DTSTART;TZID=Europe/Berlin:20210911T103000
DTEND;TZID=Europe/Berlin:20210911T123000
LOCATION:ZŠ Slovan B\, Zeyerova 3354 Kroměříž
SUMMARY:PZLK-KKY-A: VC Kroměříž  B-VK Valašské Meziříčí
END:VEVENT
BEGIN:VEVENT
UID:30363039-3131-4233-a562-656336643361
DTSTAMP:20260423T005412Z
DESCRIPTION:2/4 VK Valašské Meziříčí - VK Napajedla A 2:1 (-17\,20\,16)
DTSTART;TZID=Europe/Berlin:20220409T100000
DTEND;TZID=Europe/Berlin:20220409T120000
LOCATION:ZŠ Šafaříkova\, Šafaříkova 726 Valašské Meziříčí
SUMMARY:PZLK-KKY-F: VK Valašské Meziříčí-VK Napajedla A
END:VEVENT
BEGIN:VEVENT
UID:30393933-3363-4136-b032-643631616266
DTSTAMP:20260423T005412Z
DESCRIPTION:4/7 VK Valašské Meziříčí - VC Kroměříž  C 0:2 (-23\,-18)
DTSTART;TZID=Europe/Berlin:20220409T120000
DTEND;TZID=Europe/Berlin:20220409T140000
LOCATION:ZŠ Šafaříkova\, Šafaříkova 726 Valašské Meziříčí
SUMMARY:PZLK-KKY-F: VK Valašské Meziříčí-VC Kroměříž  C
END:VEVENT
BEGIN:VEVENT
UID:33336236-6435-4933-a165-306633396165
DTSTAMP:20260423T005412Z
DESCRIPTION:3/5 VK AUSTIN Vsetín B - VK Valašské Meziříčí 0:2 (-18\,-23)
DTSTART;TZID=Europe/Berlin:20220409T110000
DTEND;TZID=Europe/Berlin:20220409T130000
LOCATION:Sportovní hala Na Lapači\, Na Lapači 247 Vsetín - Rokytnice
SUMMARY:PZLK-KKY-F: VK AUSTIN Vsetín B-VK Valašské Meziříčí
END:VEVENT
BEGIN:VEVENT
UID:33623462-6161-4331-b235-613263303934
DTSTAMP:20260423T005412Z
DESCRIPTION:5/10 VC Kroměříž  B - VK Valašské Meziříčí 0:2 (-24\,-11)
DTSTART;TZID=Europe/Berlin:20220409T130000
DTEND;TZID=Europe/Berlin:20220409T150000
LOCATION:ZŠ Zachar\, Albertova 4062 Kroměříž
SUMMARY:PZLK-KKY-F: VC Kroměříž  B-VK Valašské Meziříčí
END:VEVENT
END:VCALENDAR
