BEGIN:VCALENDAR
VERSION:2.0
PRODID:-//TJ Slovácká Slavia Uherské Hradiště, z.s.,B75818//NONSGML kigkonsult.se iCalcreator 2.41.80//
CALSCALE:GREGORIAN
UID:35393638-6535-4562-b132-363333383065
BEGIN:VEVENT
UID:66356634-6235-4663-a634-653731636461
DTSTAMP:20260422T070122Z
DESCRIPTION:3/12 TJ Slovácká Slavia UH B - VK Valašské Meziříčí 0:3 (-10\,-
 10\,-8)
DTSTART;TZID=Europe/Berlin:20211009T110000
DTEND;TZID=Europe/Berlin:20211009T130000
LOCATION:Tělocvična ZŠ Jarošov\, Pivovarská 359 Uherské Hradiště - Jarošov
SUMMARY:ZLK-KKY: TJ Slovácká Slavia UH B-VK Valašské Meziříčí
END:VEVENT
BEGIN:VEVENT
UID:38653264-3065-4766-b962-613832663631
DTSTAMP:20260422T070122Z
DESCRIPTION:4/17 TJ Slovácká Slavia UH B - VK Valašské Meziříčí 0:3 (-10\,-
 6\,-8)
DTSTART;TZID=Europe/Berlin:20211009T140000
DTEND;TZID=Europe/Berlin:20211009T160000
LOCATION:Tělocvična ZŠ Jarošov\, Pivovarská 359 Uherské Hradiště - Jarošov
SUMMARY:ZLK-KKY: TJ Slovácká Slavia UH B-VK Valašské Meziříčí
END:VEVENT
BEGIN:VEVENT
UID:39333263-3063-4666-a331-323234636538
DTSTAMP:20260422T070122Z
DESCRIPTION:13/64 TJ Slovácká Slavia UH B - Vsetín 0:3 (-10\,-5\,-9)
DTSTART;TZID=Europe/Berlin:20211120T100000
DTEND;TZID=Europe/Berlin:20211120T120000
LOCATION:Tělocvična ZŠ Jarošov\, Pivovarská 359 Uherské Hradiště - Jarošov
SUMMARY:ZLK-KKY: TJ Slovácká Slavia UH B-Vsetín
END:VEVENT
BEGIN:VEVENT
UID:62303466-3034-4963-a138-633939616238
DTSTAMP:20260422T070122Z
DESCRIPTION:14/69 TJ Slovácká Slavia UH B - Vsetín 0:3 (-15\,-10\,-3)
DTSTART;TZID=Europe/Berlin:20211120T130000
DTEND;TZID=Europe/Berlin:20211120T150000
LOCATION:Tělocvična ZŠ Jarošov\, Pivovarská 359 Uherské Hradiště - Jarošov
SUMMARY:ZLK-KKY: TJ Slovácká Slavia UH B-Vsetín
END:VEVENT
BEGIN:VEVENT
UID:37616336-3831-4133-b139-326237356264
DTSTAMP:20260422T070122Z
DESCRIPTION:17/83 TJ Slovácká Slavia UH B - VK Napajedla A 0:3 (-18\,-5\,-1
 0)
DTSTART;TZID=Europe/Berlin:20211204T100000
DTEND;TZID=Europe/Berlin:20211204T120000
LOCATION:Městská sportovní hala\, Stonky 860 Uherské Hradiště
SUMMARY:ZLK-KKY: TJ Slovácká Slavia UH B-VK Napajedla A
END:VEVENT
BEGIN:VEVENT
UID:33626330-6464-4331-b037-626530376338
DTSTAMP:20260422T070122Z
DESCRIPTION:18/88 TJ Slovácká Slavia UH B - VK Napajedla A 0:3 (-10\,-12\,-
 9)
DTSTART;TZID=Europe/Berlin:20211204T130000
DTEND;TZID=Europe/Berlin:20211204T150000
LOCATION:Městská sportovní hala\, Stonky 860 Uherské Hradiště
SUMMARY:ZLK-KKY: TJ Slovácká Slavia UH B-VK Napajedla A
END:VEVENT
BEGIN:VEVENT
UID:61333433-3037-4831-b933-326537376331
DTSTAMP:20260422T070122Z
DESCRIPTION:23/115 TJ Slovácká Slavia UH B - TJ Bojkovice 1:3 (11\,-19\,-22
 \,-18)\nZŠ Jarošov
DTSTART;TZID=Europe/Berlin:20220423T100000
DTEND;TZID=Europe/Berlin:20220423T120000
LOCATION:Městská sportovní hala\, Stonky 860 Uherské Hradiště
SUMMARY:ZLK-KKY: TJ Slovácká Slavia UH B-TJ Bojkovice
END:VEVENT
BEGIN:VEVENT
UID:63356165-3839-4631-b064-623561303933
DTSTAMP:20260422T070122Z
DESCRIPTION:24/120 TJ Slovácká Slavia UH B - TJ Bojkovice 1:3 (23\,-17\,-23
 \,-13)\nTělocvična ZŠ Jarošov
DTSTART;TZID=Europe/Berlin:20220423T130000
DTEND;TZID=Europe/Berlin:20220423T150000
LOCATION:Městská sportovní hala\, Stonky 860 Uherské Hradiště
SUMMARY:ZLK-KKY: TJ Slovácká Slavia UH B-TJ Bojkovice
END:VEVENT
BEGIN:VEVENT
UID:37383438-3039-4762-a365-326136626238
DTSTAMP:20260422T070122Z
DESCRIPTION:25/121 TJ Slovácká Slavia UH B - SK Slavičín 3:2 (24\,-22\,28\,
 -18\,8)\nTělocvična ZŠ Jarošov
DTSTART;TZID=Europe/Berlin:20220320T090000
DTEND;TZID=Europe/Berlin:20220320T110000
LOCATION:Tělocvična ZŠ Jarošov\, Pivovarská 359 Uherské Hradiště - Jarošov
SUMMARY:ZLK-KKY: TJ Slovácká Slavia UH B-SK Slavičín
END:VEVENT
BEGIN:VEVENT
UID:63643430-3932-4437-b264-316534663335
DTSTAMP:20260422T070122Z
DESCRIPTION:26/126 TJ Slovácká Slavia UH B - SK Slavičín 1:3 (23\,-25\,-20\
 ,-14)\nTělocvična ZŠ Jarošov
DTSTART;TZID=Europe/Berlin:20220320T120000
DTEND;TZID=Europe/Berlin:20220320T140000
LOCATION:Tělocvična ZŠ Jarošov\, Pivovarská 359 Uherské Hradiště - Jarošov
SUMMARY:ZLK-KKY: TJ Slovácká Slavia UH B-SK Slavičín
END:VEVENT
BEGIN:VEVENT
UID:65396431-3165-4232-a437-383037633566
DTSTAMP:20260422T070122Z
DESCRIPTION:27/135 TJ Slovácká Slavia UH B - VC Kroměříž  B 1:3 (21\,-9\,-1
 5\,-15)
DTSTART;TZID=Europe/Berlin:20220228T170000
DTEND;TZID=Europe/Berlin:20220228T190000
LOCATION:Tělocvična ZŠ Jarošov\, Pivovarská 359 Uherské Hradiště - Jarošov
SUMMARY:ZLK-KKY: TJ Slovácká Slavia UH B-VC Kroměříž  B
END:VEVENT
BEGIN:VEVENT
UID:34356333-3834-4666-a638-366437613432
DTSTAMP:20260422T070122Z
DESCRIPTION:28/140 TJ Slovácká Slavia UH B - VC Kroměříž  B 1:3 (-12\,-17\,
 21\,-9)
DTSTART;TZID=Europe/Berlin:20220228T190000
DTEND;TZID=Europe/Berlin:20220228T210000
LOCATION:Tělocvična ZŠ Jarošov\, Pivovarská 359 Uherské Hradiště - Jarošov
SUMMARY:ZLK-KKY: TJ Slovácká Slavia UH B-VC Kroměříž  B
END:VEVENT
BEGIN:VEVENT
UID:33663236-3031-4035-b563-326439333931
DTSTAMP:20260422T070122Z
DESCRIPTION:29/142 TJ Slovácká Slavia UH B - VC Kroměříž  C 0:3 (-1\,-13\,-
 13)
DTSTART;TZID=Europe/Berlin:20220226T100000
DTEND;TZID=Europe/Berlin:20220226T120000
LOCATION:Tělocvična ZŠ Jarošov\, Pivovarská 359 Uherské Hradiště - Jarošov
SUMMARY:ZLK-KKY: TJ Slovácká Slavia UH B-VC Kroměříž  C
END:VEVENT
BEGIN:VEVENT
UID:30376462-6336-4764-a131-613737636438
DTSTAMP:20260422T070122Z
DESCRIPTION:30/147 TJ Slovácká Slavia UH B - VC Kroměříž  C 0:3 (-9\,-17\,-
 9)
DTSTART;TZID=Europe/Berlin:20220226T130000
DTEND;TZID=Europe/Berlin:20220226T150000
LOCATION:Tělocvična ZŠ Jarošov\, Pivovarská 359 Uherské Hradiště - Jarošov
SUMMARY:ZLK-KKY: TJ Slovácká Slavia UH B-VC Kroměříž  C
END:VEVENT
BEGIN:VEVENT
UID:66353465-6334-4633-b531-313938343331
DTSTAMP:20260422T070122Z
DESCRIPTION:33/163 TJ Slovácká Slavia UH B - VK AUSTIN Vsetín B 0:3 (-14\,-
 14\,-10)
DTSTART;TZID=Europe/Berlin:20220312T100000
DTEND;TZID=Europe/Berlin:20220312T120000
LOCATION:Městská sportovní hala\, Stonky 860 Uherské Hradiště
SUMMARY:ZLK-KKY: TJ Slovácká Slavia UH B-VK AUSTIN Vsetín B
END:VEVENT
BEGIN:VEVENT
UID:63623039-3565-4430-a664-396534323931
DTSTAMP:20260422T070122Z
DESCRIPTION:34/168 TJ Slovácká Slavia UH B - VK AUSTIN Vsetín B 0:3 (-13\,-
 15\,-10)
DTSTART;TZID=Europe/Berlin:20220312T130000
DTEND;TZID=Europe/Berlin:20220312T150000
LOCATION:Městská sportovní hala\, Stonky 860 Uherské Hradiště
SUMMARY:ZLK-KKY: TJ Slovácká Slavia UH B-VK AUSTIN Vsetín B
END:VEVENT
BEGIN:VEVENT
UID:65663363-6439-4035-a262-613732306136
DTSTAMP:20260422T070122Z
DESCRIPTION:5/25 TJ Bojkovice - TJ Slovácká Slavia UH B 3:0 (8\,4\,15)
DTSTART;TZID=Europe/Berlin:20211016T090000
DTEND;TZID=Europe/Berlin:20211016T110000
LOCATION:ZŠ TGM Bojkovice\, Štefánikova 460 Bojkovice
SUMMARY:ZLK-KKY: TJ Bojkovice-TJ Slovácká Slavia UH B
END:VEVENT
BEGIN:VEVENT
UID:34666662-6536-4235-a262-323262396136
DTSTAMP:20260422T070122Z
DESCRIPTION:6/30 TJ Bojkovice - TJ Slovácká Slavia UH B 3:0 (19\,15\,12)
DTSTART;TZID=Europe/Berlin:20211016T120000
DTEND;TZID=Europe/Berlin:20211016T140000
LOCATION:ZŠ TGM Bojkovice\, Štefánikova 460 Bojkovice
SUMMARY:ZLK-KKY: TJ Bojkovice-TJ Slovácká Slavia UH B
END:VEVENT
BEGIN:VEVENT
UID:36636333-3038-4264-a430-343539353138
DTSTAMP:20260422T070122Z
DESCRIPTION:7/31 SK Slavičín - TJ Slovácká Slavia UH B 3:0 (16\,20\,18)
DTSTART;TZID=Europe/Berlin:20211212T100000
DTEND;TZID=Europe/Berlin:20211212T120000
LOCATION:Sportovní hala Slavičín\, Školní 29 Slavičín
SUMMARY:ZLK-KKY: SK Slavičín-TJ Slovácká Slavia UH B
END:VEVENT
BEGIN:VEVENT
UID:38313865-3365-4361-b035-383235313632
DTSTAMP:20260422T070122Z
DESCRIPTION:8/36 SK Slavičín - TJ Slovácká Slavia UH B 3:1 (21\,-16\,18\,27
 )
DTSTART;TZID=Europe/Berlin:20211212T130000
DTEND;TZID=Europe/Berlin:20211212T150000
LOCATION:Sportovní hala Slavičín\, Školní 29 Slavičín
SUMMARY:ZLK-KKY: SK Slavičín-TJ Slovácká Slavia UH B
END:VEVENT
BEGIN:VEVENT
UID:38336336-6134-4136-a139-623336623431
DTSTAMP:20260422T070122Z
DESCRIPTION:9/45 VC Kroměříž  B - TJ Slovácká Slavia UH B 3:1 (21\,20\,-21\
 ,22)
DTSTART;TZID=Europe/Berlin:20211107T090000
DTEND;TZID=Europe/Berlin:20211107T110000
LOCATION:ZŠ Zachar\, Albertova 4062 Kroměříž
SUMMARY:ZLK-KKY: VC Kroměříž  B-TJ Slovácká Slavia UH B
END:VEVENT
BEGIN:VEVENT
UID:62633736-6330-4563-b664-653434353336
DTSTAMP:20260422T070122Z
DESCRIPTION:10/50 VC Kroměříž  B - TJ Slovácká Slavia UH B 3:1 (-23\,12\,16
 \,13)
DTSTART;TZID=Europe/Berlin:20211107T120000
DTEND;TZID=Europe/Berlin:20211107T140000
LOCATION:ZŠ Zachar\, Albertova 4062 Kroměříž
SUMMARY:ZLK-KKY: VC Kroměříž  B-TJ Slovácká Slavia UH B
END:VEVENT
BEGIN:VEVENT
UID:64656664-3966-4563-b661-636364373765
DTSTAMP:20260422T070122Z
DESCRIPTION:11/52 VC Kroměříž  C - TJ Slovácká Slavia UH B 3:0 (22\,18\,13)
DTSTART;TZID=Europe/Berlin:20211214T160000
DTEND;TZID=Europe/Berlin:20211214T180000
LOCATION:ZŠ Zachar\, Albertova 4062 Kroměříž
SUMMARY:ZLK-KKY: VC Kroměříž  C-TJ Slovácká Slavia UH B
END:VEVENT
BEGIN:VEVENT
UID:65636231-3533-4065-b637-346537656132
DTSTAMP:20260422T070122Z
DESCRIPTION:12/57 VC Kroměříž  C - TJ Slovácká Slavia UH B 3:0 (19\,20\,9)
DTSTART;TZID=Europe/Berlin:20211214T180000
DTEND;TZID=Europe/Berlin:20211214T200000
LOCATION:ZŠ Zachar\, Albertova 4062 Kroměříž
SUMMARY:ZLK-KKY: VC Kroměříž  C-TJ Slovácká Slavia UH B
END:VEVENT
BEGIN:VEVENT
UID:63346266-3535-4362-b965-633865623639
DTSTAMP:20260422T070122Z
DESCRIPTION:15/73 VK AUSTIN Vsetín B - TJ Slovácká Slavia UH B 3:0 (0\,0\,0
 )
DTSTART;TZID=Europe/Berlin:20211128T090000
DTEND;TZID=Europe/Berlin:20211128T110000
LOCATION:Sportovní hala Na Lapači\, Na Lapači 247 Vsetín - Rokytnice
SUMMARY:ZLK-KKY: VK AUSTIN Vsetín B-TJ Slovácká Slavia UH B
END:VEVENT
BEGIN:VEVENT
UID:63393863-6534-4634-b063-363464313663
DTSTAMP:20260422T070122Z
DESCRIPTION:16/78 VK AUSTIN Vsetín B - TJ Slovácká Slavia UH B 3:0 (0\,0\,0
 )
DTSTART;TZID=Europe/Berlin:20211128T120000
DTEND;TZID=Europe/Berlin:20211128T140000
LOCATION:Sportovní hala Na Lapači\, Na Lapači 247 Vsetín - Rokytnice
SUMMARY:ZLK-KKY: VK AUSTIN Vsetín B-TJ Slovácká Slavia UH B
END:VEVENT
BEGIN:VEVENT
UID:35346637-6435-4130-b034-613562343131
DTSTAMP:20260422T070122Z
DESCRIPTION:21/102 VK Valašské Meziříčí - TJ Slovácká Slavia UH B 3:0 (4\,2
 3\,11)
DTSTART;TZID=Europe/Berlin:20220115T090000
DTEND;TZID=Europe/Berlin:20220115T110000
LOCATION:ZŠ Šafaříkova\, Šafaříkova 726 Valašské Meziříčí
SUMMARY:ZLK-KKY: VK Valašské Meziříčí-TJ Slovácká Slavia UH B
END:VEVENT
BEGIN:VEVENT
UID:31643037-6464-4136-b762-663864343030
DTSTAMP:20260422T070122Z
DESCRIPTION:22/107 VK Valašské Meziříčí - TJ Slovácká Slavia UH B 3:0 (10\,
 17\,18)
DTSTART;TZID=Europe/Berlin:20220115T130000
DTEND;TZID=Europe/Berlin:20220115T150000
LOCATION:ZŠ Šafaříkova\, Šafaříkova 726 Valašské Meziříčí
SUMMARY:ZLK-KKY: VK Valašské Meziříčí-TJ Slovácká Slavia UH B
END:VEVENT
BEGIN:VEVENT
UID:33643431-6434-4165-b434-643637616435
DTSTAMP:20260422T070122Z
DESCRIPTION:31/154 Vsetín - TJ Slovácká Slavia UH B 3:0 (7\,11\,13)
DTSTART;TZID=Europe/Berlin:20220305T090000
DTEND;TZID=Europe/Berlin:20220305T110000
LOCATION:Sportovní hala Na Lapači\, Na Lapači 247 Vsetín - Rokytnice
SUMMARY:ZLK-KKY: Vsetín-TJ Slovácká Slavia UH B
END:VEVENT
BEGIN:VEVENT
UID:34613436-3431-4834-a332-353133363632
DTSTAMP:20260422T070122Z
DESCRIPTION:32/159 Vsetín - TJ Slovácká Slavia UH B 3:0 (8\,4\,11)
DTSTART;TZID=Europe/Berlin:20220305T120000
DTEND;TZID=Europe/Berlin:20220305T140000
LOCATION:Sportovní hala Na Lapači\, Na Lapači 247 Vsetín - Rokytnice
SUMMARY:ZLK-KKY: Vsetín-TJ Slovácká Slavia UH B
END:VEVENT
BEGIN:VEVENT
UID:64613837-3233-4166-b133-343066656635
DTSTAMP:20260422T070122Z
DESCRIPTION:35/173 VK Napajedla A - TJ Slovácká Slavia UH B 3:0 (19\,16\,18
 )
DTSTART;TZID=Europe/Berlin:20220319T100000
DTEND;TZID=Europe/Berlin:20220319T120000
LOCATION:2.ZŠ Napajedla\, Komenského 298 Napajedla
SUMMARY:ZLK-KKY: VK Napajedla A-TJ Slovácká Slavia UH B
END:VEVENT
BEGIN:VEVENT
UID:30636363-6334-4733-b434-303730663033
DTSTAMP:20260422T070122Z
DESCRIPTION:36/178 VK Napajedla A - TJ Slovácká Slavia UH B 3:0 (22\,15\,13
 )
DTSTART;TZID=Europe/Berlin:20220319T130000
DTEND;TZID=Europe/Berlin:20220319T150000
LOCATION:2.ZŠ Napajedla\, Komenského 298 Napajedla
SUMMARY:ZLK-KKY: VK Napajedla A-TJ Slovácká Slavia UH B
END:VEVENT
BEGIN:VEVENT
UID:61666331-6538-4134-a563-646535636630
DTSTAMP:20260422T070122Z
DESCRIPTION:3/8 TJ Slovácká Slavia UH B - VK Napajedla A 0:2 (-15\,-22)
DTSTART;TZID=Europe/Berlin:20210911T120000
DTEND;TZID=Europe/Berlin:20210911T140000
LOCATION:Městská sportovní hala\, Stonky 860 Uherské Hradiště
SUMMARY:PZLK-KKY-B: TJ Slovácká Slavia UH B-VK Napajedla A
END:VEVENT
BEGIN:VEVENT
UID:66373661-3031-4165-a634-626534333066
DTSTAMP:20260422T070122Z
DESCRIPTION:1/2 VK Napajedla B - TJ Slovácká Slavia UH B
DTSTART;TZID=Europe/Berlin:20210911T090000
DTEND;TZID=Europe/Berlin:20210911T110000
LOCATION:2.ZŠ Napajedla\, Komenského 298 Napajedla
SUMMARY:PZLK-KKY-B: VK Napajedla B-TJ Slovácká Slavia UH B
END:VEVENT
BEGIN:VEVENT
UID:61383263-6631-4135-b165-363865313636
DTSTAMP:20260422T070122Z
DESCRIPTION:2/4 VC Kroměříž  C - TJ Slovácká Slavia UH B 2:0 (18\,12)
DTSTART;TZID=Europe/Berlin:20210911T103000
DTEND;TZID=Europe/Berlin:20210911T123000
LOCATION:ZŠ Slovan\, Zeyerova 3354 Kroměříž
SUMMARY:PZLK-KKY-B: VC Kroměříž  C-TJ Slovácká Slavia UH B
END:VEVENT
END:VCALENDAR
