BEGIN:VCALENDAR
VERSION:2.0
PRODID:-//Tělovýchovná jednota SLAVIA Liberec, z.s. "B"75848//NONSGML kigkonsult.se iCalcreator 2.41.80//
CALSCALE:GREGORIAN
UID:62626639-6435-4664-a161-323037623431
BEGIN:VEVENT
UID:65386466-6563-4161-a237-306461366531
DTSTAMP:20260422T033936Z
DESCRIPTION:1/1 Tělovýchovná jednota SLAVIA Liberec\, z.s. 'B' - Tělovýchov
 ná jednota Bižuterie\, z.s. 3:0 (0\,0\,0)\nSportovní hala BIOS\, Sokolovsk
 á 254\, Mnichovo Hradiště
DTSTART;TZID=Europe/Berlin:20211017T090000
DTEND;TZID=Europe/Berlin:20211017T110000
LOCATION:Základní škola\, Liberec\, Sokolovská \, Sokolovská 328 Liberec - 
 Liberec XIII-Nové Pavlovice
SUMMARY:LIB-ZCI-1B: Tělovýchovná jednota SLAVIA Liberec\, z.s. 'B'-Tělových
 ovná jednota Bižuterie\, z.s.
END:VEVENT
BEGIN:VEVENT
UID:33383761-3963-4236-b932-353432376361
DTSTAMP:20260422T033936Z
DESCRIPTION:1/3 Tělovýchovná jednota SLAVIA Liberec\, z.s. 'B' - Tělovýchov
 ná jednota Jiskra Nový Bor\, z.s. 1:3 (19\,-13\,-16\,-17)\nSportovní hala 
 BIOS\, Sokolovská 254\, Mnichovo Hradiště
DTSTART;TZID=Europe/Berlin:20211017T130000
DTEND;TZID=Europe/Berlin:20211017T150000
LOCATION:Základní škola\, Liberec\, Sokolovská \, Sokolovská 328 Liberec - 
 Liberec XIII-Nové Pavlovice
SUMMARY:LIB-ZCI-1B: Tělovýchovná jednota SLAVIA Liberec\, z.s. 'B'-Tělových
 ovná jednota Jiskra Nový Bor\, z.s.
END:VEVENT
BEGIN:VEVENT
UID:39356462-3764-4936-b532-336234616666
DTSTAMP:20260422T033936Z
DESCRIPTION:1/2 Tělovýchovná jednota SLAVIA Liberec\, z.s. 'B' - Tělovýchov
 ná jednota Bižuterie\, z.s. 3:0 (11\,15\,22)\nZŠ LADA\, Šluknovská 2904 Če
 ská Lípa
DTSTART;TZID=Europe/Berlin:20211128T110000
DTEND;TZID=Europe/Berlin:20211128T130000
LOCATION:Základní škola\, Liberec\, Sokolovská \, Sokolovská 328 Liberec - 
 Liberec XIII-Nové Pavlovice
SUMMARY:LIB-ZCI-2B: Tělovýchovná jednota SLAVIA Liberec\, z.s. 'B'-Tělových
 ovná jednota Bižuterie\, z.s.
END:VEVENT
BEGIN:VEVENT
UID:36316231-3530-4235-b934-636436653337
DTSTAMP:20260422T033936Z
DESCRIPTION:1/3 Tělovýchovná jednota SLAVIA Liberec\, z.s. 'A' - Tělovýchov
 ná jednota SLAVIA Liberec\, z.s. 'B' 3:0 (9\,21\,9)\nZŠ LADA\, Šluknovská 
 2904 Česká Lípa
DTSTART;TZID=Europe/Berlin:20211128T130000
DTEND;TZID=Europe/Berlin:20211128T150000
LOCATION:Základní škola\, Liberec\, Sokolovská \, Sokolovská 328 Liberec - 
 Liberec XIII-Nové Pavlovice
SUMMARY:LIB-ZCI-2B: Tělovýchovná jednota SLAVIA Liberec\, z.s. 'A'-Tělových
 ovná jednota SLAVIA Liberec\, z.s. 'B'
END:VEVENT
BEGIN:VEVENT
UID:37396237-3633-4937-a638-646463333265
DTSTAMP:20260422T033936Z
DESCRIPTION:1/2 Tělovýchovná jednota SLAVIA Liberec\, z.s. 'B' - Tělovýchov
 ná jednota Bižuterie\, z.s. 3:0 (10\,10\,10)\nZŠ Liberec\, Sokolovská 328
DTSTART;TZID=Europe/Berlin:20211219T110000
DTEND;TZID=Europe/Berlin:20211219T130000
LOCATION:Základní škola\, Liberec\, Sokolovská \, Sokolovská 328 Liberec - 
 Liberec XIII-Nové Pavlovice
SUMMARY:LIB-ZCI-3B: Tělovýchovná jednota SLAVIA Liberec\, z.s. 'B'-Tělových
 ovná jednota Bižuterie\, z.s.
END:VEVENT
BEGIN:VEVENT
UID:32363032-6663-4438-b965-333864326563
DTSTAMP:20260422T033936Z
DESCRIPTION:1/3 Tělovýchovná jednota Jiskra Nový Bor\, z.s. - Tělovýchovná 
 jednota SLAVIA Liberec\, z.s. 'B' 0:3 (-10\,-10\,-10)\nZŠ Liberec\, Sokolo
 vská 328
DTSTART;TZID=Europe/Berlin:20211219T130000
DTEND;TZID=Europe/Berlin:20211219T150000
LOCATION:Sportovní hala Františka Arnošta Nový Bor\, U hřiště 1391 Nový Bor
SUMMARY:LIB-ZCI-3B: Tělovýchovná jednota Jiskra Nový Bor\, z.s.-Tělovýchovn
 á jednota SLAVIA Liberec\, z.s. 'B'
END:VEVENT
BEGIN:VEVENT
UID:34313635-3830-4136-b732-343134356433
DTSTAMP:20260422T033936Z
DESCRIPTION:1/1 Tělovýchovná jednota SLAVIA Liberec\, z.s. 'B' - Česká Lípa
  0:2 (-9\,-13)\nZŠ Liberec\, Sokolovská 328
DTSTART;TZID=Europe/Berlin:20220109T090000
DTEND;TZID=Europe/Berlin:20220109T110000
LOCATION:Základní škola\, Liberec\, Sokolovská \, Sokolovská 328 Liberec - 
 Liberec XIII-Nové Pavlovice
SUMMARY:LIB-ZCI-4A: Tělovýchovná jednota SLAVIA Liberec\, z.s. 'B'-Česká Lí
 pa
END:VEVENT
BEGIN:VEVENT
UID:65393635-3964-4161-b837-363735323933
DTSTAMP:20260422T033936Z
DESCRIPTION:1/3 Mnichovo Hradiště - Tělovýchovná jednota SLAVIA Liberec\, z
 .s. 'B' 2:0 (18\,22)\nZŠ Liberec\, Sokolovská 328
DTSTART;TZID=Europe/Berlin:20220109T103000
DTEND;TZID=Europe/Berlin:20220109T123000
LOCATION:Sportovní hala BIOS\, Sokolovská 254 Mnichovo Hradiště
SUMMARY:LIB-ZCI-4A: Mnichovo Hradiště-Tělovýchovná jednota SLAVIA Liberec\,
  z.s. 'B'
END:VEVENT
BEGIN:VEVENT
UID:30333330-6537-4430-b237-386663323664
DTSTAMP:20260422T033936Z
DESCRIPTION:1/6 Tělovýchovná jednota SLAVIA Liberec\, z.s. 'A' - Tělovýchov
 ná jednota SLAVIA Liberec\, z.s. 'B' 2:0 (9\,7)\nZŠ Liberec\, Sokolovská 3
 28
DTSTART;TZID=Europe/Berlin:20220109T124500
DTEND;TZID=Europe/Berlin:20220109T144500
LOCATION:Základní škola\, Liberec\, Sokolovská \, Sokolovská 328 Liberec - 
 Liberec XIII-Nové Pavlovice
SUMMARY:LIB-ZCI-4A: Tělovýchovná jednota SLAVIA Liberec\, z.s. 'A'-Tělových
 ovná jednota SLAVIA Liberec\, z.s. 'B'
END:VEVENT
BEGIN:VEVENT
UID:37386539-3566-4139-a661-333365303035
DTSTAMP:20260422T033936Z
DESCRIPTION:1/1 Tělovýchovná jednota SLAVIA Liberec\, z.s. 'B' - Tělovýchov
 ná jednota Jiskra Nový Bor\, z.s. 3:2 (9\,-14\,19\,-23\,9)\nZŠ Liberec\, S
 okolovská 328
DTSTART;TZID=Europe/Berlin:20220306T090000
DTEND;TZID=Europe/Berlin:20220306T110000
LOCATION:Základní škola\, Liberec\, Sokolovská \, Sokolovská 328 Liberec - 
 Liberec XIII-Nové Pavlovice
SUMMARY:LIB-ZCI-5B: Tělovýchovná jednota SLAVIA Liberec\, z.s. 'B'-Tělových
 ovná jednota Jiskra Nový Bor\, z.s.
END:VEVENT
BEGIN:VEVENT
UID:64653866-3237-4664-b662-663563303164
DTSTAMP:20260422T033936Z
DESCRIPTION:1/3 Tělovýchovná jednota SLAVIA Liberec\, z.s. 'B' - Tělovýchov
 ná jednota Bižuterie\, z.s. 3:0 (0\,0\,0)\nZŠ Liberec\, Sokolovská 328
DTSTART;TZID=Europe/Berlin:20220306T120000
DTEND;TZID=Europe/Berlin:20220306T140000
LOCATION:Základní škola\, Liberec\, Sokolovská \, Sokolovská 328 Liberec - 
 Liberec XIII-Nové Pavlovice
SUMMARY:LIB-ZCI-5B: Tělovýchovná jednota SLAVIA Liberec\, z.s. 'B'-Tělových
 ovná jednota Bižuterie\, z.s.
END:VEVENT
END:VCALENDAR
