BEGIN:VCALENDAR
VERSION:2.0
PRODID:-//Komunitní škola Traplice, z.s.75849//NONSGML kigkonsult.se iCalcreator 2.41.80//
CALSCALE:GREGORIAN
UID:35626236-3436-4235-b830-333966363663
BEGIN:VEVENT
UID:65363662-3839-4539-a662-616132343036
DTSTAMP:20260422T033930Z
DESCRIPTION:2/6 KŠ Traplice - TJ Uherský Brod 0:2 (-0\,-0)
DTSTART;TZID=Europe/Berlin:20210912T100000
DTEND;TZID=Europe/Berlin:20210912T120000
LOCATION:Tělocvična\,  Traplice375
SUMMARY:PZLK-ZKY-A: KŠ Traplice-TJ Uherský Brod
END:VEVENT
BEGIN:VEVENT
UID:31383638-3266-4435-a661-663561316361
DTSTAMP:20260422T033930Z
DESCRIPTION:4/11 KŠ Traplice - Nivnice 0:2 (-0\,-0)
DTSTART;TZID=Europe/Berlin:20210912T120000
DTEND;TZID=Europe/Berlin:20210912T140000
LOCATION:Tělocvična\,  Traplice375
SUMMARY:PZLK-ZKY-A: KŠ Traplice-Nivnice
END:VEVENT
BEGIN:VEVENT
UID:37663931-6631-4038-b138-643637616565
DTSTAMP:20260422T033930Z
DESCRIPTION:5/13 KŠ Traplice - VK AUSTIN Vsetín 0:2 (-0\,-0)
DTSTART;TZID=Europe/Berlin:20210912T130000
DTEND;TZID=Europe/Berlin:20210912T150000
LOCATION:Tělocvična\,  Traplice375
SUMMARY:PZLK-ZKY-A: KŠ Traplice-VK AUSTIN Vsetín
END:VEVENT
BEGIN:VEVENT
UID:32386463-6536-4133-b835-663563363238
DTSTAMP:20260422T033930Z
DESCRIPTION:1/2 Slavia UH - KŠ Traplice 2:0 (0\,0)
DTSTART;TZID=Europe/Berlin:20210912T090000
DTEND;TZID=Europe/Berlin:20210912T110000
LOCATION:Městská sportovní hala\, Stonky 860 Uherské Hradiště
SUMMARY:PZLK-ZKY-A: Slavia UH-KŠ Traplice
END:VEVENT
BEGIN:VEVENT
UID:39613332-3161-4335-a632-373735643065
DTSTAMP:20260422T033930Z
DESCRIPTION:3/9 VK NAPAJEDLA - KŠ Traplice 2:0 (0\,0)
DTSTART;TZID=Europe/Berlin:20210912T110000
DTEND;TZID=Europe/Berlin:20210912T130000
LOCATION:2.ZŠ Napajedla\, Komenského 298 Napajedla
SUMMARY:PZLK-ZKY-A: VK NAPAJEDLA-KŠ Traplice
END:VEVENT
END:VCALENDAR
