BEGIN:VCALENDAR
VERSION:2.0
PRODID:-//SK VOLEJBAL Ústí nad Labem75856//NONSGML kigkonsult.se iCalcreator 2.41.80//
CALSCALE:GREGORIAN
UID:38306464-3366-4936-b939-343266373334
BEGIN:VEVENT
UID:36386335-6566-4932-a530-303839333037
DTSTAMP:20260422T033908Z
DESCRIPTION:1/5 Ústí n. L. - USK Plzeň 0:2 (-19\,-24)
DTSTART;TZID=Europe/Berlin:20210925T083000
DTEND;TZID=Europe/Berlin:20210925T103000
LOCATION:ZŠ Rabasova\, Rabasova 3282 Ústí nad Labem - Severní Terasa
SUMMARY:KV-ZCI: Ústí n. L.-USK Plzeň
END:VEVENT
BEGIN:VEVENT
UID:64396336-6365-4635-b631-396163646166
DTSTAMP:20260422T033908Z
DESCRIPTION:1/7 Ústí n. L. - Karlovarsko 2:0 (17\,16)
DTSTART;TZID=Europe/Berlin:20210925T083000
DTEND;TZID=Europe/Berlin:20210925T103000
LOCATION:ZŠ Rabasova\, Rabasova 3282 Ústí nad Labem - Severní Terasa
SUMMARY:KV-ZCI: Ústí n. L.-Karlovarsko
END:VEVENT
BEGIN:VEVENT
UID:30356534-6262-4364-a665-633039313135
DTSTAMP:20260422T033908Z
DESCRIPTION:1/15 Ústí n. L. - Aš-Klokani 2:0 (21\,16)
DTSTART;TZID=Europe/Berlin:20210925T083000
DTEND;TZID=Europe/Berlin:20210925T103000
LOCATION:ZŠ Rabasova\, Rabasova 3282 Ústí nad Labem - Severní Terasa
SUMMARY:KV-ZCI: Ústí n. L.-Aš-Klokani
END:VEVENT
BEGIN:VEVENT
UID:38323865-3432-4930-a233-306338313761
DTSTAMP:20260422T033908Z
DESCRIPTION:2/20 Ústí n. L. - Volejbalový klub Teplice z.s. 2:0 (21\,25)
DTSTART;TZID=Europe/Berlin:20211023T083000
DTEND;TZID=Europe/Berlin:20211023T103000
LOCATION:ZŠ Rabasova\, Rabasova 3282 Ústí nad Labem - Severní Terasa
SUMMARY:KV-ZCI: Ústí n. L.-Volejbalový klub Teplice z.s.
END:VEVENT
BEGIN:VEVENT
UID:36386162-6238-4761-a636-366436353431
DTSTAMP:20260422T033908Z
DESCRIPTION:2/22 Ústí n. L. - Karlovarsko 2:0 (16\,22)
DTSTART;TZID=Europe/Berlin:20211023T083000
DTEND;TZID=Europe/Berlin:20211023T103000
LOCATION:ZŠ Rabasova\, Rabasova 3282 Ústí nad Labem - Severní Terasa
SUMMARY:KV-ZCI: Ústí n. L.-Karlovarsko
END:VEVENT
BEGIN:VEVENT
UID:35306431-6436-4233-a330-613163663065
DTSTAMP:20260422T033908Z
DESCRIPTION:2/30 Ústí n. L. - Aš-Klokani 2:0 (18\,23)
DTSTART;TZID=Europe/Berlin:20211023T083000
DTEND;TZID=Europe/Berlin:20211023T103000
LOCATION:ZŠ Rabasova\, Rabasova 3282 Ústí nad Labem - Severní Terasa
SUMMARY:KV-ZCI: Ústí n. L.-Aš-Klokani
END:VEVENT
BEGIN:VEVENT
UID:63326365-3966-4038-b132-333066363230
DTSTAMP:20260422T033908Z
DESCRIPTION:4/50 Ústí n. L. - USK Plzeň 2:1 (19\,-14\,9)
DTSTART;TZID=Europe/Berlin:20220109T083000
DTEND;TZID=Europe/Berlin:20220109T103000
LOCATION:ZŠ Rabasova\, Rabasova 3282 Ústí nad Labem - Severní Terasa
SUMMARY:KV-ZCI: Ústí n. L.-USK Plzeň
END:VEVENT
BEGIN:VEVENT
UID:62633465-3939-4362-b333-393530363566
DTSTAMP:20260422T033908Z
DESCRIPTION:4/52 Ústí n. L. - Volejbalový klub Teplice z.s. 2:0 (14\,15)
DTSTART;TZID=Europe/Berlin:20220109T083000
DTEND;TZID=Europe/Berlin:20220109T103000
LOCATION:ZŠ Rabasova\, Rabasova 3282 Ústí nad Labem - Severní Terasa
SUMMARY:KV-ZCI: Ústí n. L.-Volejbalový klub Teplice z.s.
END:VEVENT
BEGIN:VEVENT
UID:39323439-3262-4132-a138-613865336461
DTSTAMP:20260422T033908Z
DESCRIPTION:4/56 Ústí n. L. - Karlovarsko 2:0 (16\,22)
DTSTART;TZID=Europe/Berlin:20220109T083000
DTEND;TZID=Europe/Berlin:20220109T103000
LOCATION:ZŠ Rabasova\, Rabasova 3282 Ústí nad Labem - Severní Terasa
SUMMARY:KV-ZCI: Ústí n. L.-Karlovarsko
END:VEVENT
BEGIN:VEVENT
UID:36353063-3561-4134-b439-386334386362
DTSTAMP:20260422T033908Z
DESCRIPTION:4/60 Ústí n. L. - Aš-Klokani 2:1 (-20\,9\,4)
DTSTART;TZID=Europe/Berlin:20220109T083000
DTEND;TZID=Europe/Berlin:20220109T103000
LOCATION:ZŠ Rabasova\, Rabasova 3282 Ústí nad Labem - Severní Terasa
SUMMARY:KV-ZCI: Ústí n. L.-Aš-Klokani
END:VEVENT
BEGIN:VEVENT
UID:65393861-3264-4638-b033-313931636338
DTSTAMP:20260422T033908Z
DESCRIPTION:5/65 Ústí n. L. - USK Plzeň 2:0 (19\,19)
DTSTART;TZID=Europe/Berlin:20220205T083000
DTEND;TZID=Europe/Berlin:20220205T103000
LOCATION:ZŠ Rabasova\, Rabasova 3282 Ústí nad Labem - Severní Terasa
SUMMARY:KV-ZCI: Ústí n. L.-USK Plzeň
END:VEVENT
BEGIN:VEVENT
UID:62306137-6364-4739-a438-613966306233
DTSTAMP:20260422T033908Z
DESCRIPTION:5/67 Ústí n. L. - Volejbal Sokolov\, z.s. 2:0 (18\,12)
DTSTART;TZID=Europe/Berlin:20220205T083000
DTEND;TZID=Europe/Berlin:20220205T103000
LOCATION:ZŠ Rabasova\, Rabasova 3282 Ústí nad Labem - Severní Terasa
SUMMARY:KV-ZCI: Ústí n. L.-Volejbal Sokolov\, z.s.
END:VEVENT
BEGIN:VEVENT
UID:63636161-3966-4538-b631-613137666633
DTSTAMP:20260422T033908Z
DESCRIPTION:5/75 Ústí n. L. - Aš-Klokani 2:1 (21\,-20\,11)
DTSTART;TZID=Europe/Berlin:20220205T083000
DTEND;TZID=Europe/Berlin:20220205T103000
LOCATION:ZŠ Rabasova\, Rabasova 3282 Ústí nad Labem - Severní Terasa
SUMMARY:KV-ZCI: Ústí n. L.-Aš-Klokani
END:VEVENT
BEGIN:VEVENT
UID:30643934-3565-4363-b937-396361373364
DTSTAMP:20260422T033908Z
DESCRIPTION:6/80 Ústí n. L. - USK Plzeň 2:1 (-25\,21\,13)
DTSTART;TZID=Europe/Berlin:20220305T083000
DTEND;TZID=Europe/Berlin:20220305T103000
LOCATION:ZŠ Rabasova\, Rabasova 3282 Ústí nad Labem - Severní Terasa
SUMMARY:KV-ZCI: Ústí n. L.-USK Plzeň
END:VEVENT
BEGIN:VEVENT
UID:33316637-3935-4562-a564-393666646334
DTSTAMP:20260422T033908Z
DESCRIPTION:6/82 Ústí n. L. - Karlovarsko 2:0 (14\,17)
DTSTART;TZID=Europe/Berlin:20220305T083000
DTEND;TZID=Europe/Berlin:20220305T103000
LOCATION:ZŠ Rabasova\, Rabasova 3282 Ústí nad Labem - Severní Terasa
SUMMARY:KV-ZCI: Ústí n. L.-Karlovarsko
END:VEVENT
BEGIN:VEVENT
UID:65383337-6164-4161-a439-663261633832
DTSTAMP:20260422T033908Z
DESCRIPTION:6/90 Ústí n. L. - Volejbalový klub Teplice z.s. 2:0 (19\,13)
DTSTART;TZID=Europe/Berlin:20220305T083000
DTEND;TZID=Europe/Berlin:20220305T103000
LOCATION:ZŠ Rabasova\, Rabasova 3282 Ústí nad Labem - Severní Terasa
SUMMARY:KV-ZCI: Ústí n. L.-Volejbalový klub Teplice z.s.
END:VEVENT
BEGIN:VEVENT
UID:37666339-6231-4332-b732-393133653762
DTSTAMP:20260422T033908Z
DESCRIPTION:7/95 Ústí n. L. - USK Plzeň 2:1 (23\,-22\,8)
DTSTART;TZID=Europe/Berlin:20220327T083000
DTEND;TZID=Europe/Berlin:20220327T103000
LOCATION:ZŠ Rabasova\, Rabasova 3282 Ústí nad Labem - Severní Terasa
SUMMARY:KV-ZCI: Ústí n. L.-USK Plzeň
END:VEVENT
BEGIN:VEVENT
UID:66633138-6466-4165-b137-363837653531
DTSTAMP:20260422T033908Z
DESCRIPTION:7/97 Ústí n. L. - Karlovarsko 0:2 (-13\,-19)
DTSTART;TZID=Europe/Berlin:20220327T083000
DTEND;TZID=Europe/Berlin:20220327T103000
LOCATION:ZŠ Rabasova\, Rabasova 3282 Ústí nad Labem - Severní Terasa
SUMMARY:KV-ZCI: Ústí n. L.-Karlovarsko
END:VEVENT
BEGIN:VEVENT
UID:63386231-6264-4336-b232-363337333164
DTSTAMP:20260422T033908Z
DESCRIPTION:7/105 Ústí n. L. - Aš-Klokani 2:1 (19\,-22\,7)
DTSTART;TZID=Europe/Berlin:20220327T083000
DTEND;TZID=Europe/Berlin:20220327T103000
LOCATION:ZŠ Rabasova\, Rabasova 3282 Ústí nad Labem - Severní Terasa
SUMMARY:KV-ZCI: Ústí n. L.-Aš-Klokani
END:VEVENT
BEGIN:VEVENT
UID:35306138-3638-4339-b934-353936613233
DTSTAMP:20260422T033908Z
DESCRIPTION:1/4 Jirkov - Ústí n. L. 0:2 (-20\,-23)
DTSTART;TZID=Europe/Berlin:20210925T083000
DTEND;TZID=Europe/Berlin:20210925T103000
LOCATION:Sportovní hala MG a ZŠ Jirkov\, Krušnohorská 1675 Jirkov
SUMMARY:KV-ZCI: Jirkov-Ústí n. L.
END:VEVENT
BEGIN:VEVENT
UID:35616134-3830-4562-b763-626564626435
DTSTAMP:20260422T033908Z
DESCRIPTION:1/11 Volejbal Sokolov\, z.s. - Ústí n. L. 0:2 (-5\,-15)
DTSTART;TZID=Europe/Berlin:20210925T083000
DTEND;TZID=Europe/Berlin:20210925T103000
LOCATION:Jiskra\, Maxima Gorkého 280 Sokolov
SUMMARY:KV-ZCI: Volejbal Sokolov\, z.s.-Ústí n. L.
END:VEVENT
BEGIN:VEVENT
UID:66623535-3938-4361-a164-666438393733
DTSTAMP:20260422T033908Z
DESCRIPTION:2/19 Jirkov - Ústí n. L. 1:2 (24\,-22\,-13)
DTSTART;TZID=Europe/Berlin:20211023T083000
DTEND;TZID=Europe/Berlin:20211023T103000
LOCATION:Sportovní hala MG a ZŠ Jirkov\, Krušnohorská 1675 Jirkov
SUMMARY:KV-ZCI: Jirkov-Ústí n. L.
END:VEVENT
BEGIN:VEVENT
UID:61373262-3131-4838-a533-306634393533
DTSTAMP:20260422T033908Z
DESCRIPTION:2/26 Volejbal Sokolov\, z.s. - Ústí n. L. 0:2 (-19\,-15)
DTSTART;TZID=Europe/Berlin:20211023T083000
DTEND;TZID=Europe/Berlin:20211023T103000
LOCATION:Jiskra\, Maxima Gorkého 280 Sokolov
SUMMARY:KV-ZCI: Volejbal Sokolov\, z.s.-Ústí n. L.
END:VEVENT
BEGIN:VEVENT
UID:39616637-3164-4430-b032-376238353032
DTSTAMP:20260422T033908Z
DESCRIPTION:4/49 Jirkov - Ústí n. L. 2:0 (18\,20)
DTSTART;TZID=Europe/Berlin:20220109T083000
DTEND;TZID=Europe/Berlin:20220109T103000
LOCATION:Sportovní hala MG a ZŠ Jirkov\, Krušnohorská 1675 Jirkov
SUMMARY:KV-ZCI: Jirkov-Ústí n. L.
END:VEVENT
BEGIN:VEVENT
UID:61333734-3531-4537-b530-366433643461
DTSTAMP:20260422T033908Z
DESCRIPTION:5/64 Jirkov - Ústí n. L. 0:2 (-19\,-18)
DTSTART;TZID=Europe/Berlin:20220205T083000
DTEND;TZID=Europe/Berlin:20220205T103000
LOCATION:Sportovní hala MG a ZŠ Jirkov\, Krušnohorská 1675 Jirkov
SUMMARY:KV-ZCI: Jirkov-Ústí n. L.
END:VEVENT
BEGIN:VEVENT
UID:33633830-3566-4038-b130-643730373137
DTSTAMP:20260422T033908Z
DESCRIPTION:5/71 Volejbalový klub Teplice z.s. - Ústí n. L. 0:2 (-0\,-0)
DTSTART;TZID=Europe/Berlin:20220205T083000
DTEND;TZID=Europe/Berlin:20220205T103000
LOCATION:Chlumec Základní škola\, Muchova 228 Chlumec
SUMMARY:KV-ZCI: Volejbalový klub Teplice z.s.-Ústí n. L.
END:VEVENT
BEGIN:VEVENT
UID:35386632-3236-4062-a366-643264363234
DTSTAMP:20260422T033908Z
DESCRIPTION:6/79 Jirkov - Ústí n. L. 1:2 (-22\,20\,-15)
DTSTART;TZID=Europe/Berlin:20220305T083000
DTEND;TZID=Europe/Berlin:20220305T103000
LOCATION:Sportovní hala MG a ZŠ Jirkov\, Krušnohorská 1675 Jirkov
SUMMARY:KV-ZCI: Jirkov-Ústí n. L.
END:VEVENT
BEGIN:VEVENT
UID:61376366-3239-4566-b162-333966653132
DTSTAMP:20260422T033908Z
DESCRIPTION:6/86 Volejbal Sokolov\, z.s. - Ústí n. L. 0:2 (-13\,-13)
DTSTART;TZID=Europe/Berlin:20220305T083000
DTEND;TZID=Europe/Berlin:20220305T103000
LOCATION:Jiskra\, Maxima Gorkého 280 Sokolov
SUMMARY:KV-ZCI: Volejbal Sokolov\, z.s.-Ústí n. L.
END:VEVENT
BEGIN:VEVENT
UID:33636538-6437-4234-b366-373635323164
DTSTAMP:20260422T033908Z
DESCRIPTION:7/94 Volejbalový klub Teplice z.s. - Ústí n. L. 0:2 (-16\,-16)
DTSTART;TZID=Europe/Berlin:20220327T083000
DTEND;TZID=Europe/Berlin:20220327T103000
LOCATION:Chlumec Základní škola\, Muchova 228 Chlumec
SUMMARY:KV-ZCI: Volejbalový klub Teplice z.s.-Ústí n. L.
END:VEVENT
BEGIN:VEVENT
UID:35666465-3431-4635-a334-613932366134
DTSTAMP:20260422T033908Z
DESCRIPTION:7/101 Volejbal Sokolov\, z.s. - Ústí n. L. 0:2 (-22\,-15)
DTSTART;TZID=Europe/Berlin:20220327T083000
DTEND;TZID=Europe/Berlin:20220327T103000
LOCATION:Jiskra\, Maxima Gorkého 280 Sokolov
SUMMARY:KV-ZCI: Volejbal Sokolov\, z.s.-Ústí n. L.
END:VEVENT
BEGIN:VEVENT
UID:33313463-6166-4033-b763-356434623132
DTSTAMP:20260422T033908Z
DESCRIPTION:2/2 Ústí n. L. - České Budějovice B 2:0 (12\,20)
DTSTART;TZID=Europe/Berlin:20211009T123000
DTEND;TZID=Europe/Berlin:20211009T143000
LOCATION:ZŠ Rabasova\, Rabasova 3282 Ústí nad Labem - Severní Terasa
SUMMARY:CP-ZCI-Z1A: Ústí n. L.-České Budějovice B
END:VEVENT
BEGIN:VEVENT
UID:65313130-3533-4465-b063-396263306434
DTSTAMP:20260422T033908Z
DESCRIPTION:5/5 Ústí n. L. - Volejbal Sokolov\, z.s. 2:1 (-24\,23\,5)
DTSTART;TZID=Europe/Berlin:20211009T153000
DTEND;TZID=Europe/Berlin:20211009T173000
LOCATION:ZŠ Rabasova\, Rabasova 3282 Ústí nad Labem - Severní Terasa
SUMMARY:CP-ZCI-Z1A: Ústí n. L.-Volejbal Sokolov\, z.s.
END:VEVENT
BEGIN:VEVENT
UID:61376533-3634-4830-a538-656633366662
DTSTAMP:20260422T033908Z
DESCRIPTION:4/4 Prosek - Ústí n. L. 2:0 (19\,19)
DTSTART;TZID=Europe/Berlin:20211009T143000
DTEND;TZID=Europe/Berlin:20211009T163000
LOCATION:SH SK Prosek Lovosická 559\, Praha 9 Prosek
SUMMARY:CP-ZCI-Z1A: Prosek-Ústí n. L.
END:VEVENT
BEGIN:VEVENT
UID:31303930-6566-4338-b933-346162376362
DTSTAMP:20260422T033908Z
DESCRIPTION:1/1 Ústí n. L. - Odolena Voda 2:0 (15\,17)\n2A-3B
DTSTART;TZID=Europe/Berlin:20211009T173000
DTEND;TZID=Europe/Berlin:20211009T193000
LOCATION:ZŠ Rabasova\, Rabasova 3282 Ústí nad Labem - Severní Terasa
SUMMARY:CP-ZCI-Z1I: Ústí n. L.-Odolena Voda
END:VEVENT
BEGIN:VEVENT
UID:61366265-6137-4134-b065-396463376662
DTSTAMP:20260422T033908Z
DESCRIPTION:2/2 Ústí n. L. - Rychnov n. K. 0:2 (-23\,-8)
DTSTART;TZID=Europe/Berlin:20211010T100000
DTEND;TZID=Europe/Berlin:20211010T120000
LOCATION:ZŠ Rabasova\, Rabasova 3282 Ústí nad Labem - Severní Terasa
SUMMARY:CP-ZCI-Z1J: Ústí n. L.-Rychnov n. K.
END:VEVENT
BEGIN:VEVENT
UID:37653438-6134-4139-b138-363137353561
DTSTAMP:20260422T033908Z
DESCRIPTION:3/3 Příbram - Ústí n. L. 2:0 (14\,24)
DTSTART;TZID=Europe/Berlin:20211010T120000
DTEND;TZID=Europe/Berlin:20211010T140000
LOCATION:Tělocvična ZŠ Balbínova\, Balbínova 328 Příbram - Příbram II
SUMMARY:CP-ZCI-Z1J: Příbram-Ústí n. L.
END:VEVENT
BEGIN:VEVENT
UID:35636562-3262-4436-b263-383133383735
DTSTAMP:20260422T033908Z
DESCRIPTION:1/6 Ústí n. L. - České Budějovice B 1:2 (12\,-23\,-18)\nO 11. m
 ísto
DTSTART;TZID=Europe/Berlin:20211010T130000
DTEND;TZID=Europe/Berlin:20211010T150000
LOCATION:ZŠ Rabasova\, Rabasova 3282 Ústí nad Labem - Severní Terasa
SUMMARY:CP-ZCI-Z1P: Ústí n. L.-České Budějovice B
END:VEVENT
BEGIN:VEVENT
UID:64623365-3939-4361-b863-356564356331
DTSTAMP:20260422T033908Z
DESCRIPTION:3/6 Ústí n. L. - Příbram 2:0 (22\,14)
DTSTART;TZID=Europe/Berlin:20211106T110000
DTEND;TZID=Europe/Berlin:20211106T130000
LOCATION:ZŠ Rabasova\, Rabasova 3282 Ústí nad Labem - Severní Terasa
SUMMARY:CP-ZCI-Z2B: Ústí n. L.-Příbram
END:VEVENT
BEGIN:VEVENT
UID:33356138-3835-4665-b361-343934353064
DTSTAMP:20260422T033908Z
DESCRIPTION:5/9 Ústí n. L. - České Budějovice B 2:1 (-11\,15\,10)
DTSTART;TZID=Europe/Berlin:20211106T133000
DTEND;TZID=Europe/Berlin:20211106T153000
LOCATION:ZŠ Rabasova\, Rabasova 3282 Ústí nad Labem - Severní Terasa
SUMMARY:CP-ZCI-Z2B: Ústí n. L.-České Budějovice B
END:VEVENT
BEGIN:VEVENT
UID:39393936-3966-4664-b236-376661623232
DTSTAMP:20260422T033908Z
DESCRIPTION:10/19 Ústí n. L. - Orion Praha 2:0 (11\,20)
DTSTART;TZID=Europe/Berlin:20211107T100000
DTEND;TZID=Europe/Berlin:20211107T120000
LOCATION:ZŠ Rabasova\, Rabasova 3282 Ústí nad Labem - Severní Terasa
SUMMARY:CP-ZCI-Z2B: Ústí n. L.-Orion Praha
END:VEVENT
BEGIN:VEVENT
UID:38383631-6331-4336-b638-636562386666
DTSTAMP:20260422T033908Z
DESCRIPTION:13/26 Ústí n. L. - Česká Lípa 2:0 (19\,19)
DTSTART;TZID=Europe/Berlin:20211107T130000
DTEND;TZID=Europe/Berlin:20211107T150000
LOCATION:ZŠ Rabasova\, Rabasova 3282 Ústí nad Labem - Severní Terasa
SUMMARY:CP-ZCI-Z2B: Ústí n. L.-Česká Lípa
END:VEVENT
BEGIN:VEVENT
UID:62666431-3630-4261-a631-326431636235
DTSTAMP:20260422T033908Z
DESCRIPTION:2/3 Plzeň - Ústí n. L. 0:2 (-23\,-24)
DTSTART;TZID=Europe/Berlin:20211106T100000
DTEND;TZID=Europe/Berlin:20211106T120000
LOCATION:Bolevecká základní škola ( 18.ZŠ)\, náměstí Odboje 550 Plzeň - Bol
 evec
SUMMARY:CP-ZCI-Z2B: Plzeň-Ústí n. L.
END:VEVENT
BEGIN:VEVENT
UID:34643631-6234-4639-a530-386165353263
DTSTAMP:20260422T033908Z
DESCRIPTION:7/14 Dansport - Ústí n. L. 0:2 (-13\,-16)
DTSTART;TZID=Europe/Berlin:20211106T153000
DTEND;TZID=Europe/Berlin:20211106T173000
LOCATION:Sportovní hala Gymnázia Jana Keplera Parléřova 118\, Praha - Hradč
 any
SUMMARY:CP-ZCI-Z2B: Dansport-Ústí n. L.
END:VEVENT
BEGIN:VEVENT
UID:37336631-3534-4432-b661-646431383431
DTSTAMP:20260422T033908Z
DESCRIPTION:12/24 Odolena Voda - Ústí n. L. 0:2 (-15\,-12)
DTSTART;TZID=Europe/Berlin:20211107T120000
DTEND;TZID=Europe/Berlin:20211107T140000
LOCATION:Sportovní hala\, Ke Stadionu 375 Odolena Voda
SUMMARY:CP-ZCI-Z2B: Odolena Voda-Ústí n. L.
END:VEVENT
BEGIN:VEVENT
UID:34316238-3236-4664-a566-363766656430
DTSTAMP:20260422T033908Z
DESCRIPTION:2/2 Kladno - Ústí n. L. 2:1 (10\,-23\,6)
DTSTART;TZID=Europe/Berlin:20211204T100000
DTEND;TZID=Europe/Berlin:20211204T120000
LOCATION:Kladenská sportovní hala\, Sportovců 817 Kladno - Rozdělov
SUMMARY:CP-ZCI-Z3A1: Kladno-Ústí n. L.
END:VEVENT
BEGIN:VEVENT
UID:32666538-6466-4662-b763-623737323030
DTSTAMP:20260422T033908Z
DESCRIPTION:4/4 Lvi Praha - Ústí n. L. 2:0 (12\,9)
DTSTART;TZID=Europe/Berlin:20211204T120000
DTEND;TZID=Europe/Berlin:20211204T140000
LOCATION:ZŠ Brdičkova Brdičkova 1878\, Praha 13 - 15500
SUMMARY:CP-ZCI-Z3A1: Lvi Praha-Ústí n. L.
END:VEVENT
BEGIN:VEVENT
UID:34633765-3361-4935-b433-643838396333
DTSTAMP:20260422T033908Z
DESCRIPTION:5/5 Hradec Králové - Ústí n. L. 0:2 (-14\,-21)
DTSTART;TZID=Europe/Berlin:20211204T130000
DTEND;TZID=Europe/Berlin:20211204T150000
LOCATION:TJ Slavia Hradec Králové\, Víta Nejedlého 1216 Hradec Králové
SUMMARY:CP-ZCI-Z3A1: Hradec Králové-Ústí n. L.
END:VEVENT
BEGIN:VEVENT
UID:65303462-6634-4237-b438-393632353839
DTSTAMP:20260422T033908Z
DESCRIPTION:2/3 Ústí n. L. - Rychnov n. K. 2:1 (-21\,16\,12)\n3A-4B
DTSTART;TZID=Europe/Berlin:20211204T173000
DTEND;TZID=Europe/Berlin:20211204T193000
LOCATION:ZŠ Rabasova\, Rabasova 3282 Ústí nad Labem - Severní Terasa
SUMMARY:CP-ZCI-Z3A3: Ústí n. L.-Rychnov n. K.
END:VEVENT
BEGIN:VEVENT
UID:62663836-3630-4331-b264-393537646565
DTSTAMP:20260422T033908Z
DESCRIPTION:4/7 Plzeň - Ústí n. L. 0:2 (-11\,-25)\no 5. místo
DTSTART;TZID=Europe/Berlin:20211204T193000
DTEND;TZID=Europe/Berlin:20211204T213000
LOCATION:Bolevecká základní škola ( 18.ZŠ)\, náměstí Odboje 550 Plzeň - Bol
 evec
SUMMARY:CP-ZCI-Z3A3: Plzeň-Ústí n. L.
END:VEVENT
BEGIN:VEVENT
UID:65316137-3534-4333-b930-363634316237
DTSTAMP:20260422T033908Z
DESCRIPTION:6/11 Ústí n. L. - Frýdlant n. O. 2:0 (19\,22)
DTSTART;TZID=Europe/Berlin:20220115T150000
DTEND;TZID=Europe/Berlin:20220115T170000
LOCATION:ZŠ Rabasova\, Rabasova 3282 Ústí nad Labem - Severní Terasa
SUMMARY:CP-ZCI-1B: Ústí n. L.-Frýdlant n. O.
END:VEVENT
BEGIN:VEVENT
UID:65383534-6632-4965-a261-373830383130
DTSTAMP:20260422T033908Z
DESCRIPTION:10/20 Ústí n. L. - Zlín 2:0 (22\,15)
DTSTART;TZID=Europe/Berlin:20220116T100000
DTEND;TZID=Europe/Berlin:20220116T120000
LOCATION:ZŠ Rabasova\, Rabasova 3282 Ústí nad Labem - Severní Terasa
SUMMARY:CP-ZCI-1B: Ústí n. L.-Zlín
END:VEVENT
BEGIN:VEVENT
UID:36386638-6439-4561-a537-613666613237
DTSTAMP:20260422T033908Z
DESCRIPTION:14/28 Ústí n. L. - Nový Jičín 2:0 (17\,12)
DTSTART;TZID=Europe/Berlin:20220116T140000
DTEND;TZID=Europe/Berlin:20220116T160000
LOCATION:ZŠ Rabasova\, Rabasova 3282 Ústí nad Labem - Severní Terasa
SUMMARY:CP-ZCI-1B: Ústí n. L.-Nový Jičín
END:VEVENT
BEGIN:VEVENT
UID:33376134-6234-4139-a263-373338656333
DTSTAMP:20260422T033908Z
DESCRIPTION:1/1 Hradec Králové - Ústí n. L. 0:2 (-19\,-20)
DTSTART;TZID=Europe/Berlin:20220115T100000
DTEND;TZID=Europe/Berlin:20220115T120000
LOCATION:TJ Slavia Hradec Králové\, Víta Nejedlého 1216 Hradec Králové
SUMMARY:CP-ZCI-1B: Hradec Králové-Ústí n. L.
END:VEVENT
BEGIN:VEVENT
UID:32643232-3934-4432-b661-653266346637
DTSTAMP:20260422T033908Z
DESCRIPTION:3/6 Rychnov n. K. - Ústí n. L. 2:0 (17\,17)
DTSTART;TZID=Europe/Berlin:20220115T120000
DTEND;TZID=Europe/Berlin:20220115T140000
LOCATION:Hala VOŠ a SPŠS\, U Stadionu 1166 Rychnov nad Kněžnou
SUMMARY:CP-ZCI-1B: Rychnov n. K.-Ústí n. L.
END:VEVENT
BEGIN:VEVENT
UID:36333465-3365-4263-a333-653163653536
DTSTAMP:20260422T033908Z
DESCRIPTION:4/8 Nymburk - Ústí n. L. 0:2 (-21\,-17)
DTSTART;TZID=Europe/Berlin:20220115T130000
DTEND;TZID=Europe/Berlin:20220115T150000
LOCATION:Zimní stadion\, U Stadionu 12 Nymburk
SUMMARY:CP-ZCI-1B: Nymburk-Ústí n. L.
END:VEVENT
BEGIN:VEVENT
UID:65323665-3837-4263-b538-363261613639
DTSTAMP:20260422T033908Z
DESCRIPTION:12/24 Plzeň - Ústí n. L. 1:2 (-20\,27\,-11)
DTSTART;TZID=Europe/Berlin:20220116T120000
DTEND;TZID=Europe/Berlin:20220116T140000
LOCATION:Bolevecká základní škola ( 18.ZŠ)\, náměstí Odboje 550 Plzeň - Bol
 evec
SUMMARY:CP-ZCI-1B: Plzeň-Ústí n. L.
END:VEVENT
BEGIN:VEVENT
UID:37393465-3333-4131-a661-613964316261
DTSTAMP:20260422T033908Z
DESCRIPTION:4/8 Ústí n. L. - Rychnov n. K. 2:1 (-22\,21\,6)
DTSTART;TZID=Europe/Berlin:20220212T130000
DTEND;TZID=Europe/Berlin:20220212T150000
LOCATION:ZŠ Rabasova\, Rabasova 3282 Ústí nad Labem - Severní Terasa
SUMMARY:CP-ZCI-2A: Ústí n. L.-Rychnov n. K.
END:VEVENT
BEGIN:VEVENT
UID:63653838-3138-4463-b138-656230333961
DTSTAMP:20260422T033908Z
DESCRIPTION:5/10 Ústí n. L. - Znojmo 1:2 (23\,-22\,-12)
DTSTART;TZID=Europe/Berlin:20220212T141500
DTEND;TZID=Europe/Berlin:20220212T161500
LOCATION:ZŠ Rabasova\, Rabasova 3282 Ústí nad Labem - Severní Terasa
SUMMARY:CP-ZCI-2A: Ústí n. L.-Znojmo
END:VEVENT
BEGIN:VEVENT
UID:37373137-3032-4139-b331-383735343139
DTSTAMP:20260422T033908Z
DESCRIPTION:7/13 Ústí n. L. - Lvi Praha 0:2 (-12\,-14)
DTSTART;TZID=Europe/Berlin:20220212T164500
DTEND;TZID=Europe/Berlin:20220212T184500
LOCATION:ZŠ Rabasova\, Rabasova 3282 Ústí nad Labem - Severní Terasa
SUMMARY:CP-ZCI-2A: Ústí n. L.-Lvi Praha
END:VEVENT
BEGIN:VEVENT
UID:34396538-6333-4566-b939-366236623730
DTSTAMP:20260422T033908Z
DESCRIPTION:2/4 Frýdek-Místek - Ústí n. L. 0:2 (-24\,-24)
DTSTART;TZID=Europe/Berlin:20220212T103000
DTEND;TZID=Europe/Berlin:20220212T123000
LOCATION:Hala SPŠ\, 28. října 1639 Frýdek-Místek - Místek
SUMMARY:CP-ZCI-2A: Frýdek-Místek-Ústí n. L.
END:VEVENT
BEGIN:VEVENT
UID:34393263-6563-4539-a364-336538303938
DTSTAMP:20260422T033908Z
DESCRIPTION:9/17 Prosek - Ústí n. L. 2:1 (-22\,23\,12)
DTSTART;TZID=Europe/Berlin:20220213T090000
DTEND;TZID=Europe/Berlin:20220213T110000
LOCATION:SH SK Prosek Lovosická 559\, Praha 9 Prosek
SUMMARY:CP-ZCI-2A: Prosek-Ústí n. L.
END:VEVENT
BEGIN:VEVENT
UID:30363434-6564-4466-b165-383565316231
DTSTAMP:20260422T033908Z
DESCRIPTION:11/22 Kladno - Ústí n. L. 2:0 (22\,20)
DTSTART;TZID=Europe/Berlin:20220213T114500
DTEND;TZID=Europe/Berlin:20220213T134500
LOCATION:Kladenská sportovní hala\, Sportovců 817 Kladno - Rozdělov
SUMMARY:CP-ZCI-2A: Kladno-Ústí n. L.
END:VEVENT
BEGIN:VEVENT
UID:30333134-3366-4635-b234-666163623730
DTSTAMP:20260422T033908Z
DESCRIPTION:13/25 České Budějovice A - Ústí n. L. 0:2 (-20\,-23)
DTSTART;TZID=Europe/Berlin:20220213T141500
DTEND;TZID=Europe/Berlin:20220213T161500
LOCATION:ZŠ Oskara Nedbala České Budějovice\, O. Nedbala 882 České Budějovi
 ce - České Budějovice 2
SUMMARY:CP-ZCI-2A: České Budějovice A-Ústí n. L.
END:VEVENT
BEGIN:VEVENT
UID:34366664-3730-4233-b462-656134366365
DTSTAMP:20260422T033908Z
DESCRIPTION:6/6 Ústí n. L. - Kojetín 2:0 (14\,17)
DTSTART;TZID=Europe/Berlin:20220312T131500
DTEND;TZID=Europe/Berlin:20220312T151500
LOCATION:ZŠ Rabasova\, Rabasova 3282 Ústí nad Labem - Severní Terasa
SUMMARY:CP-ZCI-3B: Ústí n. L.-Kojetín
END:VEVENT
BEGIN:VEVENT
UID:37363833-6466-4632-b862-623463653633
DTSTAMP:20260422T033908Z
DESCRIPTION:2/2 Lvi Praha - Ústí n. L. 1:2 (-21\,22\,-12)
DTSTART;TZID=Europe/Berlin:20220311T162000
DTEND;TZID=Europe/Berlin:20220311T182000
LOCATION:ZŠ Brdičkova Brdičkova 1878\, Praha 13 - 15500
SUMMARY:CP-ZCI-3B: Lvi Praha-Ústí n. L.
END:VEVENT
BEGIN:VEVENT
UID:39373465-6161-4664-b264-356563336265
DTSTAMP:20260422T033908Z
DESCRIPTION:3/3 České Budějovice A - Ústí n. L. 2:1 (17\,-23\,14)
DTSTART;TZID=Europe/Berlin:20220311T174000
DTEND;TZID=Europe/Berlin:20220311T194000
LOCATION:ZŠ Oskara Nedbala České Budějovice\, O. Nedbala 882 České Budějovi
 ce - České Budějovice 2
SUMMARY:CP-ZCI-3B: České Budějovice A-Ústí n. L.
END:VEVENT
BEGIN:VEVENT
UID:38623330-3632-4336-a266-306632313630
DTSTAMP:20260422T033908Z
DESCRIPTION:2/7 Ústí n. L. - Kojetín 0:2 (-12\,-13)\nsem 2 (1 osmička)
DTSTART;TZID=Europe/Berlin:20220313T090000
DTEND;TZID=Europe/Berlin:20220313T110000
LOCATION:ZŠ Rabasova\, Rabasova 3282 Ústí nad Labem - Severní Terasa
SUMMARY:CP-ZCI-3P1: Ústí n. L.-Kojetín
END:VEVENT
BEGIN:VEVENT
UID:61366237-6636-4538-b463-643738373634
DTSTAMP:20260422T033908Z
DESCRIPTION:3/9 Ústí n. L. - Prosek 0:2 (-23\,-20)\n7-8
DTSTART;TZID=Europe/Berlin:20220313T113000
DTEND;TZID=Europe/Berlin:20220313T133000
LOCATION:ZŠ Rabasova\, Rabasova 3282 Ústí nad Labem - Severní Terasa
SUMMARY:CP-ZCI-3P1: Ústí n. L.-Prosek
END:VEVENT
BEGIN:VEVENT
UID:64363962-6662-4764-b363-353932343135
DTSTAMP:20260422T033908Z
DESCRIPTION:1/2 Znojmo - Ústí n. L. 2:0 (14\,11)\nA3-B2
DTSTART;TZID=Europe/Berlin:20220312T160000
DTEND;TZID=Europe/Berlin:20220312T180000
LOCATION:Tělocvična ZŠ Prokopa Diviše a MŠ\, Ke Škole 569 Znojmo - Přímětic
 e
SUMMARY:CP-ZCI-3P1: Znojmo-Ústí n. L.
END:VEVENT
BEGIN:VEVENT
UID:65643838-3039-4634-b562-313466623963
DTSTAMP:20260422T033908Z
DESCRIPTION:1/6 Ústí n. L. - Frýdlant n. O. 2:1 (18\,-13\,7)
DTSTART;TZID=Europe/Berlin:20220415T130000
DTEND;TZID=Europe/Berlin:20220415T150000
LOCATION:Městská sportovní hala\, Hanusíkova 1476 Kojetín - Kojetín I-Město
SUMMARY:MCR-ZCI-B: Ústí n. L.-Frýdlant n. O.
END:VEVENT
BEGIN:VEVENT
UID:62653266-3533-4037-b165-316331383834
DTSTAMP:20260422T033908Z
DESCRIPTION:1/10 Ústí n. L. - Letovice 2:0 (20\,13)
DTSTART;TZID=Europe/Berlin:20220415T160000
DTEND;TZID=Europe/Berlin:20220415T180000
LOCATION:Městská sportovní hala\, Hanusíkova 1476 Kojetín - Kojetín I-Město
SUMMARY:MCR-ZCI-B: Ústí n. L.-Letovice
END:VEVENT
BEGIN:VEVENT
UID:61623436-6366-4132-a334-663833666565
DTSTAMP:20260422T033908Z
DESCRIPTION:2/17 Ústí n. L. - Kojetín 2:1 (-17\,15\,12)
DTSTART;TZID=Europe/Berlin:20220416T110000
DTEND;TZID=Europe/Berlin:20220416T130000
LOCATION:Městská sportovní hala\, Hanusíkova 1476 Kojetín - Kojetín I-Město
SUMMARY:MCR-ZCI-B: Ústí n. L.-Kojetín
END:VEVENT
BEGIN:VEVENT
UID:31633765-6137-4562-b363-356265363937
DTSTAMP:20260422T033908Z
DESCRIPTION:1/4 Letohrad - Ústí n. L. 0:2 (-15\,-21)
DTSTART;TZID=Europe/Berlin:20220415T113000
DTEND;TZID=Europe/Berlin:20220415T133000
LOCATION:Městská sportovní hala\, Hanusíkova 1476 Kojetín - Kojetín I-Město
SUMMARY:MCR-ZCI-B: Letohrad-Ústí n. L.
END:VEVENT
BEGIN:VEVENT
UID:62373339-3631-4632-a230-343338656362
DTSTAMP:20260422T033908Z
DESCRIPTION:1/14 Kometa Praha - Ústí n. L. 1:2 (-19\,23\,-13)
DTSTART;TZID=Europe/Berlin:20220415T190000
DTEND;TZID=Europe/Berlin:20220415T210000
LOCATION:Městská sportovní hala\, Hanusíkova 1476 Kojetín - Kojetín I-Město
SUMMARY:MCR-ZCI-B: Kometa Praha-Ústí n. L.
END:VEVENT
BEGIN:VEVENT
UID:32616364-6261-4538-b466-396339346563
DTSTAMP:20260422T033908Z
DESCRIPTION:2/16 Havlíčkův Brod - Ústí n. L. 0:2 (-11\,-10)
DTSTART;TZID=Europe/Berlin:20220416T093000
DTEND;TZID=Europe/Berlin:20220416T113000
LOCATION:Městská sportovní hala\, Hanusíkova 1476 Kojetín - Kojetín I-Město
SUMMARY:MCR-ZCI-B: Havlíčkův Brod-Ústí n. L.
END:VEVENT
BEGIN:VEVENT
UID:32303436-6164-4462-a530-353564653436
DTSTAMP:20260422T033908Z
DESCRIPTION:1/2 Ústí n. L. - Příbram 2:0 (18\,21)
DTSTART;TZID=Europe/Berlin:20220429T114500
DTEND;TZID=Europe/Berlin:20220429T134500
LOCATION:TJ Slavia Hradec Králové\, Víta Nejedlého 1216 Hradec Králové
SUMMARY:MCR-ZCI-FD: Ústí n. L.-Příbram
END:VEVENT
BEGIN:VEVENT
UID:63363062-3336-4134-a564-383936376231
DTSTAMP:20260422T033908Z
DESCRIPTION:3/5 Ústí n. L. - Plzeň 2:0 (20\,19)
DTSTART;TZID=Europe/Berlin:20220429T170500
DTEND;TZID=Europe/Berlin:20220429T190500
LOCATION:TJ Slavia Hradec Králové\, Víta Nejedlého 1216 Hradec Králové
SUMMARY:MCR-ZCI-FD: Ústí n. L.-Plzeň
END:VEVENT
BEGIN:VEVENT
UID:65306134-3334-4662-b562-363638323036
DTSTAMP:20260422T033908Z
DESCRIPTION:2/4 Znojmo - Ústí n. L. 2:0 (19\,14)
DTSTART;TZID=Europe/Berlin:20220429T142500
DTEND;TZID=Europe/Berlin:20220429T162500
LOCATION:TJ Slavia Hradec Králové\, Víta Nejedlého 1216 Hradec Králové
SUMMARY:MCR-ZCI-FD: Znojmo-Ústí n. L.
END:VEVENT
BEGIN:VEVENT
UID:39343134-3739-4437-a233-663365393234
DTSTAMP:20260422T033908Z
DESCRIPTION:2/4 Ústí n. L. - Kladno 0:2 (-18\,-17)\nD2 - B1
DTSTART;TZID=Europe/Berlin:20220430T130000
DTEND;TZID=Europe/Berlin:20220430T150000
LOCATION:TJ Slavia Hradec Králové\, Víta Nejedlého 1216 Hradec Králové
SUMMARY:MCR-ZCI-FF: Ústí n. L.-Kladno
END:VEVENT
BEGIN:VEVENT
UID:61653534-3738-4436-b462-623465616361
DTSTAMP:20260422T033908Z
DESCRIPTION:1/2 Frýdek-Místek - Ústí n. L. 2:1 (13\,-19\,8)\nB2 - D2
DTSTART;TZID=Europe/Berlin:20220430T100000
DTEND;TZID=Europe/Berlin:20220430T120000
LOCATION:TJ Slavia Hradec Králové\, Víta Nejedlého 1216 Hradec Králové
SUMMARY:MCR-ZCI-FF: Frýdek-Místek-Ústí n. L.
END:VEVENT
BEGIN:VEVENT
UID:66613437-3061-4239-b133-393534366463
DTSTAMP:20260422T033908Z
DESCRIPTION:3/9 Letohrad - Ústí n. L. 0:2 (-19\,-20)\nB3 - D2
DTSTART;TZID=Europe/Berlin:20220430T160000
DTEND;TZID=Europe/Berlin:20220430T180000
LOCATION:TJ Slavia Hradec Králové\, Víta Nejedlého 1216 Hradec Králové
SUMMARY:MCR-ZCI-FF: Letohrad-Ústí n. L.
END:VEVENT
BEGIN:VEVENT
UID:35656666-6361-4965-b331-616639376333
DTSTAMP:20260422T033908Z
DESCRIPTION:1/4 Zlín - Ústí n. L. 0:2 (-25\,-21)\nE4 - F3
DTSTART;TZID=Europe/Berlin:20220501T083000
DTEND;TZID=Europe/Berlin:20220501T103000
LOCATION:ZŠ Okružní Zlín\, Okružní 4685 Zlín
SUMMARY:MCR-ZCI-FI: Zlín-Ústí n. L.
END:VEVENT
BEGIN:VEVENT
UID:65303233-3432-4536-b762-633931366533
DTSTAMP:20260422T033908Z
DESCRIPTION:2/10 Frýdek-Místek - Ústí n. L. 2:0 (22\,16)\no 5. místo
DTSTART;TZID=Europe/Berlin:20220501T122000
DTEND;TZID=Europe/Berlin:20220501T142000
LOCATION:Hala SPŠ\, 28. října 1639 Frýdek-Místek - Místek
SUMMARY:MCR-ZCI-FI: Frýdek-Místek-Ústí n. L.
END:VEVENT
END:VCALENDAR
