BEGIN:VCALENDAR
VERSION:2.0
PRODID:-//Tělovýchovná jednota Bojkovice z.s.75859//NONSGML kigkonsult.se iCalcreator 2.41.80//
CALSCALE:GREGORIAN
UID:35393734-3066-4536-b632-643935313635
BEGIN:VEVENT
UID:36396263-3338-4366-a331-316366313064
DTSTAMP:20260422T052724Z
DESCRIPTION:1/1 TJ Rožnov p R - TJ Bojkovice 0:2 (-17\,-12)
DTSTART;TZID=Europe/Berlin:20211017T090000
DTEND;TZID=Europe/Berlin:20211017T110000
LOCATION:ZŠ POD SKALKOU\, Bezručova 293 Rožnov pod Radhoštěm
SUMMARY:ZLK-ZKY-1C: TJ Rožnov p R-TJ Bojkovice
END:VEVENT
BEGIN:VEVENT
UID:63346138-6661-4566-b331-383836303761
DTSTAMP:20260422T052724Z
DESCRIPTION:2/4 TJ Uherský Brod - TJ Bojkovice 0:2 (-18\,-14)
DTSTART;TZID=Europe/Berlin:20211017T100000
DTEND;TZID=Europe/Berlin:20211017T120000
LOCATION:TJ SPARTAK UHERSKÝ BROD z.s.\, U Stadionu 2295 Uherský Brod
SUMMARY:ZLK-ZKY-1C: TJ Uherský Brod-TJ Bojkovice
END:VEVENT
BEGIN:VEVENT
UID:37616639-3266-4737-b632-303535336633
DTSTAMP:20260422T052724Z
DESCRIPTION:3/6 VC Kroměříž  B - TJ Bojkovice 2:0 (12\,20)
DTSTART;TZID=Europe/Berlin:20211017T110000
DTEND;TZID=Europe/Berlin:20211017T130000
LOCATION:ZŠ Slovan B\, Zeyerova 3354 Kroměříž
SUMMARY:ZLK-ZKY-1C: VC Kroměříž  B-TJ Bojkovice
END:VEVENT
BEGIN:VEVENT
UID:39363637-3364-4962-b832-386163663234
DTSTAMP:20260422T052724Z
DESCRIPTION:1/2 TJ Bojkovice - TJ Uherský Brod 2:0 (12\,13)
DTSTART;TZID=Europe/Berlin:20211107T090000
DTEND;TZID=Europe/Berlin:20211107T110000
LOCATION:ZŠ TGM Bojkovice\, Štefánikova 460 Bojkovice
SUMMARY:ZLK-ZKY-2C: TJ Bojkovice-TJ Uherský Brod
END:VEVENT
BEGIN:VEVENT
UID:33613932-3361-4730-b734-623766316163
DTSTAMP:20260422T052724Z
DESCRIPTION:2/4 TJ Bojkovice - TJ Rožnov p R 2:0 (14\,13)
DTSTART;TZID=Europe/Berlin:20211107T100000
DTEND;TZID=Europe/Berlin:20211107T120000
LOCATION:ZŠ TGM Bojkovice\, Štefánikova 460 Bojkovice
SUMMARY:ZLK-ZKY-2C: TJ Bojkovice-TJ Rožnov p R
END:VEVENT
BEGIN:VEVENT
UID:35626164-3062-4566-b161-376231613061
DTSTAMP:20260422T052724Z
DESCRIPTION:3/5 TJ Sokol Střítež - TJ Bojkovice 1:2 (-20\,20\,-9)
DTSTART;TZID=Europe/Berlin:20211107T110000
DTEND;TZID=Europe/Berlin:20211107T130000
LOCATION:Sokolovna\,  Střítež nad Bečvou1
SUMMARY:ZLK-ZKY-2C: TJ Sokol Střítež-TJ Bojkovice
END:VEVENT
BEGIN:VEVENT
UID:33636561-6261-4837-a631-323836633839
DTSTAMP:20260422T052724Z
DESCRIPTION:1/1 VK NAPAJEDLA - TJ Bojkovice 2:0 (0\,0)
DTSTART;TZID=Europe/Berlin:20211219T090000
DTEND;TZID=Europe/Berlin:20211219T110000
LOCATION:2.ZŠ Napajedla\, Komenského 298 Napajedla
SUMMARY:ZLK-ZKY-3B: VK NAPAJEDLA-TJ Bojkovice
END:VEVENT
BEGIN:VEVENT
UID:30373033-3763-4135-a234-656635303664
DTSTAMP:20260422T052724Z
DESCRIPTION:2/4 VK AUSTIN Vsetín - TJ Bojkovice 2:0 (0\,0)
DTSTART;TZID=Europe/Berlin:20211219T100000
DTEND;TZID=Europe/Berlin:20211219T120000
LOCATION:Sportovní hala Na Lapači\, Na Lapači 247 Vsetín - Rokytnice
SUMMARY:ZLK-ZKY-3B: VK AUSTIN Vsetín-TJ Bojkovice
END:VEVENT
BEGIN:VEVENT
UID:61373263-6266-4833-b031-366565643762
DTSTAMP:20260422T052724Z
DESCRIPTION:3/6 VK Valašské Meziříčí - TJ Bojkovice 2:0 (0\,0)
DTSTART;TZID=Europe/Berlin:20211219T110000
DTEND;TZID=Europe/Berlin:20211219T130000
LOCATION:ZŠ Šafaříkova\, Šafaříkova 726 Valašské Meziříčí
SUMMARY:ZLK-ZKY-3B: VK Valašské Meziříčí-TJ Bojkovice
END:VEVENT
BEGIN:VEVENT
UID:64646665-6166-4637-a633-313835376132
DTSTAMP:20260422T052724Z
DESCRIPTION:1/1 TJ Bojkovice - TJ Rožnov p R 2:1 (19\,-23\,13)
DTSTART;TZID=Europe/Berlin:20220116T090000
DTEND;TZID=Europe/Berlin:20220116T110000
LOCATION:ZŠ TGM Bojkovice\, Štefánikova 460 Bojkovice
SUMMARY:ZLK-ZKY-4C: TJ Bojkovice-TJ Rožnov p R
END:VEVENT
BEGIN:VEVENT
UID:38643665-3861-4339-a538-343361316662
DTSTAMP:20260422T052724Z
DESCRIPTION:2/3 TJ Bojkovice - TJ Uherský Brod 1:2 (23\,-23\,-12)
DTSTART;TZID=Europe/Berlin:20220116T100000
DTEND;TZID=Europe/Berlin:20220116T120000
LOCATION:ZŠ TGM Bojkovice\, Štefánikova 460 Bojkovice
SUMMARY:ZLK-ZKY-4C: TJ Bojkovice-TJ Uherský Brod
END:VEVENT
BEGIN:VEVENT
UID:34653463-3532-4138-b563-623264616165
DTSTAMP:20260422T052724Z
DESCRIPTION:3/5 TJ Bojkovice - TJ Sokol Střítež 2:0 (0\,0)
DTSTART;TZID=Europe/Berlin:20220116T110000
DTEND;TZID=Europe/Berlin:20220116T130000
LOCATION:ZŠ TGM Bojkovice\, Štefánikova 460 Bojkovice
SUMMARY:ZLK-ZKY-4C: TJ Bojkovice-TJ Sokol Střítež
END:VEVENT
BEGIN:VEVENT
UID:61303363-3630-4639-a137-653133393065
DTSTAMP:20260422T052724Z
DESCRIPTION:1/2 TJ Bojkovice - TJ Uherský Brod 2:1 (-21\,19\,14)
DTSTART;TZID=Europe/Berlin:20220220T090000
DTEND;TZID=Europe/Berlin:20220220T110000
LOCATION:ZŠ TGM Bojkovice\, Štefánikova 460 Bojkovice
SUMMARY:ZLK-ZKY-5C: TJ Bojkovice-TJ Uherský Brod
END:VEVENT
BEGIN:VEVENT
UID:63633633-3533-4464-b266-383361393762
DTSTAMP:20260422T052724Z
DESCRIPTION:2/4 TJ Bojkovice - TJ Sokol Střítež 2:0 (23\,17)
DTSTART;TZID=Europe/Berlin:20220220T100000
DTEND;TZID=Europe/Berlin:20220220T120000
LOCATION:ZŠ TGM Bojkovice\, Štefánikova 460 Bojkovice
SUMMARY:ZLK-ZKY-5C: TJ Bojkovice-TJ Sokol Střítež
END:VEVENT
BEGIN:VEVENT
UID:36613237-6465-4465-a165-626439313131
DTSTAMP:20260422T052724Z
DESCRIPTION:3/5 VK AUSTIN Vsetín - TJ Bojkovice 2:0 (9\,16)
DTSTART;TZID=Europe/Berlin:20220220T110000
DTEND;TZID=Europe/Berlin:20220220T130000
LOCATION:Sportovní hala Na Lapači\, Na Lapači 247 Vsetín - Rokytnice
SUMMARY:ZLK-ZKY-5C: VK AUSTIN Vsetín-TJ Bojkovice
END:VEVENT
BEGIN:VEVENT
UID:35363564-6231-4561-b030-646236343630
DTSTAMP:20260422T052724Z
DESCRIPTION:1/2 TJ Bojkovice - TJ Sokol Střítež 2:0 (17\,19)
DTSTART;TZID=Europe/Berlin:20220313T090000
DTEND;TZID=Europe/Berlin:20220313T110000
LOCATION:ZŠ TGM Bojkovice\, Štefánikova 460 Bojkovice
SUMMARY:ZLK-ZKY-6C: TJ Bojkovice-TJ Sokol Střítež
END:VEVENT
BEGIN:VEVENT
UID:37663037-3636-4137-b132-346366346165
DTSTAMP:20260422T052724Z
DESCRIPTION:2/4 TJ Bojkovice - TJ Uherský Brod 2:0 (11\,23)
DTSTART;TZID=Europe/Berlin:20220313T100000
DTEND;TZID=Europe/Berlin:20220313T120000
LOCATION:ZŠ TGM Bojkovice\, Štefánikova 460 Bojkovice
SUMMARY:ZLK-ZKY-6C: TJ Bojkovice-TJ Uherský Brod
END:VEVENT
BEGIN:VEVENT
UID:34656339-3761-4137-b733-623566663764
DTSTAMP:20260422T052724Z
DESCRIPTION:3/5 TJ Rožnov p R - TJ Bojkovice 2:0 (22\,22)
DTSTART;TZID=Europe/Berlin:20220313T110000
DTEND;TZID=Europe/Berlin:20220313T130000
LOCATION:ZŠ POD SKALKOU\, Bezručova 293 Rožnov pod Radhoštěm
SUMMARY:ZLK-ZKY-6C: TJ Rožnov p R-TJ Bojkovice
END:VEVENT
END:VCALENDAR
