BEGIN:VCALENDAR
VERSION:2.0
PRODID:-//Tělovýchovná jednota Bojkovice z.s.75862//NONSGML kigkonsult.se iCalcreator 2.41.80//
CALSCALE:GREGORIAN
UID:36666432-3663-4531-b730-323965646635
BEGIN:VEVENT
UID:35653966-3839-4538-b864-643064306130
DTSTAMP:20260422T131113Z
DESCRIPTION:5/25 TJ Bojkovice - TJ Slovácká Slavia UH B 3:0 (8\,4\,15)
DTSTART;TZID=Europe/Berlin:20211016T090000
DTEND;TZID=Europe/Berlin:20211016T110000
LOCATION:ZŠ TGM Bojkovice\, Štefánikova 460 Bojkovice
SUMMARY:ZLK-KKY: TJ Bojkovice-TJ Slovácká Slavia UH B
END:VEVENT
BEGIN:VEVENT
UID:39363463-3736-4036-b334-623962303265
DTSTAMP:20260422T131113Z
DESCRIPTION:6/30 TJ Bojkovice - TJ Slovácká Slavia UH B 3:0 (19\,15\,12)
DTSTART;TZID=Europe/Berlin:20211016T120000
DTEND;TZID=Europe/Berlin:20211016T140000
LOCATION:ZŠ TGM Bojkovice\, Štefánikova 460 Bojkovice
SUMMARY:ZLK-KKY: TJ Bojkovice-TJ Slovácká Slavia UH B
END:VEVENT
BEGIN:VEVENT
UID:36353539-6666-4663-b335-633165623533
DTSTAMP:20260422T131113Z
DESCRIPTION:9/44 TJ Bojkovice - VC Kroměříž  C 0:3 (-18\,-21\,-23)
DTSTART;TZID=Europe/Berlin:20220219T090000
DTEND;TZID=Europe/Berlin:20220219T110000
LOCATION:ZŠ TGM Bojkovice\, Štefánikova 460 Bojkovice
SUMMARY:ZLK-KKY: TJ Bojkovice-VC Kroměříž  C
END:VEVENT
BEGIN:VEVENT
UID:35633964-3431-4862-b633-323463636363
DTSTAMP:20260422T131113Z
DESCRIPTION:10/49 TJ Bojkovice - VC Kroměříž  C 1:3 (19\,-22\,-22\,-23)
DTSTART;TZID=Europe/Berlin:20220219T120000
DTEND;TZID=Europe/Berlin:20220219T140000
LOCATION:ZŠ TGM Bojkovice\, Štefánikova 460 Bojkovice
SUMMARY:ZLK-KKY: TJ Bojkovice-VC Kroměříž  C
END:VEVENT
BEGIN:VEVENT
UID:32333339-3333-4938-b339-636338393761
DTSTAMP:20260422T131113Z
DESCRIPTION:13/63 TJ Bojkovice - VK AUSTIN Vsetín B 1:3 (25\,-14\,-18\,-24)
DTSTART;TZID=Europe/Berlin:20211120T100000
DTEND;TZID=Europe/Berlin:20211120T120000
LOCATION:ZŠ TGM Bojkovice\, Štefánikova 460 Bojkovice
SUMMARY:ZLK-KKY: TJ Bojkovice-VK AUSTIN Vsetín B
END:VEVENT
BEGIN:VEVENT
UID:36373765-6334-4534-a438-646133623732
DTSTAMP:20260422T131113Z
DESCRIPTION:14/68 TJ Bojkovice - VK AUSTIN Vsetín B 2:3 (22\,-14\,19\,-18\,
 -8)
DTSTART;TZID=Europe/Berlin:20211120T130000
DTEND;TZID=Europe/Berlin:20211120T150000
LOCATION:ZŠ TGM Bojkovice\, Štefánikova 460 Bojkovice
SUMMARY:ZLK-KKY: TJ Bojkovice-VK AUSTIN Vsetín B
END:VEVENT
BEGIN:VEVENT
UID:66366236-3330-4130-a235-373963663364
DTSTAMP:20260422T131113Z
DESCRIPTION:19/95 TJ Bojkovice - VK Valašské Meziříčí 0:3 (-15\,-15\,-14)
DTSTART;TZID=Europe/Berlin:20220108T090000
DTEND;TZID=Europe/Berlin:20220108T110000
LOCATION:ZŠ TGM Bojkovice\, Štefánikova 460 Bojkovice
SUMMARY:ZLK-KKY: TJ Bojkovice-VK Valašské Meziříčí
END:VEVENT
BEGIN:VEVENT
UID:31353136-6463-4262-b437-353637363362
DTSTAMP:20260422T131113Z
DESCRIPTION:20/100 TJ Bojkovice - VK Valašské Meziříčí 0:3 (-16\,-15\,-16)
DTSTART;TZID=Europe/Berlin:20220108T120000
DTEND;TZID=Europe/Berlin:20220108T140000
LOCATION:ZŠ TGM Bojkovice\, Štefánikova 460 Bojkovice
SUMMARY:ZLK-KKY: TJ Bojkovice-VK Valašské Meziříčí
END:VEVENT
BEGIN:VEVENT
UID:37656666-6163-4331-a466-636635353736
DTSTAMP:20260422T131113Z
DESCRIPTION:21/101 TJ Bojkovice - SK Slavičín 3:0 (17\,12\,20)
DTSTART;TZID=Europe/Berlin:20220114T163000
DTEND;TZID=Europe/Berlin:20220114T183000
LOCATION:ZŠ TGM Bojkovice\, Štefánikova 460 Bojkovice
SUMMARY:ZLK-KKY: TJ Bojkovice-SK Slavičín
END:VEVENT
BEGIN:VEVENT
UID:39633165-6165-4430-b333-663339303237
DTSTAMP:20260422T131113Z
DESCRIPTION:22/106 TJ Bojkovice - SK Slavičín 3:0 (14\,17\,22)
DTSTART;TZID=Europe/Berlin:20220114T183000
DTEND;TZID=Europe/Berlin:20220114T203000
LOCATION:ZŠ TGM Bojkovice\, Štefánikova 460 Bojkovice
SUMMARY:ZLK-KKY: TJ Bojkovice-SK Slavičín
END:VEVENT
BEGIN:VEVENT
UID:61343032-3732-4864-b139-616639366433
DTSTAMP:20260422T131113Z
DESCRIPTION:25/122 TJ Bojkovice - VC Kroměříž  B 1:3 (-13\,-17\,22\,-18)
DTSTART;TZID=Europe/Berlin:20220304T163000
DTEND;TZID=Europe/Berlin:20220304T183000
LOCATION:ZŠ TGM Bojkovice\, Štefánikova 460 Bojkovice
SUMMARY:ZLK-KKY: TJ Bojkovice-VC Kroměříž  B
END:VEVENT
BEGIN:VEVENT
UID:61666366-6637-4436-b265-623033313534
DTSTAMP:20260422T131113Z
DESCRIPTION:26/127 TJ Bojkovice - VC Kroměříž  B 0:3 (-22\,-15\,-10)
DTSTART;TZID=Europe/Berlin:20220304T183000
DTEND;TZID=Europe/Berlin:20220304T203000
LOCATION:ZŠ TGM Bojkovice\, Štefánikova 460 Bojkovice
SUMMARY:ZLK-KKY: TJ Bojkovice-VC Kroměříž  B
END:VEVENT
BEGIN:VEVENT
UID:33333761-3162-4461-a434-353130666261
DTSTAMP:20260422T131113Z
DESCRIPTION:29/143 TJ Bojkovice - Vsetín 0:3 (-10\,-12\,-21)
DTSTART;TZID=Europe/Berlin:20220226T090000
DTEND;TZID=Europe/Berlin:20220226T110000
LOCATION:ZŠ TGM Bojkovice\, Štefánikova 460 Bojkovice
SUMMARY:ZLK-KKY: TJ Bojkovice-Vsetín
END:VEVENT
BEGIN:VEVENT
UID:66343532-3033-4432-a530-366231386133
DTSTAMP:20260422T131113Z
DESCRIPTION:30/148 TJ Bojkovice - Vsetín 0:3 (-10\,-18\,-12)
DTSTART;TZID=Europe/Berlin:20220226T120000
DTEND;TZID=Europe/Berlin:20220226T140000
LOCATION:ZŠ TGM Bojkovice\, Štefánikova 460 Bojkovice
SUMMARY:ZLK-KKY: TJ Bojkovice-Vsetín
END:VEVENT
BEGIN:VEVENT
UID:33353839-3866-4137-b430-613963363338
DTSTAMP:20260422T131113Z
DESCRIPTION:33/164 TJ Bojkovice - VK Napajedla A 1:3 (-15\,-16\,14\,-5)
DTSTART;TZID=Europe/Berlin:20220312T100000
DTEND;TZID=Europe/Berlin:20220312T120000
LOCATION:ZŠ TGM Bojkovice\, Štefánikova 460 Bojkovice
SUMMARY:ZLK-KKY: TJ Bojkovice-VK Napajedla A
END:VEVENT
BEGIN:VEVENT
UID:64333934-6632-4661-a537-353034383031
DTSTAMP:20260422T131113Z
DESCRIPTION:34/169 TJ Bojkovice - VK Napajedla A 0:3 (-16\,-7\,-20)
DTSTART;TZID=Europe/Berlin:20220312T130000
DTEND;TZID=Europe/Berlin:20220312T150000
LOCATION:ZŠ TGM Bojkovice\, Štefánikova 460 Bojkovice
SUMMARY:ZLK-KKY: TJ Bojkovice-VK Napajedla A
END:VEVENT
BEGIN:VEVENT
UID:38346438-3430-4534-b561-643331373162
DTSTAMP:20260422T131113Z
DESCRIPTION:1/5 VK Valašské Meziříčí - TJ Bojkovice 3:0 (17\,22\,11)
DTSTART;TZID=Europe/Berlin:20211002T100000
DTEND;TZID=Europe/Berlin:20211002T120000
LOCATION:ZŠ Šafaříkova\, Šafaříkova 726 Valašské Meziříčí
SUMMARY:ZLK-KKY: VK Valašské Meziříčí-TJ Bojkovice
END:VEVENT
BEGIN:VEVENT
UID:31626166-3333-4239-b233-626232323664
DTSTAMP:20260422T131113Z
DESCRIPTION:2/10 VK Valašské Meziříčí - TJ Bojkovice 3:0 (12\,5\,16)
DTSTART;TZID=Europe/Berlin:20211002T130000
DTEND;TZID=Europe/Berlin:20211002T150000
LOCATION:ZŠ Šafaříkova\, Šafaříkova 726 Valašské Meziříčí
SUMMARY:ZLK-KKY: VK Valašské Meziříčí-TJ Bojkovice
END:VEVENT
BEGIN:VEVENT
UID:63353836-3662-4965-b463-346565323330
DTSTAMP:20260422T131113Z
DESCRIPTION:3/11 SK Slavičín - TJ Bojkovice 1:3 (-13\,21\,-18\,-9)
DTSTART;TZID=Europe/Berlin:20211009T100000
DTEND;TZID=Europe/Berlin:20211009T120000
SUMMARY:ZLK-KKY: SK Slavičín-TJ Bojkovice
END:VEVENT
BEGIN:VEVENT
UID:35356263-3132-4435-b338-646430613338
DTSTAMP:20260422T131113Z
DESCRIPTION:4/16 SK Slavičín - TJ Bojkovice 2:3 (22\,21\,-20\,-24\,-13)
DTSTART;TZID=Europe/Berlin:20211009T130000
DTEND;TZID=Europe/Berlin:20211009T150000
SUMMARY:ZLK-KKY: SK Slavičín-TJ Bojkovice
END:VEVENT
BEGIN:VEVENT
UID:66336434-3236-4662-b065-376136383930
DTSTAMP:20260422T131113Z
DESCRIPTION:7/32 VC Kroměříž  B - TJ Bojkovice 3:0 (20\,19\,17)
DTSTART;TZID=Europe/Berlin:20220403T093000
DTEND;TZID=Europe/Berlin:20220403T113000
LOCATION:ZŠ Zachar\, Albertova 4062 Kroměříž
SUMMARY:ZLK-KKY: VC Kroměříž  B-TJ Bojkovice
END:VEVENT
BEGIN:VEVENT
UID:30346262-6631-4637-b566-616131313834
DTSTAMP:20260422T131113Z
DESCRIPTION:8/37 VC Kroměříž  B - TJ Bojkovice 2:3 (-20\,-21\,23\,17\,-10)
DTSTART;TZID=Europe/Berlin:20220403T123000
DTEND;TZID=Europe/Berlin:20220403T143000
LOCATION:ZŠ Zachar\, Albertova 4062 Kroměříž
SUMMARY:ZLK-KKY: VC Kroměříž  B-TJ Bojkovice
END:VEVENT
BEGIN:VEVENT
UID:31373534-6635-4961-b930-643331343837
DTSTAMP:20260422T131113Z
DESCRIPTION:11/53 Vsetín - TJ Bojkovice 3:0 (20\,15\,11)
DTSTART;TZID=Europe/Berlin:20220213T100000
DTEND;TZID=Europe/Berlin:20220213T120000
LOCATION:Sportovní hala Na Lapači\, Na Lapači 247 Vsetín - Rokytnice
SUMMARY:ZLK-KKY: Vsetín-TJ Bojkovice
END:VEVENT
BEGIN:VEVENT
UID:38326462-3034-4336-b231-313634383463
DTSTAMP:20260422T131113Z
DESCRIPTION:12/58 Vsetín - TJ Bojkovice 3:0 (12\,14\,10)
DTSTART;TZID=Europe/Berlin:20220213T130000
DTEND;TZID=Europe/Berlin:20220213T150000
LOCATION:Sportovní hala Na Lapači\, Na Lapači 247 Vsetín - Rokytnice
SUMMARY:ZLK-KKY: Vsetín-TJ Bojkovice
END:VEVENT
BEGIN:VEVENT
UID:32323138-3034-4437-a362-306366616634
DTSTAMP:20260422T131113Z
DESCRIPTION:15/74 VK Napajedla A - TJ Bojkovice 3:0 (0\,0\,0)
DTSTART;TZID=Europe/Berlin:20211127T100000
DTEND;TZID=Europe/Berlin:20211127T120000
LOCATION:2.ZŠ Napajedla\, Komenského 298 Napajedla
SUMMARY:ZLK-KKY: VK Napajedla A-TJ Bojkovice
END:VEVENT
BEGIN:VEVENT
UID:66313866-3963-4837-b231-373663353935
DTSTAMP:20260422T131113Z
DESCRIPTION:16/79 VK Napajedla A - TJ Bojkovice 0:3 (-0\,-0\,-0)
DTSTART;TZID=Europe/Berlin:20211127T130000
DTEND;TZID=Europe/Berlin:20211127T150000
LOCATION:2.ZŠ Napajedla\, Komenského 298 Napajedla
SUMMARY:ZLK-KKY: VK Napajedla A-TJ Bojkovice
END:VEVENT
BEGIN:VEVENT
UID:31656539-6332-4739-b136-333561333739
DTSTAMP:20260422T131113Z
DESCRIPTION:23/115 TJ Slovácká Slavia UH B - TJ Bojkovice 1:3 (11\,-19\,-22
 \,-18)\nZŠ Jarošov
DTSTART;TZID=Europe/Berlin:20220423T100000
DTEND;TZID=Europe/Berlin:20220423T120000
LOCATION:Městská sportovní hala\, Stonky 860 Uherské Hradiště
SUMMARY:ZLK-KKY: TJ Slovácká Slavia UH B-TJ Bojkovice
END:VEVENT
BEGIN:VEVENT
UID:65363136-6531-4537-b265-366561396135
DTSTAMP:20260422T131113Z
DESCRIPTION:24/120 TJ Slovácká Slavia UH B - TJ Bojkovice 1:3 (23\,-17\,-23
 \,-13)\nTělocvična ZŠ Jarošov
DTSTART;TZID=Europe/Berlin:20220423T130000
DTEND;TZID=Europe/Berlin:20220423T150000
LOCATION:Městská sportovní hala\, Stonky 860 Uherské Hradiště
SUMMARY:ZLK-KKY: TJ Slovácká Slavia UH B-TJ Bojkovice
END:VEVENT
BEGIN:VEVENT
UID:30383436-6563-4333-b237-313230386236
DTSTAMP:20260422T131113Z
DESCRIPTION:27/134 VC Kroměříž  C - TJ Bojkovice 2:3 (-19\,21\,15\,-23\,-11
 )
DTSTART;TZID=Europe/Berlin:20211106T090000
DTEND;TZID=Europe/Berlin:20211106T110000
LOCATION:ZŠ Slovan\, Zeyerova 3354 Kroměříž
SUMMARY:ZLK-KKY: VC Kroměříž  C-TJ Bojkovice
END:VEVENT
BEGIN:VEVENT
UID:32613537-6232-4831-b331-396230636139
DTSTAMP:20260422T131113Z
DESCRIPTION:28/139 VC Kroměříž  C - TJ Bojkovice 3:1 (13\,-21\,18\,12)
DTSTART;TZID=Europe/Berlin:20211106T120000
DTEND;TZID=Europe/Berlin:20211106T140000
LOCATION:ZŠ Slovan\, Zeyerova 3354 Kroměříž
SUMMARY:ZLK-KKY: VC Kroměříž  C-TJ Bojkovice
END:VEVENT
BEGIN:VEVENT
UID:37396431-3837-4038-b064-323163383339
DTSTAMP:20260422T131113Z
DESCRIPTION:31/153 VK AUSTIN Vsetín B - TJ Bojkovice 3:0 (12\,13\,15)
DTSTART;TZID=Europe/Berlin:20220305T090000
DTEND;TZID=Europe/Berlin:20220305T110000
LOCATION:Sportovní hala Na Lapači\, Na Lapači 247 Vsetín - Rokytnice
SUMMARY:ZLK-KKY: VK AUSTIN Vsetín B-TJ Bojkovice
END:VEVENT
BEGIN:VEVENT
UID:37393333-6136-4138-a435-396662626365
DTSTAMP:20260422T131113Z
DESCRIPTION:32/158 VK AUSTIN Vsetín B - TJ Bojkovice 3:0 (11\,6\,25)
DTSTART;TZID=Europe/Berlin:20220305T120000
DTEND;TZID=Europe/Berlin:20220305T140000
LOCATION:Sportovní hala Na Lapači\, Na Lapači 247 Vsetín - Rokytnice
SUMMARY:ZLK-KKY: VK AUSTIN Vsetín B-TJ Bojkovice
END:VEVENT
END:VCALENDAR
