BEGIN:VCALENDAR
VERSION:2.0
PRODID:-//TJ Jiskra Nový Bor "B"75870//NONSGML kigkonsult.se iCalcreator 2.41.80//
CALSCALE:GREGORIAN
UID:31613962-6264-4839-b265-616237623030
BEGIN:VEVENT
UID:61626135-3930-4032-a238-656261306538
DTSTAMP:20260423T162028Z
DESCRIPTION:1/1 TJ Jiskra Nový Bor 'B' - SK Ještědská Liberec 0:2 (-8\,-17)
DTSTART;TZID=Europe/Berlin:20210912T090000
DTEND;TZID=Europe/Berlin:20210912T110000
LOCATION:Sportovní hala Františka Arnošta Nový Bor\, U hřiště 1391 Nový Bor
SUMMARY:LIB-ZKY: TJ Jiskra Nový Bor 'B'-SK Ještědská Liberec
END:VEVENT
BEGIN:VEVENT
UID:64666132-3264-4663-a336-313334653731
DTSTAMP:20260423T162028Z
DESCRIPTION:1/11 TJ Jiskra Nový Bor 'B' - TJ Sokol Mnichovo Hradiště 0:2 (-
 6\,-21)
DTSTART;TZID=Europe/Berlin:20210912T120000
DTEND;TZID=Europe/Berlin:20210912T140000
LOCATION:Sportovní hala Františka Arnošta Nový Bor\, U hřiště 1391 Nový Bor
SUMMARY:LIB-ZKY: TJ Jiskra Nový Bor 'B'-TJ Sokol Mnichovo Hradiště
END:VEVENT
BEGIN:VEVENT
UID:35386332-6561-4633-b036-633464663339
DTSTAMP:20260423T162028Z
DESCRIPTION:1/14 TJ Jiskra Nový Bor 'B' - TJ Bižuterie 'B' 0:2 (-21\,-17)
DTSTART;TZID=Europe/Berlin:20210912T130000
DTEND;TZID=Europe/Berlin:20210912T150000
LOCATION:Sportovní hala Františka Arnošta Nový Bor\, U hřiště 1391 Nový Bor
SUMMARY:LIB-ZKY: TJ Jiskra Nový Bor 'B'-TJ Bižuterie 'B'
END:VEVENT
BEGIN:VEVENT
UID:35333564-6639-4335-b639-353461613538
DTSTAMP:20260423T162028Z
DESCRIPTION:2/20 TJ Jiskra Nový Bor 'B' - TJ  Bižuterie 0:2 (-8\,-9)
DTSTART;TZID=Europe/Berlin:20211003T110000
DTEND;TZID=Europe/Berlin:20211003T130000
LOCATION:Sportovní hala Františka Arnošta Nový Bor\, U hřiště 1391 Nový Bor
SUMMARY:LIB-ZKY: TJ Jiskra Nový Bor 'B'-TJ  Bižuterie
END:VEVENT
BEGIN:VEVENT
UID:30346361-3762-4434-b066-303831346466
DTSTAMP:20260423T162028Z
DESCRIPTION:3/40 TJ Jiskra Nový Bor 'B' - TJ Slovan Varnsdorf 1:2 (-17\,22\
 ,-7)
DTSTART;TZID=Europe/Berlin:20211107T140000
DTEND;TZID=Europe/Berlin:20211107T160000
LOCATION:Sportovní hala Františka Arnošta Nový Bor\, U hřiště 1391 Nový Bor
SUMMARY:LIB-ZKY: TJ Jiskra Nový Bor 'B'-TJ Slovan Varnsdorf
END:VEVENT
BEGIN:VEVENT
UID:38663162-3337-4162-a466-643632346662
DTSTAMP:20260423T162028Z
DESCRIPTION:4/42 TJ Jiskra Nový Bor 'B' - DUKLA Liberec 0:2 (-9\,-9)
DTSTART;TZID=Europe/Berlin:20211205T090000
DTEND;TZID=Europe/Berlin:20211205T110000
LOCATION:Sportovní hala Františka Arnošta Nový Bor\, U hřiště 1391 Nový Bor
SUMMARY:LIB-ZKY: TJ Jiskra Nový Bor 'B'-DUKLA Liberec
END:VEVENT
BEGIN:VEVENT
UID:64353835-3138-4236-b230-303031323164
DTSTAMP:20260423T162028Z
DESCRIPTION:4/45 TJ Jiskra Nový Bor 'B' - TJ Turnov 'B' 2:0 (20\,21)
DTSTART;TZID=Europe/Berlin:20211205T100000
DTEND;TZID=Europe/Berlin:20211205T120000
LOCATION:Sportovní hala Františka Arnošta Nový Bor\, U hřiště 1391 Nový Bor
SUMMARY:LIB-ZKY: TJ Jiskra Nový Bor 'B'-TJ Turnov 'B'
END:VEVENT
BEGIN:VEVENT
UID:66306131-6261-4833-a366-306566326561
DTSTAMP:20260423T162028Z
DESCRIPTION:5/57 TJ Jiskra Nový Bor 'B' - Turnov 0:2 (-7\,-14)
DTSTART;TZID=Europe/Berlin:20220109T100000
DTEND;TZID=Europe/Berlin:20220109T120000
LOCATION:Sportovní hala Františka Arnošta Nový Bor\, U hřiště 1391 Nový Bor
SUMMARY:LIB-ZKY: TJ Jiskra Nový Bor 'B'-Turnov
END:VEVENT
BEGIN:VEVENT
UID:30633235-3239-4237-b364-666333616137
DTSTAMP:20260423T162028Z
DESCRIPTION:7/81 TJ Jiskra Nový Bor 'B' - Vrtule Frýdlant 0:2 (-22\,-20)
DTSTART;TZID=Europe/Berlin:20220206T120000
DTEND;TZID=Europe/Berlin:20220206T140000
LOCATION:Sportovní hala Františka Arnošta Nový Bor\, U hřiště 1391 Nový Bor
SUMMARY:LIB-ZKY: TJ Jiskra Nový Bor 'B'-Vrtule Frýdlant
END:VEVENT
BEGIN:VEVENT
UID:39306335-6565-4336-b161-396235383734
DTSTAMP:20260423T162028Z
DESCRIPTION:7/93 TJ Jiskra Nový Bor 'B' - Nový Bor 0:2 (-13\,-13)
DTSTART;TZID=Europe/Berlin:20220306T130000
DTEND;TZID=Europe/Berlin:20220306T150000
LOCATION:Sportovní hala Františka Arnošta Nový Bor\, U hřiště 1391 Nový Bor
SUMMARY:LIB-ZKY: TJ Jiskra Nový Bor 'B'-Nový Bor
END:VEVENT
BEGIN:VEVENT
UID:39326464-3831-4035-a233-623035616638
DTSTAMP:20260423T162028Z
DESCRIPTION:3/32 Nový Bor - TJ Jiskra Nový Bor 'B' 2:0 (7\,10)
DTSTART;TZID=Europe/Berlin:20211107T100000
DTEND;TZID=Europe/Berlin:20211107T120000
LOCATION:Sportovní hala Františka Arnošta Nový Bor\, U hřiště 1391 Nový Bor
SUMMARY:LIB-ZKY: Nový Bor-TJ Jiskra Nový Bor 'B'
END:VEVENT
BEGIN:VEVENT
UID:31353035-6435-4362-b937-653931663438
DTSTAMP:20260423T162028Z
DESCRIPTION:3/38 Vrtule Frýdlant - TJ Jiskra Nový Bor 'B' 2:0 (14\,23)
DTSTART;TZID=Europe/Berlin:20211107T130000
DTEND;TZID=Europe/Berlin:20211107T150000
LOCATION:Střední škola hospodářská a lesnická \, Bělíkova 1387 Frýdlant
SUMMARY:LIB-ZKY: Vrtule Frýdlant-TJ Jiskra Nový Bor 'B'
END:VEVENT
BEGIN:VEVENT
UID:63616266-3430-4333-a634-626336623962
DTSTAMP:20260423T162028Z
DESCRIPTION:4/47 TJ Slovan Varnsdorf - TJ Jiskra Nový Bor 'B' 2:0 (14\,13)
DTSTART;TZID=Europe/Berlin:20211205T110000
DTEND;TZID=Europe/Berlin:20211205T130000
LOCATION:Sportovní hala Varnsdorf\, Západní 2984 Varnsdorf
SUMMARY:LIB-ZKY: TJ Slovan Varnsdorf-TJ Jiskra Nový Bor 'B'
END:VEVENT
BEGIN:VEVENT
UID:64333865-6361-4334-b162-363136323535
DTSTAMP:20260423T162028Z
DESCRIPTION:5/61 SK Ještědská Liberec - TJ Jiskra Nový Bor 'B' 2:0 (17\,13)
DTSTART;TZID=Europe/Berlin:20220109T120000
DTEND;TZID=Europe/Berlin:20220109T140000
LOCATION:ZŠ Ještědská\, Ještědská 354 Liberec - Liberec VIII-Dolní Hanychov
SUMMARY:LIB-ZKY: SK Ještědská Liberec-TJ Jiskra Nový Bor 'B'
END:VEVENT
BEGIN:VEVENT
UID:36393239-6564-4163-a433-343666363034
DTSTAMP:20260423T162028Z
DESCRIPTION:5/66 TJ Bižuterie 'B' - TJ Jiskra Nový Bor 'B' 2:1 (15\,-15\,13
 )
DTSTART;TZID=Europe/Berlin:20220109T130000
DTEND;TZID=Europe/Berlin:20220109T150000
LOCATION:Městská sportovní hala\, U Přehrady 4747 Jablonec nad Nisou
SUMMARY:LIB-ZKY: TJ Bižuterie 'B'-TJ Jiskra Nový Bor 'B'
END:VEVENT
BEGIN:VEVENT
UID:32383961-3866-4061-b632-303739396538
DTSTAMP:20260423T162028Z
DESCRIPTION:6/77 TJ  Bižuterie - TJ Jiskra Nový Bor 'B' 2:0 (13\,5)
DTSTART;TZID=Europe/Berlin:20220206T100000
DTEND;TZID=Europe/Berlin:20220206T120000
LOCATION:Městská sportovní hala\, U Přehrady 4747 Jablonec nad Nisou
SUMMARY:LIB-ZKY: TJ  Bižuterie-TJ Jiskra Nový Bor 'B'
END:VEVENT
BEGIN:VEVENT
UID:64636336-3335-4462-b562-646666613333
DTSTAMP:20260423T162028Z
DESCRIPTION:7/90 TJ Sokol Mnichovo Hradiště - TJ Jiskra Nový Bor 'B' 2:0 (1
 1\,15)
DTSTART;TZID=Europe/Berlin:20220206T110000
DTEND;TZID=Europe/Berlin:20220206T130000
LOCATION:Sokolovna\, Víta Nejedlého 596 Mnichovo Hradiště
SUMMARY:LIB-ZKY: TJ Sokol Mnichovo Hradiště-TJ Jiskra Nový Bor 'B'
END:VEVENT
BEGIN:VEVENT
UID:34636438-6436-4438-b231-633363313061
DTSTAMP:20260423T162028Z
DESCRIPTION:8/97 Turnov - TJ Jiskra Nový Bor 'B' 2:0 (7\,4)
DTSTART;TZID=Europe/Berlin:20220403T090000
DTEND;TZID=Europe/Berlin:20220403T110000
LOCATION:TJ Turnov\, Skálova 207 Turnov
SUMMARY:LIB-ZKY: Turnov-TJ Jiskra Nový Bor 'B'
END:VEVENT
BEGIN:VEVENT
UID:31373434-3432-4936-b935-653634336566
DTSTAMP:20260423T162028Z
DESCRIPTION:8/99 TJ Turnov 'B' - TJ Jiskra Nový Bor 'B' 0:2 (-21\,-13)
DTSTART;TZID=Europe/Berlin:20220403T100000
DTEND;TZID=Europe/Berlin:20220403T120000
LOCATION:TJ Turnov\, Skálova 207 Turnov
SUMMARY:LIB-ZKY: TJ Turnov 'B'-TJ Jiskra Nový Bor 'B'
END:VEVENT
BEGIN:VEVENT
UID:33666565-3764-4363-b233-393235633066
DTSTAMP:20260423T162028Z
DESCRIPTION:8/110 DUKLA Liberec - TJ Jiskra Nový Bor 'B' 2:0 (23\,15)
DTSTART;TZID=Europe/Berlin:20220403T130000
DTEND;TZID=Europe/Berlin:20220403T150000
LOCATION:Dukla Liberec\, Jeronýmova 558 Liberec - Liberec VII-Horní Růžodol
SUMMARY:LIB-ZKY: DUKLA Liberec-TJ Jiskra Nový Bor 'B'
END:VEVENT
BEGIN:VEVENT
UID:38663537-6235-4266-b039-326231303562
DTSTAMP:20260423T162028Z
DESCRIPTION:1/1 TJ Jiskra Nový Bor 'B' - SK Ještědská Liberec 0:2 (-8\,-17)
DTSTART;TZID=Europe/Berlin:20210912T090000
DTEND;TZID=Europe/Berlin:20210912T110000
LOCATION:Sportovní hala Františka Arnošta Nový Bor\, U hřiště 1391 Nový Bor
SUMMARY:LIB-ZKY-1: TJ Jiskra Nový Bor 'B'-SK Ještědská Liberec
END:VEVENT
BEGIN:VEVENT
UID:66636634-3163-4731-b463-396238623364
DTSTAMP:20260423T162028Z
DESCRIPTION:2/9 TJ Jiskra Nový Bor 'B' - TJ Sokol Mnichovo Hradiště 0:2 (-6
 \,-21)
DTSTART;TZID=Europe/Berlin:20210912T090000
DTEND;TZID=Europe/Berlin:20210912T110000
LOCATION:Sportovní hala Františka Arnošta Nový Bor\, U hřiště 1391 Nový Bor
SUMMARY:LIB-ZKY-1: TJ Jiskra Nový Bor 'B'-TJ Sokol Mnichovo Hradiště
END:VEVENT
BEGIN:VEVENT
UID:35656632-3639-4066-b263-613764356236
DTSTAMP:20260423T162028Z
DESCRIPTION:2/10 TJ Jiskra Nový Bor 'B' - TJ Bižuterie 'B' 0:2 (-21\,-17)
DTSTART;TZID=Europe/Berlin:20210912T090000
DTEND;TZID=Europe/Berlin:20210912T110000
LOCATION:Sportovní hala Františka Arnošta Nový Bor\, U hřiště 1391 Nový Bor
SUMMARY:LIB-ZKY-1: TJ Jiskra Nový Bor 'B'-TJ Bižuterie 'B'
END:VEVENT
BEGIN:VEVENT
UID:37343731-3662-4031-b235-386461303336
DTSTAMP:20260423T162028Z
DESCRIPTION:1/3 TJ Jiskra Nový Bor 'B' - TJ  Bižuterie 0:2 (-8\,-9)
DTSTART;TZID=Europe/Berlin:20211003T090000
DTEND;TZID=Europe/Berlin:20211003T110000
LOCATION:Sportovní hala Františka Arnošta Nový Bor\, U hřiště 1391 Nový Bor
SUMMARY:LIB-ZKY-2: TJ Jiskra Nový Bor 'B'-TJ  Bižuterie
END:VEVENT
BEGIN:VEVENT
UID:34663964-3836-4366-a366-353566636632
DTSTAMP:20260423T162028Z
DESCRIPTION:2/9 Vrtule Frýdlant - TJ Jiskra Nový Bor 'B' 2:0 (14\,23)
DTSTART;TZID=Europe/Berlin:20211107T100000
DTEND;TZID=Europe/Berlin:20211107T120000
LOCATION:Střední škola hospodářská a lesnická \, Bělíkova 1387 Frýdlant
SUMMARY:LIB-ZKY-3: Vrtule Frýdlant-TJ Jiskra Nový Bor 'B'
END:VEVENT
BEGIN:VEVENT
UID:30333966-6665-4239-b833-363366653463
DTSTAMP:20260423T162028Z
DESCRIPTION:3/11 Nový Bor - TJ Jiskra Nový Bor 'B' 2:0 (7\,10)
DTSTART;TZID=Europe/Berlin:20211107T110000
DTEND;TZID=Europe/Berlin:20211107T130000
LOCATION:Sportovní hala Františka Arnošta Nový Bor\, U hřiště 1391 Nový Bor
SUMMARY:LIB-ZKY-3: Nový Bor-TJ Jiskra Nový Bor 'B'
END:VEVENT
BEGIN:VEVENT
UID:65346332-3062-4862-b364-636332383864
DTSTAMP:20260423T162028Z
DESCRIPTION:3/12 TJ Slovan Varnsdorf - TJ Jiskra Nový Bor 'B' 2:1 (17\,-22\
 ,7)
DTSTART;TZID=Europe/Berlin:20211107T110000
DTEND;TZID=Europe/Berlin:20211107T130000
LOCATION:Sportovní hala Varnsdorf\, Západní 2984 Varnsdorf
SUMMARY:LIB-ZKY-3: TJ Slovan Varnsdorf-TJ Jiskra Nový Bor 'B'
END:VEVENT
BEGIN:VEVENT
UID:66306562-3766-4130-a432-653234376538
DTSTAMP:20260423T162028Z
DESCRIPTION:4/42 TJ Jiskra Nový Bor 'B' - DUKLA Liberec 0:2 (-9\,-9)
DTSTART;TZID=Europe/Berlin:20211205T090000
DTEND;TZID=Europe/Berlin:20211205T110000
LOCATION:Sportovní hala Františka Arnošta Nový Bor\, U hřiště 1391 Nový Bor
SUMMARY:LIB-ZKY-4: TJ Jiskra Nový Bor 'B'-DUKLA Liberec
END:VEVENT
BEGIN:VEVENT
UID:38646232-3363-4031-b839-623533323332
DTSTAMP:20260423T162028Z
DESCRIPTION:4/45 TJ Jiskra Nový Bor 'B' - TJ Turnov 'B' 2:0 (20\,21)
DTSTART;TZID=Europe/Berlin:20211205T100000
DTEND;TZID=Europe/Berlin:20211205T120000
LOCATION:Sportovní hala Františka Arnošta Nový Bor\, U hřiště 1391 Nový Bor
SUMMARY:LIB-ZKY-4: TJ Jiskra Nový Bor 'B'-TJ Turnov 'B'
END:VEVENT
BEGIN:VEVENT
UID:38353562-3632-4439-b135-363535376430
DTSTAMP:20260423T162028Z
DESCRIPTION:4/47 TJ Slovan Varnsdorf - TJ Jiskra Nový Bor 'B' 2:0 (14\,13)
DTSTART;TZID=Europe/Berlin:20211205T110000
DTEND;TZID=Europe/Berlin:20211205T130000
LOCATION:Sportovní hala Varnsdorf\, Západní 2984 Varnsdorf
SUMMARY:LIB-ZKY-4: TJ Slovan Varnsdorf-TJ Jiskra Nový Bor 'B'
END:VEVENT
BEGIN:VEVENT
UID:38306565-3861-4934-a431-646232376365
DTSTAMP:20260423T162028Z
DESCRIPTION:5/57 TJ Jiskra Nový Bor 'B' - Turnov 0:2 (-7\,-14)
DTSTART;TZID=Europe/Berlin:20220109T100000
DTEND;TZID=Europe/Berlin:20220109T120000
LOCATION:Sportovní hala Františka Arnošta Nový Bor\, U hřiště 1391 Nový Bor
SUMMARY:LIB-ZKY-5: TJ Jiskra Nový Bor 'B'-Turnov
END:VEVENT
BEGIN:VEVENT
UID:36353562-6337-4661-a132-646336303161
DTSTAMP:20260423T162028Z
DESCRIPTION:5/61 SK Ještědská Liberec - TJ Jiskra Nový Bor 'B' 2:0 (17\,13)
DTSTART;TZID=Europe/Berlin:20220109T120000
DTEND;TZID=Europe/Berlin:20220109T140000
LOCATION:ZŠ Ještědská\, Ještědská 354 Liberec - Liberec VIII-Dolní Hanychov
SUMMARY:LIB-ZKY-5: SK Ještědská Liberec-TJ Jiskra Nový Bor 'B'
END:VEVENT
BEGIN:VEVENT
UID:39386162-6136-4963-b531-343961646565
DTSTAMP:20260423T162029Z
DESCRIPTION:5/66 TJ Bižuterie 'B' - TJ Jiskra Nový Bor 'B' 2:1 (15\,-15\,13
 )
DTSTART;TZID=Europe/Berlin:20220109T130000
DTEND;TZID=Europe/Berlin:20220109T150000
LOCATION:Městská sportovní hala\, U Přehrady 4747 Jablonec nad Nisou
SUMMARY:LIB-ZKY-5: TJ Bižuterie 'B'-TJ Jiskra Nový Bor 'B'
END:VEVENT
BEGIN:VEVENT
UID:30393561-3564-4661-b333-313966633334
DTSTAMP:20260423T162029Z
DESCRIPTION:2/4 TJ Jiskra Nový Bor 'B' - TJ  Bižuterie 0:2 (-13\,-5)
DTSTART;TZID=Europe/Berlin:20220206T100000
DTEND;TZID=Europe/Berlin:20220206T120000
LOCATION:Sportovní hala Františka Arnošta Nový Bor\, U hřiště 1391 Nový Bor
SUMMARY:LIB-ZKY-6: TJ Jiskra Nový Bor 'B'-TJ  Bižuterie
END:VEVENT
BEGIN:VEVENT
UID:62366433-3235-4336-a466-356561373463
DTSTAMP:20260423T162029Z
DESCRIPTION:3/5 TJ Jiskra Nový Bor 'B' - TJ Sokol Mnichovo Hradiště 0:2 (-1
 1\,-15)
DTSTART;TZID=Europe/Berlin:20220206T110000
DTEND;TZID=Europe/Berlin:20220206T130000
LOCATION:Sportovní hala Františka Arnošta Nový Bor\, U hřiště 1391 Nový Bor
SUMMARY:LIB-ZKY-6: TJ Jiskra Nový Bor 'B'-TJ Sokol Mnichovo Hradiště
END:VEVENT
BEGIN:VEVENT
UID:64613530-6339-4665-a265-663563613965
DTSTAMP:20260423T162029Z
DESCRIPTION:4/8 Vrtule Frýdlant - TJ Jiskra Nový Bor 'B' 2:0 (22\,20)
DTSTART;TZID=Europe/Berlin:20220206T120000
DTEND;TZID=Europe/Berlin:20220206T140000
LOCATION:Střední škola hospodářská a lesnická \, Bělíkova 1387 Frýdlant
SUMMARY:LIB-ZKY-6: Vrtule Frýdlant-TJ Jiskra Nový Bor 'B'
END:VEVENT
BEGIN:VEVENT
UID:35666538-3364-4139-b763-633837363836
DTSTAMP:20260423T162029Z
DESCRIPTION:5/14 Nový Bor - TJ Jiskra Nový Bor 'B' 2:0 (13\,13)
DTSTART;TZID=Europe/Berlin:20220306T130000
DTEND;TZID=Europe/Berlin:20220306T150000
LOCATION:Sportovní hala Františka Arnošta Nový Bor\, U hřiště 1391 Nový Bor
SUMMARY:LIB-ZKY-7: Nový Bor-TJ Jiskra Nový Bor 'B'
END:VEVENT
BEGIN:VEVENT
UID:31653231-3037-4236-b333-316334646539
DTSTAMP:20260423T162029Z
DESCRIPTION:1/2 TJ Jiskra Nový Bor 'B' - Turnov 0:2 (-7\,-4)
DTSTART;TZID=Europe/Berlin:20220403T090000
DTEND;TZID=Europe/Berlin:20220403T110000
LOCATION:Sportovní hala Františka Arnošta Nový Bor\, U hřiště 1391 Nový Bor
SUMMARY:LIB-ZKY-8: TJ Jiskra Nový Bor 'B'-Turnov
END:VEVENT
BEGIN:VEVENT
UID:35346561-3531-4432-a662-323638383665
DTSTAMP:20260423T162029Z
DESCRIPTION:2/4 TJ Jiskra Nový Bor 'B' - TJ Turnov 'B' 2:0 (21\,13)
DTSTART;TZID=Europe/Berlin:20220403T100000
DTEND;TZID=Europe/Berlin:20220403T120000
LOCATION:Sportovní hala Františka Arnošta Nový Bor\, U hřiště 1391 Nový Bor
SUMMARY:LIB-ZKY-8: TJ Jiskra Nový Bor 'B'-TJ Turnov 'B'
END:VEVENT
BEGIN:VEVENT
UID:35386235-6537-4161-b062-393164373538
DTSTAMP:20260423T162029Z
DESCRIPTION:5/15 TJ Jiskra Nový Bor 'B' - DUKLA Liberec 0:2 (-23\,-15)
DTSTART;TZID=Europe/Berlin:20220403T130000
DTEND;TZID=Europe/Berlin:20220403T150000
LOCATION:Sportovní hala Františka Arnošta Nový Bor\, U hřiště 1391 Nový Bor
SUMMARY:LIB-ZKY-8: TJ Jiskra Nový Bor 'B'-DUKLA Liberec
END:VEVENT
END:VCALENDAR
